BEGIN:VCALENDAR
VERSION:2.0
PRODID:-//Our Redeemer Presbyterian Church - ECPv6.15.20//NONSGML v1.0//EN
CALSCALE:GREGORIAN
METHOD:PUBLISH
X-WR-CALNAME:Our Redeemer Presbyterian Church
X-ORIGINAL-URL:https://www.redeemerephrata.org
X-WR-CALDESC:Events for Our Redeemer Presbyterian Church
REFRESH-INTERVAL;VALUE=DURATION:PT1H
X-Robots-Tag:noindex
X-PUBLISHED-TTL:PT1H
BEGIN:VTIMEZONE
TZID:UTC
BEGIN:STANDARD
TZOFFSETFROM:+0000
TZOFFSETTO:+0000
TZNAME:UTC
DTSTART:20260101T000000
END:STANDARD
END:VTIMEZONE
BEGIN:VEVENT
DTSTART;TZID=UTC:20270406T090000
DTEND;TZID=UTC:20270406T110000
DTSTAMP:20260421T044818
CREATED:20240102T232309Z
LAST-MODIFIED:20241211T234731Z
UID:10002389-1807002000-1807009200@www.redeemerephrata.org
SUMMARY:Sit n' Stitch
DESCRIPTION:Come sit and stitch with us on Tuesdays from 9-11am.  More info? Talk to Nancy Wenke.
URL:https://www.redeemerephrata.org/event/quilters-group/2027-04-06/
LOCATION:Our Redeemer Presbyterian Church\, 172 Ivy Street SE\, Ephrata\, WA\, 98823\, United States
CATEGORIES:Fellowship
ATTACH;FMTTYPE=image/jpeg:https://www.redeemerephrata.org/wp-content/uploads/2024/01/Sit-n-Stitch.jpg
END:VEVENT
BEGIN:VEVENT
DTSTART;TZID=UTC:20270413T090000
DTEND;TZID=UTC:20270413T110000
DTSTAMP:20260421T044818
CREATED:20240102T232309Z
LAST-MODIFIED:20241211T234731Z
UID:10002390-1807606800-1807614000@www.redeemerephrata.org
SUMMARY:Sit n' Stitch
DESCRIPTION:Come sit and stitch with us on Tuesdays from 9-11am.  More info? Talk to Nancy Wenke.
URL:https://www.redeemerephrata.org/event/quilters-group/2027-04-13/
LOCATION:Our Redeemer Presbyterian Church\, 172 Ivy Street SE\, Ephrata\, WA\, 98823\, United States
CATEGORIES:Fellowship
ATTACH;FMTTYPE=image/jpeg:https://www.redeemerephrata.org/wp-content/uploads/2024/01/Sit-n-Stitch.jpg
END:VEVENT
BEGIN:VEVENT
DTSTART;TZID=UTC:20270420T090000
DTEND;TZID=UTC:20270420T110000
DTSTAMP:20260421T044818
CREATED:20240102T232309Z
LAST-MODIFIED:20241211T234731Z
UID:10002391-1808211600-1808218800@www.redeemerephrata.org
SUMMARY:Sit n' Stitch
DESCRIPTION:Come sit and stitch with us on Tuesdays from 9-11am.  More info? Talk to Nancy Wenke.
URL:https://www.redeemerephrata.org/event/quilters-group/2027-04-20/
LOCATION:Our Redeemer Presbyterian Church\, 172 Ivy Street SE\, Ephrata\, WA\, 98823\, United States
CATEGORIES:Fellowship
ATTACH;FMTTYPE=image/jpeg:https://www.redeemerephrata.org/wp-content/uploads/2024/01/Sit-n-Stitch.jpg
END:VEVENT
BEGIN:VEVENT
DTSTART;TZID=UTC:20270427T090000
DTEND;TZID=UTC:20270427T110000
DTSTAMP:20260421T044818
CREATED:20240102T232309Z
LAST-MODIFIED:20241211T234731Z
UID:10002392-1808816400-1808823600@www.redeemerephrata.org
SUMMARY:Sit n' Stitch
DESCRIPTION:Come sit and stitch with us on Tuesdays from 9-11am.  More info? Talk to Nancy Wenke.
URL:https://www.redeemerephrata.org/event/quilters-group/2027-04-27/
LOCATION:Our Redeemer Presbyterian Church\, 172 Ivy Street SE\, Ephrata\, WA\, 98823\, United States
CATEGORIES:Fellowship
ATTACH;FMTTYPE=image/jpeg:https://www.redeemerephrata.org/wp-content/uploads/2024/01/Sit-n-Stitch.jpg
END:VEVENT
END:VCALENDAR