BEGIN:VCALENDAR
VERSION:2.0
PRODID:-//Our Redeemer Presbyterian Church - ECPv6.15.20//NONSGML v1.0//EN
CALSCALE:GREGORIAN
METHOD:PUBLISH
X-ORIGINAL-URL:https://www.redeemerephrata.org
X-WR-CALDESC:Events for Our Redeemer Presbyterian Church
REFRESH-INTERVAL;VALUE=DURATION:PT1H
X-Robots-Tag:noindex
X-PUBLISHED-TTL:PT1H
BEGIN:VTIMEZONE
TZID:UTC
BEGIN:STANDARD
TZOFFSETFROM:+0000
TZOFFSETTO:+0000
TZNAME:UTC
DTSTART:20270101T000000
END:STANDARD
END:VTIMEZONE
BEGIN:VEVENT
DTSTART;TZID=UTC:20280104T090000
DTEND;TZID=UTC:20280104T110000
DTSTAMP:20260421T195539
CREATED:20240102T232309Z
LAST-MODIFIED:20241211T234731Z
UID:10002428-1830589200-1830596400@www.redeemerephrata.org
SUMMARY:Sit n' Stitch
DESCRIPTION:Come sit and stitch with us on Tuesdays from 9-11am.  More info? Talk to Nancy Wenke.
URL:https://www.redeemerephrata.org/event/quilters-group/2028-01-04/
LOCATION:Our Redeemer Presbyterian Church\, 172 Ivy Street SE\, Ephrata\, WA\, 98823\, United States
CATEGORIES:Fellowship
ATTACH;FMTTYPE=image/jpeg:https://www.redeemerephrata.org/wp-content/uploads/2024/01/Sit-n-Stitch.jpg
END:VEVENT
BEGIN:VEVENT
DTSTART;TZID=UTC:20280111T090000
DTEND;TZID=UTC:20280111T110000
DTSTAMP:20260421T195539
CREATED:20240102T232309Z
LAST-MODIFIED:20241211T234731Z
UID:10002429-1831194000-1831201200@www.redeemerephrata.org
SUMMARY:Sit n' Stitch
DESCRIPTION:Come sit and stitch with us on Tuesdays from 9-11am.  More info? Talk to Nancy Wenke.
URL:https://www.redeemerephrata.org/event/quilters-group/2028-01-11/
LOCATION:Our Redeemer Presbyterian Church\, 172 Ivy Street SE\, Ephrata\, WA\, 98823\, United States
CATEGORIES:Fellowship
ATTACH;FMTTYPE=image/jpeg:https://www.redeemerephrata.org/wp-content/uploads/2024/01/Sit-n-Stitch.jpg
END:VEVENT
BEGIN:VEVENT
DTSTART;TZID=UTC:20280118T090000
DTEND;TZID=UTC:20280118T110000
DTSTAMP:20260421T195539
CREATED:20240102T232309Z
LAST-MODIFIED:20241211T234731Z
UID:10002430-1831798800-1831806000@www.redeemerephrata.org
SUMMARY:Sit n' Stitch
DESCRIPTION:Come sit and stitch with us on Tuesdays from 9-11am.  More info? Talk to Nancy Wenke.
URL:https://www.redeemerephrata.org/event/quilters-group/2028-01-18/
LOCATION:Our Redeemer Presbyterian Church\, 172 Ivy Street SE\, Ephrata\, WA\, 98823\, United States
CATEGORIES:Fellowship
ATTACH;FMTTYPE=image/jpeg:https://www.redeemerephrata.org/wp-content/uploads/2024/01/Sit-n-Stitch.jpg
END:VEVENT
BEGIN:VEVENT
DTSTART;TZID=UTC:20280125T090000
DTEND;TZID=UTC:20280125T110000
DTSTAMP:20260421T195539
CREATED:20240102T232309Z
LAST-MODIFIED:20241211T234731Z
UID:10002431-1832403600-1832410800@www.redeemerephrata.org
SUMMARY:Sit n' Stitch
DESCRIPTION:Come sit and stitch with us on Tuesdays from 9-11am.  More info? Talk to Nancy Wenke.
URL:https://www.redeemerephrata.org/event/quilters-group/2028-01-25/
LOCATION:Our Redeemer Presbyterian Church\, 172 Ivy Street SE\, Ephrata\, WA\, 98823\, United States
CATEGORIES:Fellowship
ATTACH;FMTTYPE=image/jpeg:https://www.redeemerephrata.org/wp-content/uploads/2024/01/Sit-n-Stitch.jpg
END:VEVENT
END:VCALENDAR