BEGIN:VCALENDAR
VERSION:2.0
PRODID:-//Our Redeemer Presbyterian Church - ECPv6.15.20//NONSGML v1.0//EN
CALSCALE:GREGORIAN
METHOD:PUBLISH
X-ORIGINAL-URL:https://www.redeemerephrata.org
X-WR-CALDESC:Events for Our Redeemer Presbyterian Church
REFRESH-INTERVAL;VALUE=DURATION:PT1H
X-Robots-Tag:noindex
X-PUBLISHED-TTL:PT1H
BEGIN:VTIMEZONE
TZID:UTC
BEGIN:STANDARD
TZOFFSETFROM:+0000
TZOFFSETTO:+0000
TZNAME:UTC
DTSTART:20270101T000000
END:STANDARD
END:VTIMEZONE
BEGIN:VEVENT
DTSTART;TZID=UTC:20280704T190000
DTEND;TZID=UTC:20280704T200000
DTSTAMP:20260422T041656
CREATED:20230118T010533Z
LAST-MODIFIED:20250108T221628Z
UID:10002526-1846350000-1846353600@www.redeemerephrata.org
SUMMARY:Narcotics Anonymous
DESCRIPTION:If you or a loved one are in need of support please consider attending Narcotics Anonymous weekly on Tuesdays at 7pm. 
URL:https://www.redeemerephrata.org/event/narcotics-anonymous/2028-07-04/
LOCATION:Our Redeemer Presbyterian Church\, 172 Ivy Street SE\, Ephrata\, WA\, 98823\, United States
CATEGORIES:Public Meetings
ATTACH;FMTTYPE=image/png:https://www.redeemerephrata.org/wp-content/uploads/2023/01/NA-Events.png
END:VEVENT
BEGIN:VEVENT
DTSTART;TZID=UTC:20280711T190000
DTEND;TZID=UTC:20280711T200000
DTSTAMP:20260422T041656
CREATED:20230118T010533Z
LAST-MODIFIED:20250108T221628Z
UID:10002527-1846954800-1846958400@www.redeemerephrata.org
SUMMARY:Narcotics Anonymous
DESCRIPTION:If you or a loved one are in need of support please consider attending Narcotics Anonymous weekly on Tuesdays at 7pm. 
URL:https://www.redeemerephrata.org/event/narcotics-anonymous/2028-07-11/
LOCATION:Our Redeemer Presbyterian Church\, 172 Ivy Street SE\, Ephrata\, WA\, 98823\, United States
CATEGORIES:Public Meetings
ATTACH;FMTTYPE=image/png:https://www.redeemerephrata.org/wp-content/uploads/2023/01/NA-Events.png
END:VEVENT
BEGIN:VEVENT
DTSTART;TZID=UTC:20280718T190000
DTEND;TZID=UTC:20280718T200000
DTSTAMP:20260422T041656
CREATED:20230118T010533Z
LAST-MODIFIED:20250108T221628Z
UID:10002528-1847559600-1847563200@www.redeemerephrata.org
SUMMARY:Narcotics Anonymous
DESCRIPTION:If you or a loved one are in need of support please consider attending Narcotics Anonymous weekly on Tuesdays at 7pm. 
URL:https://www.redeemerephrata.org/event/narcotics-anonymous/2028-07-18/
LOCATION:Our Redeemer Presbyterian Church\, 172 Ivy Street SE\, Ephrata\, WA\, 98823\, United States
CATEGORIES:Public Meetings
ATTACH;FMTTYPE=image/png:https://www.redeemerephrata.org/wp-content/uploads/2023/01/NA-Events.png
END:VEVENT
BEGIN:VEVENT
DTSTART;TZID=UTC:20280725T190000
DTEND;TZID=UTC:20280725T200000
DTSTAMP:20260422T041656
CREATED:20230118T010533Z
LAST-MODIFIED:20250108T221628Z
UID:10002529-1848164400-1848168000@www.redeemerephrata.org
SUMMARY:Narcotics Anonymous
DESCRIPTION:If you or a loved one are in need of support please consider attending Narcotics Anonymous weekly on Tuesdays at 7pm. 
URL:https://www.redeemerephrata.org/event/narcotics-anonymous/2028-07-25/
LOCATION:Our Redeemer Presbyterian Church\, 172 Ivy Street SE\, Ephrata\, WA\, 98823\, United States
CATEGORIES:Public Meetings
ATTACH;FMTTYPE=image/png:https://www.redeemerephrata.org/wp-content/uploads/2023/01/NA-Events.png
END:VEVENT
END:VCALENDAR