BEGIN:VCALENDAR
VERSION:2.0
PRODID:-//Our Redeemer Presbyterian Church - ECPv6.15.20//NONSGML v1.0//EN
CALSCALE:GREGORIAN
METHOD:PUBLISH
X-WR-CALNAME:Our Redeemer Presbyterian Church
X-ORIGINAL-URL:https://www.redeemerephrata.org
X-WR-CALDESC:Events for Our Redeemer Presbyterian Church
REFRESH-INTERVAL;VALUE=DURATION:PT1H
X-Robots-Tag:noindex
X-PUBLISHED-TTL:PT1H
BEGIN:VTIMEZONE
TZID:UTC
BEGIN:STANDARD
TZOFFSETFROM:+0000
TZOFFSETTO:+0000
TZNAME:UTC
DTSTART:20260101T000000
END:STANDARD
END:VTIMEZONE
BEGIN:VEVENT
DTSTART;TZID=UTC:20270413T190000
DTEND;TZID=UTC:20270413T200000
DTSTAMP:20260420T210045
CREATED:20230118T010533Z
LAST-MODIFIED:20250108T221628Z
UID:10000233-1807642800-1807646400@www.redeemerephrata.org
SUMMARY:Narcotics Anonymous
DESCRIPTION:If you or a loved one are in need of support please consider attending Narcotics Anonymous weekly on Tuesdays at 7pm. 
URL:https://www.redeemerephrata.org/event/narcotics-anonymous/2027-04-13/
LOCATION:Our Redeemer Presbyterian Church\, 172 Ivy Street SE\, Ephrata\, WA\, 98823\, United States
CATEGORIES:Public Meetings
ATTACH;FMTTYPE=image/png:https://www.redeemerephrata.org/wp-content/uploads/2023/01/NA-Events.png
END:VEVENT
BEGIN:VEVENT
DTSTART;TZID=UTC:20270420T190000
DTEND;TZID=UTC:20270420T200000
DTSTAMP:20260420T210045
CREATED:20230118T010533Z
LAST-MODIFIED:20250108T221628Z
UID:10000234-1808247600-1808251200@www.redeemerephrata.org
SUMMARY:Narcotics Anonymous
DESCRIPTION:If you or a loved one are in need of support please consider attending Narcotics Anonymous weekly on Tuesdays at 7pm. 
URL:https://www.redeemerephrata.org/event/narcotics-anonymous/2027-04-20/
LOCATION:Our Redeemer Presbyterian Church\, 172 Ivy Street SE\, Ephrata\, WA\, 98823\, United States
CATEGORIES:Public Meetings
ATTACH;FMTTYPE=image/png:https://www.redeemerephrata.org/wp-content/uploads/2023/01/NA-Events.png
END:VEVENT
BEGIN:VEVENT
DTSTART;TZID=UTC:20270427T190000
DTEND;TZID=UTC:20270427T200000
DTSTAMP:20260420T210045
CREATED:20230118T010533Z
LAST-MODIFIED:20250108T221628Z
UID:10000235-1808852400-1808856000@www.redeemerephrata.org
SUMMARY:Narcotics Anonymous
DESCRIPTION:If you or a loved one are in need of support please consider attending Narcotics Anonymous weekly on Tuesdays at 7pm. 
URL:https://www.redeemerephrata.org/event/narcotics-anonymous/2027-04-27/
LOCATION:Our Redeemer Presbyterian Church\, 172 Ivy Street SE\, Ephrata\, WA\, 98823\, United States
CATEGORIES:Public Meetings
ATTACH;FMTTYPE=image/png:https://www.redeemerephrata.org/wp-content/uploads/2023/01/NA-Events.png
END:VEVENT
BEGIN:VEVENT
DTSTART;TZID=UTC:20270504T190000
DTEND;TZID=UTC:20270504T200000
DTSTAMP:20260420T210045
CREATED:20230118T010533Z
LAST-MODIFIED:20250108T221628Z
UID:10000236-1809457200-1809460800@www.redeemerephrata.org
SUMMARY:Narcotics Anonymous
DESCRIPTION:If you or a loved one are in need of support please consider attending Narcotics Anonymous weekly on Tuesdays at 7pm. 
URL:https://www.redeemerephrata.org/event/narcotics-anonymous/2027-05-04/
LOCATION:Our Redeemer Presbyterian Church\, 172 Ivy Street SE\, Ephrata\, WA\, 98823\, United States
CATEGORIES:Public Meetings
ATTACH;FMTTYPE=image/png:https://www.redeemerephrata.org/wp-content/uploads/2023/01/NA-Events.png
END:VEVENT
BEGIN:VEVENT
DTSTART;TZID=UTC:20270511T190000
DTEND;TZID=UTC:20270511T200000
DTSTAMP:20260420T210045
CREATED:20230118T010533Z
LAST-MODIFIED:20250108T221628Z
UID:10000237-1810062000-1810065600@www.redeemerephrata.org
SUMMARY:Narcotics Anonymous
DESCRIPTION:If you or a loved one are in need of support please consider attending Narcotics Anonymous weekly on Tuesdays at 7pm. 
URL:https://www.redeemerephrata.org/event/narcotics-anonymous/2027-05-11/
LOCATION:Our Redeemer Presbyterian Church\, 172 Ivy Street SE\, Ephrata\, WA\, 98823\, United States
CATEGORIES:Public Meetings
ATTACH;FMTTYPE=image/png:https://www.redeemerephrata.org/wp-content/uploads/2023/01/NA-Events.png
END:VEVENT
BEGIN:VEVENT
DTSTART;TZID=UTC:20270518T190000
DTEND;TZID=UTC:20270518T200000
DTSTAMP:20260420T210045
CREATED:20230118T010533Z
LAST-MODIFIED:20250108T221628Z
UID:10000238-1810666800-1810670400@www.redeemerephrata.org
SUMMARY:Narcotics Anonymous
DESCRIPTION:If you or a loved one are in need of support please consider attending Narcotics Anonymous weekly on Tuesdays at 7pm. 
URL:https://www.redeemerephrata.org/event/narcotics-anonymous/2027-05-18/
LOCATION:Our Redeemer Presbyterian Church\, 172 Ivy Street SE\, Ephrata\, WA\, 98823\, United States
CATEGORIES:Public Meetings
ATTACH;FMTTYPE=image/png:https://www.redeemerephrata.org/wp-content/uploads/2023/01/NA-Events.png
END:VEVENT
BEGIN:VEVENT
DTSTART;TZID=UTC:20270525T190000
DTEND;TZID=UTC:20270525T200000
DTSTAMP:20260420T210045
CREATED:20230118T010533Z
LAST-MODIFIED:20250108T221628Z
UID:10000239-1811271600-1811275200@www.redeemerephrata.org
SUMMARY:Narcotics Anonymous
DESCRIPTION:If you or a loved one are in need of support please consider attending Narcotics Anonymous weekly on Tuesdays at 7pm. 
URL:https://www.redeemerephrata.org/event/narcotics-anonymous/2027-05-25/
LOCATION:Our Redeemer Presbyterian Church\, 172 Ivy Street SE\, Ephrata\, WA\, 98823\, United States
CATEGORIES:Public Meetings
ATTACH;FMTTYPE=image/png:https://www.redeemerephrata.org/wp-content/uploads/2023/01/NA-Events.png
END:VEVENT
BEGIN:VEVENT
DTSTART;TZID=UTC:20270601T190000
DTEND;TZID=UTC:20270601T200000
DTSTAMP:20260420T210045
CREATED:20230118T010533Z
LAST-MODIFIED:20250108T221628Z
UID:10000240-1811876400-1811880000@www.redeemerephrata.org
SUMMARY:Narcotics Anonymous
DESCRIPTION:If you or a loved one are in need of support please consider attending Narcotics Anonymous weekly on Tuesdays at 7pm. 
URL:https://www.redeemerephrata.org/event/narcotics-anonymous/2027-06-01/
LOCATION:Our Redeemer Presbyterian Church\, 172 Ivy Street SE\, Ephrata\, WA\, 98823\, United States
CATEGORIES:Public Meetings
ATTACH;FMTTYPE=image/png:https://www.redeemerephrata.org/wp-content/uploads/2023/01/NA-Events.png
END:VEVENT
BEGIN:VEVENT
DTSTART;TZID=UTC:20270608T190000
DTEND;TZID=UTC:20270608T200000
DTSTAMP:20260420T210045
CREATED:20230118T010533Z
LAST-MODIFIED:20250108T221628Z
UID:10000241-1812481200-1812484800@www.redeemerephrata.org
SUMMARY:Narcotics Anonymous
DESCRIPTION:If you or a loved one are in need of support please consider attending Narcotics Anonymous weekly on Tuesdays at 7pm. 
URL:https://www.redeemerephrata.org/event/narcotics-anonymous/2027-06-08/
LOCATION:Our Redeemer Presbyterian Church\, 172 Ivy Street SE\, Ephrata\, WA\, 98823\, United States
CATEGORIES:Public Meetings
ATTACH;FMTTYPE=image/png:https://www.redeemerephrata.org/wp-content/uploads/2023/01/NA-Events.png
END:VEVENT
BEGIN:VEVENT
DTSTART;TZID=UTC:20270615T190000
DTEND;TZID=UTC:20270615T200000
DTSTAMP:20260420T210045
CREATED:20230118T010533Z
LAST-MODIFIED:20250108T221628Z
UID:10000242-1813086000-1813089600@www.redeemerephrata.org
SUMMARY:Narcotics Anonymous
DESCRIPTION:If you or a loved one are in need of support please consider attending Narcotics Anonymous weekly on Tuesdays at 7pm. 
URL:https://www.redeemerephrata.org/event/narcotics-anonymous/2027-06-15/
LOCATION:Our Redeemer Presbyterian Church\, 172 Ivy Street SE\, Ephrata\, WA\, 98823\, United States
CATEGORIES:Public Meetings
ATTACH;FMTTYPE=image/png:https://www.redeemerephrata.org/wp-content/uploads/2023/01/NA-Events.png
END:VEVENT
BEGIN:VEVENT
DTSTART;TZID=UTC:20270622T190000
DTEND;TZID=UTC:20270622T200000
DTSTAMP:20260420T210045
CREATED:20230118T010533Z
LAST-MODIFIED:20250108T221628Z
UID:10000243-1813690800-1813694400@www.redeemerephrata.org
SUMMARY:Narcotics Anonymous
DESCRIPTION:If you or a loved one are in need of support please consider attending Narcotics Anonymous weekly on Tuesdays at 7pm. 
URL:https://www.redeemerephrata.org/event/narcotics-anonymous/2027-06-22/
LOCATION:Our Redeemer Presbyterian Church\, 172 Ivy Street SE\, Ephrata\, WA\, 98823\, United States
CATEGORIES:Public Meetings
ATTACH;FMTTYPE=image/png:https://www.redeemerephrata.org/wp-content/uploads/2023/01/NA-Events.png
END:VEVENT
BEGIN:VEVENT
DTSTART;TZID=UTC:20270629T190000
DTEND;TZID=UTC:20270629T200000
DTSTAMP:20260420T210045
CREATED:20230118T010533Z
LAST-MODIFIED:20250108T221628Z
UID:10000244-1814295600-1814299200@www.redeemerephrata.org
SUMMARY:Narcotics Anonymous
DESCRIPTION:If you or a loved one are in need of support please consider attending Narcotics Anonymous weekly on Tuesdays at 7pm. 
URL:https://www.redeemerephrata.org/event/narcotics-anonymous/2027-06-29/
LOCATION:Our Redeemer Presbyterian Church\, 172 Ivy Street SE\, Ephrata\, WA\, 98823\, United States
CATEGORIES:Public Meetings
ATTACH;FMTTYPE=image/png:https://www.redeemerephrata.org/wp-content/uploads/2023/01/NA-Events.png
END:VEVENT
BEGIN:VEVENT
DTSTART;TZID=UTC:20270706T190000
DTEND;TZID=UTC:20270706T200000
DTSTAMP:20260420T210045
CREATED:20230118T010533Z
LAST-MODIFIED:20250108T221628Z
UID:10000245-1814900400-1814904000@www.redeemerephrata.org
SUMMARY:Narcotics Anonymous
DESCRIPTION:If you or a loved one are in need of support please consider attending Narcotics Anonymous weekly on Tuesdays at 7pm. 
URL:https://www.redeemerephrata.org/event/narcotics-anonymous/2027-07-06/
LOCATION:Our Redeemer Presbyterian Church\, 172 Ivy Street SE\, Ephrata\, WA\, 98823\, United States
CATEGORIES:Public Meetings
ATTACH;FMTTYPE=image/png:https://www.redeemerephrata.org/wp-content/uploads/2023/01/NA-Events.png
END:VEVENT
BEGIN:VEVENT
DTSTART;TZID=UTC:20270713T190000
DTEND;TZID=UTC:20270713T200000
DTSTAMP:20260420T210045
CREATED:20230118T010533Z
LAST-MODIFIED:20250108T221628Z
UID:10000246-1815505200-1815508800@www.redeemerephrata.org
SUMMARY:Narcotics Anonymous
DESCRIPTION:If you or a loved one are in need of support please consider attending Narcotics Anonymous weekly on Tuesdays at 7pm. 
URL:https://www.redeemerephrata.org/event/narcotics-anonymous/2027-07-13/
LOCATION:Our Redeemer Presbyterian Church\, 172 Ivy Street SE\, Ephrata\, WA\, 98823\, United States
CATEGORIES:Public Meetings
ATTACH;FMTTYPE=image/png:https://www.redeemerephrata.org/wp-content/uploads/2023/01/NA-Events.png
END:VEVENT
BEGIN:VEVENT
DTSTART;TZID=UTC:20270720T190000
DTEND;TZID=UTC:20270720T200000
DTSTAMP:20260420T210045
CREATED:20230118T010533Z
LAST-MODIFIED:20250108T221628Z
UID:10000247-1816110000-1816113600@www.redeemerephrata.org
SUMMARY:Narcotics Anonymous
DESCRIPTION:If you or a loved one are in need of support please consider attending Narcotics Anonymous weekly on Tuesdays at 7pm. 
URL:https://www.redeemerephrata.org/event/narcotics-anonymous/2027-07-20/
LOCATION:Our Redeemer Presbyterian Church\, 172 Ivy Street SE\, Ephrata\, WA\, 98823\, United States
CATEGORIES:Public Meetings
ATTACH;FMTTYPE=image/png:https://www.redeemerephrata.org/wp-content/uploads/2023/01/NA-Events.png
END:VEVENT
BEGIN:VEVENT
DTSTART;TZID=UTC:20270727T190000
DTEND;TZID=UTC:20270727T200000
DTSTAMP:20260420T210045
CREATED:20230118T010533Z
LAST-MODIFIED:20250108T221628Z
UID:10000248-1816714800-1816718400@www.redeemerephrata.org
SUMMARY:Narcotics Anonymous
DESCRIPTION:If you or a loved one are in need of support please consider attending Narcotics Anonymous weekly on Tuesdays at 7pm. 
URL:https://www.redeemerephrata.org/event/narcotics-anonymous/2027-07-27/
LOCATION:Our Redeemer Presbyterian Church\, 172 Ivy Street SE\, Ephrata\, WA\, 98823\, United States
CATEGORIES:Public Meetings
ATTACH;FMTTYPE=image/png:https://www.redeemerephrata.org/wp-content/uploads/2023/01/NA-Events.png
END:VEVENT
BEGIN:VEVENT
DTSTART;TZID=UTC:20270803T190000
DTEND;TZID=UTC:20270803T200000
DTSTAMP:20260420T210045
CREATED:20230118T010533Z
LAST-MODIFIED:20250108T221628Z
UID:10000249-1817319600-1817323200@www.redeemerephrata.org
SUMMARY:Narcotics Anonymous
DESCRIPTION:If you or a loved one are in need of support please consider attending Narcotics Anonymous weekly on Tuesdays at 7pm. 
URL:https://www.redeemerephrata.org/event/narcotics-anonymous/2027-08-03/
LOCATION:Our Redeemer Presbyterian Church\, 172 Ivy Street SE\, Ephrata\, WA\, 98823\, United States
CATEGORIES:Public Meetings
ATTACH;FMTTYPE=image/png:https://www.redeemerephrata.org/wp-content/uploads/2023/01/NA-Events.png
END:VEVENT
BEGIN:VEVENT
DTSTART;TZID=UTC:20270810T190000
DTEND;TZID=UTC:20270810T200000
DTSTAMP:20260420T210045
CREATED:20230118T010533Z
LAST-MODIFIED:20250108T221628Z
UID:10000250-1817924400-1817928000@www.redeemerephrata.org
SUMMARY:Narcotics Anonymous
DESCRIPTION:If you or a loved one are in need of support please consider attending Narcotics Anonymous weekly on Tuesdays at 7pm. 
URL:https://www.redeemerephrata.org/event/narcotics-anonymous/2027-08-10/
LOCATION:Our Redeemer Presbyterian Church\, 172 Ivy Street SE\, Ephrata\, WA\, 98823\, United States
CATEGORIES:Public Meetings
ATTACH;FMTTYPE=image/png:https://www.redeemerephrata.org/wp-content/uploads/2023/01/NA-Events.png
END:VEVENT
BEGIN:VEVENT
DTSTART;TZID=UTC:20270817T190000
DTEND;TZID=UTC:20270817T200000
DTSTAMP:20260420T210045
CREATED:20230118T010533Z
LAST-MODIFIED:20250108T221628Z
UID:10000251-1818529200-1818532800@www.redeemerephrata.org
SUMMARY:Narcotics Anonymous
DESCRIPTION:If you or a loved one are in need of support please consider attending Narcotics Anonymous weekly on Tuesdays at 7pm. 
URL:https://www.redeemerephrata.org/event/narcotics-anonymous/2027-08-17/
LOCATION:Our Redeemer Presbyterian Church\, 172 Ivy Street SE\, Ephrata\, WA\, 98823\, United States
CATEGORIES:Public Meetings
ATTACH;FMTTYPE=image/png:https://www.redeemerephrata.org/wp-content/uploads/2023/01/NA-Events.png
END:VEVENT
BEGIN:VEVENT
DTSTART;TZID=UTC:20270824T190000
DTEND;TZID=UTC:20270824T200000
DTSTAMP:20260420T210045
CREATED:20230118T010533Z
LAST-MODIFIED:20250108T221628Z
UID:10000252-1819134000-1819137600@www.redeemerephrata.org
SUMMARY:Narcotics Anonymous
DESCRIPTION:If you or a loved one are in need of support please consider attending Narcotics Anonymous weekly on Tuesdays at 7pm. 
URL:https://www.redeemerephrata.org/event/narcotics-anonymous/2027-08-24/
LOCATION:Our Redeemer Presbyterian Church\, 172 Ivy Street SE\, Ephrata\, WA\, 98823\, United States
CATEGORIES:Public Meetings
ATTACH;FMTTYPE=image/png:https://www.redeemerephrata.org/wp-content/uploads/2023/01/NA-Events.png
END:VEVENT
BEGIN:VEVENT
DTSTART;TZID=UTC:20270831T190000
DTEND;TZID=UTC:20270831T200000
DTSTAMP:20260420T210045
CREATED:20230118T010533Z
LAST-MODIFIED:20250108T221628Z
UID:10000253-1819738800-1819742400@www.redeemerephrata.org
SUMMARY:Narcotics Anonymous
DESCRIPTION:If you or a loved one are in need of support please consider attending Narcotics Anonymous weekly on Tuesdays at 7pm. 
URL:https://www.redeemerephrata.org/event/narcotics-anonymous/2027-08-31/
LOCATION:Our Redeemer Presbyterian Church\, 172 Ivy Street SE\, Ephrata\, WA\, 98823\, United States
CATEGORIES:Public Meetings
ATTACH;FMTTYPE=image/png:https://www.redeemerephrata.org/wp-content/uploads/2023/01/NA-Events.png
END:VEVENT
BEGIN:VEVENT
DTSTART;TZID=UTC:20270907T190000
DTEND;TZID=UTC:20270907T200000
DTSTAMP:20260420T210045
CREATED:20230118T010533Z
LAST-MODIFIED:20250108T221628Z
UID:10000254-1820343600-1820347200@www.redeemerephrata.org
SUMMARY:Narcotics Anonymous
DESCRIPTION:If you or a loved one are in need of support please consider attending Narcotics Anonymous weekly on Tuesdays at 7pm. 
URL:https://www.redeemerephrata.org/event/narcotics-anonymous/2027-09-07/
LOCATION:Our Redeemer Presbyterian Church\, 172 Ivy Street SE\, Ephrata\, WA\, 98823\, United States
CATEGORIES:Public Meetings
ATTACH;FMTTYPE=image/png:https://www.redeemerephrata.org/wp-content/uploads/2023/01/NA-Events.png
END:VEVENT
BEGIN:VEVENT
DTSTART;TZID=UTC:20270914T190000
DTEND;TZID=UTC:20270914T200000
DTSTAMP:20260420T210045
CREATED:20230118T010533Z
LAST-MODIFIED:20250108T221628Z
UID:10000255-1820948400-1820952000@www.redeemerephrata.org
SUMMARY:Narcotics Anonymous
DESCRIPTION:If you or a loved one are in need of support please consider attending Narcotics Anonymous weekly on Tuesdays at 7pm. 
URL:https://www.redeemerephrata.org/event/narcotics-anonymous/2027-09-14/
LOCATION:Our Redeemer Presbyterian Church\, 172 Ivy Street SE\, Ephrata\, WA\, 98823\, United States
CATEGORIES:Public Meetings
ATTACH;FMTTYPE=image/png:https://www.redeemerephrata.org/wp-content/uploads/2023/01/NA-Events.png
END:VEVENT
BEGIN:VEVENT
DTSTART;TZID=UTC:20270921T190000
DTEND;TZID=UTC:20270921T200000
DTSTAMP:20260420T210045
CREATED:20230118T010533Z
LAST-MODIFIED:20250108T221628Z
UID:10000256-1821553200-1821556800@www.redeemerephrata.org
SUMMARY:Narcotics Anonymous
DESCRIPTION:If you or a loved one are in need of support please consider attending Narcotics Anonymous weekly on Tuesdays at 7pm. 
URL:https://www.redeemerephrata.org/event/narcotics-anonymous/2027-09-21/
LOCATION:Our Redeemer Presbyterian Church\, 172 Ivy Street SE\, Ephrata\, WA\, 98823\, United States
CATEGORIES:Public Meetings
ATTACH;FMTTYPE=image/png:https://www.redeemerephrata.org/wp-content/uploads/2023/01/NA-Events.png
END:VEVENT
BEGIN:VEVENT
DTSTART;TZID=UTC:20270928T190000
DTEND;TZID=UTC:20270928T200000
DTSTAMP:20260420T210045
CREATED:20230118T010533Z
LAST-MODIFIED:20250108T221628Z
UID:10000257-1822158000-1822161600@www.redeemerephrata.org
SUMMARY:Narcotics Anonymous
DESCRIPTION:If you or a loved one are in need of support please consider attending Narcotics Anonymous weekly on Tuesdays at 7pm. 
URL:https://www.redeemerephrata.org/event/narcotics-anonymous/2027-09-28/
LOCATION:Our Redeemer Presbyterian Church\, 172 Ivy Street SE\, Ephrata\, WA\, 98823\, United States
CATEGORIES:Public Meetings
ATTACH;FMTTYPE=image/png:https://www.redeemerephrata.org/wp-content/uploads/2023/01/NA-Events.png
END:VEVENT
BEGIN:VEVENT
DTSTART;TZID=UTC:20271005T190000
DTEND;TZID=UTC:20271005T200000
DTSTAMP:20260420T210045
CREATED:20230118T010533Z
LAST-MODIFIED:20250108T221628Z
UID:10000258-1822762800-1822766400@www.redeemerephrata.org
SUMMARY:Narcotics Anonymous
DESCRIPTION:If you or a loved one are in need of support please consider attending Narcotics Anonymous weekly on Tuesdays at 7pm. 
URL:https://www.redeemerephrata.org/event/narcotics-anonymous/2027-10-05/
LOCATION:Our Redeemer Presbyterian Church\, 172 Ivy Street SE\, Ephrata\, WA\, 98823\, United States
CATEGORIES:Public Meetings
ATTACH;FMTTYPE=image/png:https://www.redeemerephrata.org/wp-content/uploads/2023/01/NA-Events.png
END:VEVENT
BEGIN:VEVENT
DTSTART;TZID=UTC:20271012T190000
DTEND;TZID=UTC:20271012T200000
DTSTAMP:20260420T210045
CREATED:20230118T010533Z
LAST-MODIFIED:20250108T221628Z
UID:10000259-1823367600-1823371200@www.redeemerephrata.org
SUMMARY:Narcotics Anonymous
DESCRIPTION:If you or a loved one are in need of support please consider attending Narcotics Anonymous weekly on Tuesdays at 7pm. 
URL:https://www.redeemerephrata.org/event/narcotics-anonymous/2027-10-12/
LOCATION:Our Redeemer Presbyterian Church\, 172 Ivy Street SE\, Ephrata\, WA\, 98823\, United States
CATEGORIES:Public Meetings
ATTACH;FMTTYPE=image/png:https://www.redeemerephrata.org/wp-content/uploads/2023/01/NA-Events.png
END:VEVENT
BEGIN:VEVENT
DTSTART;TZID=UTC:20271019T190000
DTEND;TZID=UTC:20271019T200000
DTSTAMP:20260420T210045
CREATED:20230118T010533Z
LAST-MODIFIED:20250108T221628Z
UID:10000260-1823972400-1823976000@www.redeemerephrata.org
SUMMARY:Narcotics Anonymous
DESCRIPTION:If you or a loved one are in need of support please consider attending Narcotics Anonymous weekly on Tuesdays at 7pm. 
URL:https://www.redeemerephrata.org/event/narcotics-anonymous/2027-10-19/
LOCATION:Our Redeemer Presbyterian Church\, 172 Ivy Street SE\, Ephrata\, WA\, 98823\, United States
CATEGORIES:Public Meetings
ATTACH;FMTTYPE=image/png:https://www.redeemerephrata.org/wp-content/uploads/2023/01/NA-Events.png
END:VEVENT
BEGIN:VEVENT
DTSTART;TZID=UTC:20271026T190000
DTEND;TZID=UTC:20271026T200000
DTSTAMP:20260420T210045
CREATED:20230118T010533Z
LAST-MODIFIED:20250108T221628Z
UID:10000261-1824577200-1824580800@www.redeemerephrata.org
SUMMARY:Narcotics Anonymous
DESCRIPTION:If you or a loved one are in need of support please consider attending Narcotics Anonymous weekly on Tuesdays at 7pm. 
URL:https://www.redeemerephrata.org/event/narcotics-anonymous/2027-10-26/
LOCATION:Our Redeemer Presbyterian Church\, 172 Ivy Street SE\, Ephrata\, WA\, 98823\, United States
CATEGORIES:Public Meetings
ATTACH;FMTTYPE=image/png:https://www.redeemerephrata.org/wp-content/uploads/2023/01/NA-Events.png
END:VEVENT
BEGIN:VEVENT
DTSTART;TZID=UTC:20271102T190000
DTEND;TZID=UTC:20271102T200000
DTSTAMP:20260420T210045
CREATED:20230118T010533Z
LAST-MODIFIED:20250108T221628Z
UID:10000262-1825182000-1825185600@www.redeemerephrata.org
SUMMARY:Narcotics Anonymous
DESCRIPTION:If you or a loved one are in need of support please consider attending Narcotics Anonymous weekly on Tuesdays at 7pm. 
URL:https://www.redeemerephrata.org/event/narcotics-anonymous/2027-11-02/
LOCATION:Our Redeemer Presbyterian Church\, 172 Ivy Street SE\, Ephrata\, WA\, 98823\, United States
CATEGORIES:Public Meetings
ATTACH;FMTTYPE=image/png:https://www.redeemerephrata.org/wp-content/uploads/2023/01/NA-Events.png
END:VEVENT
END:VCALENDAR