BEGIN:VCALENDAR
VERSION:2.0
PRODID:-//Our Redeemer Presbyterian Church - ECPv6.15.20//NONSGML v1.0//EN
CALSCALE:GREGORIAN
METHOD:PUBLISH
X-ORIGINAL-URL:https://www.redeemerephrata.org
X-WR-CALDESC:Events for Our Redeemer Presbyterian Church
REFRESH-INTERVAL;VALUE=DURATION:PT1H
X-Robots-Tag:noindex
X-PUBLISHED-TTL:PT1H
BEGIN:VTIMEZONE
TZID:UTC
BEGIN:STANDARD
TZOFFSETFROM:+0000
TZOFFSETTO:+0000
TZNAME:UTC
DTSTART:20250101T000000
END:STANDARD
END:VTIMEZONE
BEGIN:VEVENT
DTSTART;TZID=UTC:20260326T180000
DTEND;TZID=UTC:20260326T180000
DTSTAMP:20260420T124014
CREATED:20230118T011326Z
LAST-MODIFIED:20230118T011326Z
UID:10000440-1774548000-1774548000@www.redeemerephrata.org
SUMMARY:Al-Anon Family Group Meetings
DESCRIPTION:Al-Anon members are people\, just like you\, who are worried about someone with a drinking problem.  If you need support\, please join them weekly on Thursdays at 6pm.
URL:https://www.redeemerephrata.org/event/al-anon-family-group-meetings/2026-03-26/
LOCATION:Our Redeemer Presbyterian Church\, 172 Ivy Street SE\, Ephrata\, WA\, 98823\, United States
CATEGORIES:Weekly Worship
ATTACH;FMTTYPE=image/png:https://www.redeemerephrata.org/wp-content/uploads/2023/01/Untitled-design-3.png
END:VEVENT
BEGIN:VEVENT
DTSTART;TZID=UTC:20260325T180000
DTEND;TZID=UTC:20260325T193000
DTSTAMP:20260420T124014
CREATED:20260203T215157Z
LAST-MODIFIED:20260319T173435Z
UID:10003954-1774461600-1774467000@www.redeemerephrata.org
SUMMARY:Lenten Soup Supper and Worship Service
DESCRIPTION:After Ash Wednesday\, there will be a Lenten Soup Supper every Wednesday during Lent.  Supper starts at 6pm.  Worship service starts at 6:45pm.  Soup Supper rotates between United Methodist\, St. John’s Episcopal\, Holy Trinity Lutheran\, and Our Redeemer churches.  Please see the schedule below for dates and locations of Lenten Soup Supper and Services. \nFebruary 25: United Methodist \nMarch 4: St. John’s Episcopal \nMarch 11: Holy Trinity Lutheran \nMarch 18: Our Redeemer \nMarch 25: Holy Trinity Lutheran
URL:https://www.redeemerephrata.org/event/lenten-soup-supper-and-worship-service/
LOCATION:Our Redeemer Presbyterian Church\, 172 Ivy Street SE\, Ephrata\, WA\, 98823\, United States
CATEGORIES:Weekly Worship
ORGANIZER;CN="Our Redeemer Presbyterian Church":MAILTO:ephfirst@gmail.com
END:VEVENT
BEGIN:VEVENT
DTSTART;TZID=UTC:20260322T093000
DTEND;TZID=UTC:20260322T103000
DTSTAMP:20260420T124014
CREATED:20240829T220921Z
LAST-MODIFIED:20240829T221208Z
UID:10003149-1774171800-1774175400@www.redeemerephrata.org
SUMMARY:Children's Sunday School
DESCRIPTION:Youth ages 3yrs-6th grade are welcome to join us each week to learn about God’s big story. \nGod’s Big Story (GBS) invites children to enter into the narrative of God’s abounding faithfulness and love for all of his beloved children. Our aim is that children and their teachers might hear the gospel of Jesus Christ\, know Jesus as their Lord and Savior and experience the fullness of new life in Christ as part of His body\, the church. \nLearn more about our curriculum here. 
URL:https://www.redeemerephrata.org/event/sunday-school/2026-03-22/
LOCATION:Our Redeemer Presbyterian Church\, 172 Ivy Street SE\, Ephrata\, WA\, 98823\, United States
CATEGORIES:Weekly Worship,Youth
ATTACH;FMTTYPE=image/jpeg:https://www.redeemerephrata.org/wp-content/uploads/2024/08/Gods-Big-Story.jpg
ORGANIZER;CN="Our Redeemer Presbyterian Church":MAILTO:ephfirst@gmail.com
END:VEVENT
BEGIN:VEVENT
DTSTART;TZID=UTC:20260322T090000
DTEND;TZID=UTC:20260322T103000
DTSTAMP:20260420T124014
CREATED:20230118T014433Z
LAST-MODIFIED:20250303T231554Z
UID:10001291-1774170000-1774175400@www.redeemerephrata.org
SUMMARY:Sunday Morning Worship
DESCRIPTION:Please join us for our weekly worship at 9am. All are welcome and encouraged to attend.  Nursery care for infants to 2nd grade are provided during the worship service.
URL:https://www.redeemerephrata.org/event/sunday-morning-worship/2026-03-22/
LOCATION:Our Redeemer Presbyterian Church\, 172 Ivy Street SE\, Ephrata\, WA\, 98823\, United States
CATEGORIES:Weekly Worship
ATTACH;FMTTYPE=image/png:https://www.redeemerephrata.org/wp-content/uploads/2023/01/Worship-200-×-113-px.png
ORGANIZER;CN="Our Redeemer Presbyterian Church":MAILTO:ephfirst@gmail.com
END:VEVENT
BEGIN:VEVENT
DTSTART;TZID=UTC:20260319T180000
DTEND;TZID=UTC:20260319T180000
DTSTAMP:20260420T124014
CREATED:20230118T011326Z
LAST-MODIFIED:20230118T011326Z
UID:10000439-1773943200-1773943200@www.redeemerephrata.org
SUMMARY:Al-Anon Family Group Meetings
DESCRIPTION:Al-Anon members are people\, just like you\, who are worried about someone with a drinking problem.  If you need support\, please join them weekly on Thursdays at 6pm.
URL:https://www.redeemerephrata.org/event/al-anon-family-group-meetings/2026-03-19/
LOCATION:Our Redeemer Presbyterian Church\, 172 Ivy Street SE\, Ephrata\, WA\, 98823\, United States
CATEGORIES:Weekly Worship
ATTACH;FMTTYPE=image/png:https://www.redeemerephrata.org/wp-content/uploads/2023/01/Untitled-design-3.png
END:VEVENT
BEGIN:VEVENT
DTSTART;TZID=UTC:20260315T093000
DTEND;TZID=UTC:20260315T103000
DTSTAMP:20260420T124014
CREATED:20240829T220921Z
LAST-MODIFIED:20240829T221208Z
UID:10003148-1773567000-1773570600@www.redeemerephrata.org
SUMMARY:Children's Sunday School
DESCRIPTION:Youth ages 3yrs-6th grade are welcome to join us each week to learn about God’s big story. \nGod’s Big Story (GBS) invites children to enter into the narrative of God’s abounding faithfulness and love for all of his beloved children. Our aim is that children and their teachers might hear the gospel of Jesus Christ\, know Jesus as their Lord and Savior and experience the fullness of new life in Christ as part of His body\, the church. \nLearn more about our curriculum here. 
URL:https://www.redeemerephrata.org/event/sunday-school/2026-03-15/
LOCATION:Our Redeemer Presbyterian Church\, 172 Ivy Street SE\, Ephrata\, WA\, 98823\, United States
CATEGORIES:Weekly Worship,Youth
ATTACH;FMTTYPE=image/jpeg:https://www.redeemerephrata.org/wp-content/uploads/2024/08/Gods-Big-Story.jpg
ORGANIZER;CN="Our Redeemer Presbyterian Church":MAILTO:ephfirst@gmail.com
END:VEVENT
BEGIN:VEVENT
DTSTART;TZID=UTC:20260315T090000
DTEND;TZID=UTC:20260315T103000
DTSTAMP:20260420T124014
CREATED:20230118T014433Z
LAST-MODIFIED:20250303T231554Z
UID:10001290-1773565200-1773570600@www.redeemerephrata.org
SUMMARY:Sunday Morning Worship
DESCRIPTION:Please join us for our weekly worship at 9am. All are welcome and encouraged to attend.  Nursery care for infants to 2nd grade are provided during the worship service.
URL:https://www.redeemerephrata.org/event/sunday-morning-worship/2026-03-15/
LOCATION:Our Redeemer Presbyterian Church\, 172 Ivy Street SE\, Ephrata\, WA\, 98823\, United States
CATEGORIES:Weekly Worship
ATTACH;FMTTYPE=image/png:https://www.redeemerephrata.org/wp-content/uploads/2023/01/Worship-200-×-113-px.png
ORGANIZER;CN="Our Redeemer Presbyterian Church":MAILTO:ephfirst@gmail.com
END:VEVENT
BEGIN:VEVENT
DTSTART;TZID=UTC:20260312T180000
DTEND;TZID=UTC:20260312T180000
DTSTAMP:20260420T124014
CREATED:20230118T011326Z
LAST-MODIFIED:20230118T011326Z
UID:10000438-1773338400-1773338400@www.redeemerephrata.org
SUMMARY:Al-Anon Family Group Meetings
DESCRIPTION:Al-Anon members are people\, just like you\, who are worried about someone with a drinking problem.  If you need support\, please join them weekly on Thursdays at 6pm.
URL:https://www.redeemerephrata.org/event/al-anon-family-group-meetings/2026-03-12/
LOCATION:Our Redeemer Presbyterian Church\, 172 Ivy Street SE\, Ephrata\, WA\, 98823\, United States
CATEGORIES:Weekly Worship
ATTACH;FMTTYPE=image/png:https://www.redeemerephrata.org/wp-content/uploads/2023/01/Untitled-design-3.png
END:VEVENT
BEGIN:VEVENT
DTSTART;TZID=UTC:20260308T093000
DTEND;TZID=UTC:20260308T103000
DTSTAMP:20260420T124014
CREATED:20240829T220921Z
LAST-MODIFIED:20240829T221208Z
UID:10003147-1772962200-1772965800@www.redeemerephrata.org
SUMMARY:Children's Sunday School
DESCRIPTION:Youth ages 3yrs-6th grade are welcome to join us each week to learn about God’s big story. \nGod’s Big Story (GBS) invites children to enter into the narrative of God’s abounding faithfulness and love for all of his beloved children. Our aim is that children and their teachers might hear the gospel of Jesus Christ\, know Jesus as their Lord and Savior and experience the fullness of new life in Christ as part of His body\, the church. \nLearn more about our curriculum here. 
URL:https://www.redeemerephrata.org/event/sunday-school/2026-03-08/
LOCATION:Our Redeemer Presbyterian Church\, 172 Ivy Street SE\, Ephrata\, WA\, 98823\, United States
CATEGORIES:Weekly Worship,Youth
ATTACH;FMTTYPE=image/jpeg:https://www.redeemerephrata.org/wp-content/uploads/2024/08/Gods-Big-Story.jpg
ORGANIZER;CN="Our Redeemer Presbyterian Church":MAILTO:ephfirst@gmail.com
END:VEVENT
BEGIN:VEVENT
DTSTART;TZID=UTC:20260308T090000
DTEND;TZID=UTC:20260308T103000
DTSTAMP:20260420T124014
CREATED:20230118T014433Z
LAST-MODIFIED:20250303T231554Z
UID:10001289-1772960400-1772965800@www.redeemerephrata.org
SUMMARY:Sunday Morning Worship
DESCRIPTION:Please join us for our weekly worship at 9am. All are welcome and encouraged to attend.  Nursery care for infants to 2nd grade are provided during the worship service.
URL:https://www.redeemerephrata.org/event/sunday-morning-worship/2026-03-08/
LOCATION:Our Redeemer Presbyterian Church\, 172 Ivy Street SE\, Ephrata\, WA\, 98823\, United States
CATEGORIES:Weekly Worship
ATTACH;FMTTYPE=image/png:https://www.redeemerephrata.org/wp-content/uploads/2023/01/Worship-200-×-113-px.png
ORGANIZER;CN="Our Redeemer Presbyterian Church":MAILTO:ephfirst@gmail.com
END:VEVENT
BEGIN:VEVENT
DTSTART;TZID=UTC:20260305T180000
DTEND;TZID=UTC:20260305T180000
DTSTAMP:20260420T124014
CREATED:20230118T011326Z
LAST-MODIFIED:20230118T011326Z
UID:10000437-1772733600-1772733600@www.redeemerephrata.org
SUMMARY:Al-Anon Family Group Meetings
DESCRIPTION:Al-Anon members are people\, just like you\, who are worried about someone with a drinking problem.  If you need support\, please join them weekly on Thursdays at 6pm.
URL:https://www.redeemerephrata.org/event/al-anon-family-group-meetings/2026-03-05/
LOCATION:Our Redeemer Presbyterian Church\, 172 Ivy Street SE\, Ephrata\, WA\, 98823\, United States
CATEGORIES:Weekly Worship
ATTACH;FMTTYPE=image/png:https://www.redeemerephrata.org/wp-content/uploads/2023/01/Untitled-design-3.png
END:VEVENT
BEGIN:VEVENT
DTSTART;TZID=UTC:20260301T093000
DTEND;TZID=UTC:20260301T103000
DTSTAMP:20260420T124014
CREATED:20240829T220921Z
LAST-MODIFIED:20240829T221208Z
UID:10003146-1772357400-1772361000@www.redeemerephrata.org
SUMMARY:Children's Sunday School
DESCRIPTION:Youth ages 3yrs-6th grade are welcome to join us each week to learn about God’s big story. \nGod’s Big Story (GBS) invites children to enter into the narrative of God’s abounding faithfulness and love for all of his beloved children. Our aim is that children and their teachers might hear the gospel of Jesus Christ\, know Jesus as their Lord and Savior and experience the fullness of new life in Christ as part of His body\, the church. \nLearn more about our curriculum here. 
URL:https://www.redeemerephrata.org/event/sunday-school/2026-03-01/
LOCATION:Our Redeemer Presbyterian Church\, 172 Ivy Street SE\, Ephrata\, WA\, 98823\, United States
CATEGORIES:Weekly Worship,Youth
ATTACH;FMTTYPE=image/jpeg:https://www.redeemerephrata.org/wp-content/uploads/2024/08/Gods-Big-Story.jpg
ORGANIZER;CN="Our Redeemer Presbyterian Church":MAILTO:ephfirst@gmail.com
END:VEVENT
BEGIN:VEVENT
DTSTART;TZID=UTC:20260301T090000
DTEND;TZID=UTC:20260301T103000
DTSTAMP:20260420T124014
CREATED:20230118T014433Z
LAST-MODIFIED:20250303T231554Z
UID:10001288-1772355600-1772361000@www.redeemerephrata.org
SUMMARY:Sunday Morning Worship
DESCRIPTION:Please join us for our weekly worship at 9am. All are welcome and encouraged to attend.  Nursery care for infants to 2nd grade are provided during the worship service.
URL:https://www.redeemerephrata.org/event/sunday-morning-worship/2026-03-01/
LOCATION:Our Redeemer Presbyterian Church\, 172 Ivy Street SE\, Ephrata\, WA\, 98823\, United States
CATEGORIES:Weekly Worship
ATTACH;FMTTYPE=image/png:https://www.redeemerephrata.org/wp-content/uploads/2023/01/Worship-200-×-113-px.png
ORGANIZER;CN="Our Redeemer Presbyterian Church":MAILTO:ephfirst@gmail.com
END:VEVENT
BEGIN:VEVENT
DTSTART;TZID=UTC:20260226T180000
DTEND;TZID=UTC:20260226T180000
DTSTAMP:20260420T124014
CREATED:20230118T011326Z
LAST-MODIFIED:20230118T011326Z
UID:10000436-1772128800-1772128800@www.redeemerephrata.org
SUMMARY:Al-Anon Family Group Meetings
DESCRIPTION:Al-Anon members are people\, just like you\, who are worried about someone with a drinking problem.  If you need support\, please join them weekly on Thursdays at 6pm.
URL:https://www.redeemerephrata.org/event/al-anon-family-group-meetings/2026-02-26/
LOCATION:Our Redeemer Presbyterian Church\, 172 Ivy Street SE\, Ephrata\, WA\, 98823\, United States
CATEGORIES:Weekly Worship
ATTACH;FMTTYPE=image/png:https://www.redeemerephrata.org/wp-content/uploads/2023/01/Untitled-design-3.png
END:VEVENT
BEGIN:VEVENT
DTSTART;TZID=UTC:20260222T093000
DTEND;TZID=UTC:20260222T103000
DTSTAMP:20260420T124014
CREATED:20240829T220921Z
LAST-MODIFIED:20240829T221208Z
UID:10003145-1771752600-1771756200@www.redeemerephrata.org
SUMMARY:Children's Sunday School
DESCRIPTION:Youth ages 3yrs-6th grade are welcome to join us each week to learn about God’s big story. \nGod’s Big Story (GBS) invites children to enter into the narrative of God’s abounding faithfulness and love for all of his beloved children. Our aim is that children and their teachers might hear the gospel of Jesus Christ\, know Jesus as their Lord and Savior and experience the fullness of new life in Christ as part of His body\, the church. \nLearn more about our curriculum here. 
URL:https://www.redeemerephrata.org/event/sunday-school/2026-02-22/
LOCATION:Our Redeemer Presbyterian Church\, 172 Ivy Street SE\, Ephrata\, WA\, 98823\, United States
CATEGORIES:Weekly Worship,Youth
ATTACH;FMTTYPE=image/jpeg:https://www.redeemerephrata.org/wp-content/uploads/2024/08/Gods-Big-Story.jpg
ORGANIZER;CN="Our Redeemer Presbyterian Church":MAILTO:ephfirst@gmail.com
END:VEVENT
BEGIN:VEVENT
DTSTART;TZID=UTC:20260222T090000
DTEND;TZID=UTC:20260222T103000
DTSTAMP:20260420T124014
CREATED:20230118T014433Z
LAST-MODIFIED:20250303T231554Z
UID:10001287-1771750800-1771756200@www.redeemerephrata.org
SUMMARY:Sunday Morning Worship
DESCRIPTION:Please join us for our weekly worship at 9am. All are welcome and encouraged to attend.  Nursery care for infants to 2nd grade are provided during the worship service.
URL:https://www.redeemerephrata.org/event/sunday-morning-worship/2026-02-22/
LOCATION:Our Redeemer Presbyterian Church\, 172 Ivy Street SE\, Ephrata\, WA\, 98823\, United States
CATEGORIES:Weekly Worship
ATTACH;FMTTYPE=image/png:https://www.redeemerephrata.org/wp-content/uploads/2023/01/Worship-200-×-113-px.png
ORGANIZER;CN="Our Redeemer Presbyterian Church":MAILTO:ephfirst@gmail.com
END:VEVENT
BEGIN:VEVENT
DTSTART;TZID=UTC:20260219T180000
DTEND;TZID=UTC:20260219T180000
DTSTAMP:20260420T124014
CREATED:20230118T011326Z
LAST-MODIFIED:20230118T011326Z
UID:10000435-1771524000-1771524000@www.redeemerephrata.org
SUMMARY:Al-Anon Family Group Meetings
DESCRIPTION:Al-Anon members are people\, just like you\, who are worried about someone with a drinking problem.  If you need support\, please join them weekly on Thursdays at 6pm.
URL:https://www.redeemerephrata.org/event/al-anon-family-group-meetings/2026-02-19/
LOCATION:Our Redeemer Presbyterian Church\, 172 Ivy Street SE\, Ephrata\, WA\, 98823\, United States
CATEGORIES:Weekly Worship
ATTACH;FMTTYPE=image/png:https://www.redeemerephrata.org/wp-content/uploads/2023/01/Untitled-design-3.png
END:VEVENT
BEGIN:VEVENT
DTSTART;TZID=UTC:20260215T093000
DTEND;TZID=UTC:20260215T103000
DTSTAMP:20260420T124014
CREATED:20240829T220921Z
LAST-MODIFIED:20240829T221208Z
UID:10003144-1771147800-1771151400@www.redeemerephrata.org
SUMMARY:Children's Sunday School
DESCRIPTION:Youth ages 3yrs-6th grade are welcome to join us each week to learn about God’s big story. \nGod’s Big Story (GBS) invites children to enter into the narrative of God’s abounding faithfulness and love for all of his beloved children. Our aim is that children and their teachers might hear the gospel of Jesus Christ\, know Jesus as their Lord and Savior and experience the fullness of new life in Christ as part of His body\, the church. \nLearn more about our curriculum here. 
URL:https://www.redeemerephrata.org/event/sunday-school/2026-02-15/
LOCATION:Our Redeemer Presbyterian Church\, 172 Ivy Street SE\, Ephrata\, WA\, 98823\, United States
CATEGORIES:Weekly Worship,Youth
ATTACH;FMTTYPE=image/jpeg:https://www.redeemerephrata.org/wp-content/uploads/2024/08/Gods-Big-Story.jpg
ORGANIZER;CN="Our Redeemer Presbyterian Church":MAILTO:ephfirst@gmail.com
END:VEVENT
BEGIN:VEVENT
DTSTART;TZID=UTC:20260215T090000
DTEND;TZID=UTC:20260215T103000
DTSTAMP:20260420T124014
CREATED:20230118T014433Z
LAST-MODIFIED:20250303T231554Z
UID:10001286-1771146000-1771151400@www.redeemerephrata.org
SUMMARY:Sunday Morning Worship
DESCRIPTION:Please join us for our weekly worship at 9am. All are welcome and encouraged to attend.  Nursery care for infants to 2nd grade are provided during the worship service.
URL:https://www.redeemerephrata.org/event/sunday-morning-worship/2026-02-15/
LOCATION:Our Redeemer Presbyterian Church\, 172 Ivy Street SE\, Ephrata\, WA\, 98823\, United States
CATEGORIES:Weekly Worship
ATTACH;FMTTYPE=image/png:https://www.redeemerephrata.org/wp-content/uploads/2023/01/Worship-200-×-113-px.png
ORGANIZER;CN="Our Redeemer Presbyterian Church":MAILTO:ephfirst@gmail.com
END:VEVENT
BEGIN:VEVENT
DTSTART;TZID=UTC:20260212T180000
DTEND;TZID=UTC:20260212T180000
DTSTAMP:20260420T124014
CREATED:20230118T011326Z
LAST-MODIFIED:20230118T011326Z
UID:10000434-1770919200-1770919200@www.redeemerephrata.org
SUMMARY:Al-Anon Family Group Meetings
DESCRIPTION:Al-Anon members are people\, just like you\, who are worried about someone with a drinking problem.  If you need support\, please join them weekly on Thursdays at 6pm.
URL:https://www.redeemerephrata.org/event/al-anon-family-group-meetings/2026-02-12/
LOCATION:Our Redeemer Presbyterian Church\, 172 Ivy Street SE\, Ephrata\, WA\, 98823\, United States
CATEGORIES:Weekly Worship
ATTACH;FMTTYPE=image/png:https://www.redeemerephrata.org/wp-content/uploads/2023/01/Untitled-design-3.png
END:VEVENT
BEGIN:VEVENT
DTSTART;TZID=UTC:20260208T093000
DTEND;TZID=UTC:20260208T103000
DTSTAMP:20260420T124014
CREATED:20240829T220921Z
LAST-MODIFIED:20240829T221208Z
UID:10003143-1770543000-1770546600@www.redeemerephrata.org
SUMMARY:Children's Sunday School
DESCRIPTION:Youth ages 3yrs-6th grade are welcome to join us each week to learn about God’s big story. \nGod’s Big Story (GBS) invites children to enter into the narrative of God’s abounding faithfulness and love for all of his beloved children. Our aim is that children and their teachers might hear the gospel of Jesus Christ\, know Jesus as their Lord and Savior and experience the fullness of new life in Christ as part of His body\, the church. \nLearn more about our curriculum here. 
URL:https://www.redeemerephrata.org/event/sunday-school/2026-02-08/
LOCATION:Our Redeemer Presbyterian Church\, 172 Ivy Street SE\, Ephrata\, WA\, 98823\, United States
CATEGORIES:Weekly Worship,Youth
ATTACH;FMTTYPE=image/jpeg:https://www.redeemerephrata.org/wp-content/uploads/2024/08/Gods-Big-Story.jpg
ORGANIZER;CN="Our Redeemer Presbyterian Church":MAILTO:ephfirst@gmail.com
END:VEVENT
BEGIN:VEVENT
DTSTART;TZID=UTC:20260208T090000
DTEND;TZID=UTC:20260208T103000
DTSTAMP:20260420T124014
CREATED:20230118T014433Z
LAST-MODIFIED:20250303T231554Z
UID:10001285-1770541200-1770546600@www.redeemerephrata.org
SUMMARY:Sunday Morning Worship
DESCRIPTION:Please join us for our weekly worship at 9am. All are welcome and encouraged to attend.  Nursery care for infants to 2nd grade are provided during the worship service.
URL:https://www.redeemerephrata.org/event/sunday-morning-worship/2026-02-08/
LOCATION:Our Redeemer Presbyterian Church\, 172 Ivy Street SE\, Ephrata\, WA\, 98823\, United States
CATEGORIES:Weekly Worship
ATTACH;FMTTYPE=image/png:https://www.redeemerephrata.org/wp-content/uploads/2023/01/Worship-200-×-113-px.png
ORGANIZER;CN="Our Redeemer Presbyterian Church":MAILTO:ephfirst@gmail.com
END:VEVENT
BEGIN:VEVENT
DTSTART;TZID=UTC:20260205T180000
DTEND;TZID=UTC:20260205T180000
DTSTAMP:20260420T124014
CREATED:20230118T011326Z
LAST-MODIFIED:20230118T011326Z
UID:10000433-1770314400-1770314400@www.redeemerephrata.org
SUMMARY:Al-Anon Family Group Meetings
DESCRIPTION:Al-Anon members are people\, just like you\, who are worried about someone with a drinking problem.  If you need support\, please join them weekly on Thursdays at 6pm.
URL:https://www.redeemerephrata.org/event/al-anon-family-group-meetings/2026-02-05/
LOCATION:Our Redeemer Presbyterian Church\, 172 Ivy Street SE\, Ephrata\, WA\, 98823\, United States
CATEGORIES:Weekly Worship
ATTACH;FMTTYPE=image/png:https://www.redeemerephrata.org/wp-content/uploads/2023/01/Untitled-design-3.png
END:VEVENT
BEGIN:VEVENT
DTSTART;TZID=UTC:20260201T093000
DTEND;TZID=UTC:20260201T103000
DTSTAMP:20260420T124014
CREATED:20240829T220921Z
LAST-MODIFIED:20240829T221208Z
UID:10003142-1769938200-1769941800@www.redeemerephrata.org
SUMMARY:Children's Sunday School
DESCRIPTION:Youth ages 3yrs-6th grade are welcome to join us each week to learn about God’s big story. \nGod’s Big Story (GBS) invites children to enter into the narrative of God’s abounding faithfulness and love for all of his beloved children. Our aim is that children and their teachers might hear the gospel of Jesus Christ\, know Jesus as their Lord and Savior and experience the fullness of new life in Christ as part of His body\, the church. \nLearn more about our curriculum here. 
URL:https://www.redeemerephrata.org/event/sunday-school/2026-02-01/
LOCATION:Our Redeemer Presbyterian Church\, 172 Ivy Street SE\, Ephrata\, WA\, 98823\, United States
CATEGORIES:Weekly Worship,Youth
ATTACH;FMTTYPE=image/jpeg:https://www.redeemerephrata.org/wp-content/uploads/2024/08/Gods-Big-Story.jpg
ORGANIZER;CN="Our Redeemer Presbyterian Church":MAILTO:ephfirst@gmail.com
END:VEVENT
BEGIN:VEVENT
DTSTART;TZID=UTC:20260201T090000
DTEND;TZID=UTC:20260201T103000
DTSTAMP:20260420T124014
CREATED:20230118T014433Z
LAST-MODIFIED:20250303T231554Z
UID:10001284-1769936400-1769941800@www.redeemerephrata.org
SUMMARY:Sunday Morning Worship
DESCRIPTION:Please join us for our weekly worship at 9am. All are welcome and encouraged to attend.  Nursery care for infants to 2nd grade are provided during the worship service.
URL:https://www.redeemerephrata.org/event/sunday-morning-worship/2026-02-01/
LOCATION:Our Redeemer Presbyterian Church\, 172 Ivy Street SE\, Ephrata\, WA\, 98823\, United States
CATEGORIES:Weekly Worship
ATTACH;FMTTYPE=image/png:https://www.redeemerephrata.org/wp-content/uploads/2023/01/Worship-200-×-113-px.png
ORGANIZER;CN="Our Redeemer Presbyterian Church":MAILTO:ephfirst@gmail.com
END:VEVENT
BEGIN:VEVENT
DTSTART;TZID=UTC:20260129T180000
DTEND;TZID=UTC:20260129T180000
DTSTAMP:20260420T124014
CREATED:20230118T011326Z
LAST-MODIFIED:20230118T011326Z
UID:10000432-1769709600-1769709600@www.redeemerephrata.org
SUMMARY:Al-Anon Family Group Meetings
DESCRIPTION:Al-Anon members are people\, just like you\, who are worried about someone with a drinking problem.  If you need support\, please join them weekly on Thursdays at 6pm.
URL:https://www.redeemerephrata.org/event/al-anon-family-group-meetings/2026-01-29/
LOCATION:Our Redeemer Presbyterian Church\, 172 Ivy Street SE\, Ephrata\, WA\, 98823\, United States
CATEGORIES:Weekly Worship
ATTACH;FMTTYPE=image/png:https://www.redeemerephrata.org/wp-content/uploads/2023/01/Untitled-design-3.png
END:VEVENT
BEGIN:VEVENT
DTSTART;TZID=UTC:20260125T093000
DTEND;TZID=UTC:20260125T103000
DTSTAMP:20260420T124014
CREATED:20240829T220921Z
LAST-MODIFIED:20240829T221208Z
UID:10003141-1769333400-1769337000@www.redeemerephrata.org
SUMMARY:Children's Sunday School
DESCRIPTION:Youth ages 3yrs-6th grade are welcome to join us each week to learn about God’s big story. \nGod’s Big Story (GBS) invites children to enter into the narrative of God’s abounding faithfulness and love for all of his beloved children. Our aim is that children and their teachers might hear the gospel of Jesus Christ\, know Jesus as their Lord and Savior and experience the fullness of new life in Christ as part of His body\, the church. \nLearn more about our curriculum here. 
URL:https://www.redeemerephrata.org/event/sunday-school/2026-01-25/
LOCATION:Our Redeemer Presbyterian Church\, 172 Ivy Street SE\, Ephrata\, WA\, 98823\, United States
CATEGORIES:Weekly Worship,Youth
ATTACH;FMTTYPE=image/jpeg:https://www.redeemerephrata.org/wp-content/uploads/2024/08/Gods-Big-Story.jpg
ORGANIZER;CN="Our Redeemer Presbyterian Church":MAILTO:ephfirst@gmail.com
END:VEVENT
BEGIN:VEVENT
DTSTART;TZID=UTC:20260125T090000
DTEND;TZID=UTC:20260125T103000
DTSTAMP:20260420T124014
CREATED:20230118T014433Z
LAST-MODIFIED:20250303T231554Z
UID:10001283-1769331600-1769337000@www.redeemerephrata.org
SUMMARY:Sunday Morning Worship
DESCRIPTION:Please join us for our weekly worship at 9am. All are welcome and encouraged to attend.  Nursery care for infants to 2nd grade are provided during the worship service.
URL:https://www.redeemerephrata.org/event/sunday-morning-worship/2026-01-25/
LOCATION:Our Redeemer Presbyterian Church\, 172 Ivy Street SE\, Ephrata\, WA\, 98823\, United States
CATEGORIES:Weekly Worship
ATTACH;FMTTYPE=image/png:https://www.redeemerephrata.org/wp-content/uploads/2023/01/Worship-200-×-113-px.png
ORGANIZER;CN="Our Redeemer Presbyterian Church":MAILTO:ephfirst@gmail.com
END:VEVENT
BEGIN:VEVENT
DTSTART;TZID=UTC:20260122T180000
DTEND;TZID=UTC:20260122T180000
DTSTAMP:20260420T124014
CREATED:20230118T011326Z
LAST-MODIFIED:20230118T011326Z
UID:10000431-1769104800-1769104800@www.redeemerephrata.org
SUMMARY:Al-Anon Family Group Meetings
DESCRIPTION:Al-Anon members are people\, just like you\, who are worried about someone with a drinking problem.  If you need support\, please join them weekly on Thursdays at 6pm.
URL:https://www.redeemerephrata.org/event/al-anon-family-group-meetings/2026-01-22/
LOCATION:Our Redeemer Presbyterian Church\, 172 Ivy Street SE\, Ephrata\, WA\, 98823\, United States
CATEGORIES:Weekly Worship
ATTACH;FMTTYPE=image/png:https://www.redeemerephrata.org/wp-content/uploads/2023/01/Untitled-design-3.png
END:VEVENT
BEGIN:VEVENT
DTSTART;TZID=UTC:20260118T093000
DTEND;TZID=UTC:20260118T103000
DTSTAMP:20260420T124014
CREATED:20240829T220921Z
LAST-MODIFIED:20240829T221208Z
UID:10003140-1768728600-1768732200@www.redeemerephrata.org
SUMMARY:Children's Sunday School
DESCRIPTION:Youth ages 3yrs-6th grade are welcome to join us each week to learn about God’s big story. \nGod’s Big Story (GBS) invites children to enter into the narrative of God’s abounding faithfulness and love for all of his beloved children. Our aim is that children and their teachers might hear the gospel of Jesus Christ\, know Jesus as their Lord and Savior and experience the fullness of new life in Christ as part of His body\, the church. \nLearn more about our curriculum here. 
URL:https://www.redeemerephrata.org/event/sunday-school/2026-01-18/
LOCATION:Our Redeemer Presbyterian Church\, 172 Ivy Street SE\, Ephrata\, WA\, 98823\, United States
CATEGORIES:Weekly Worship,Youth
ATTACH;FMTTYPE=image/jpeg:https://www.redeemerephrata.org/wp-content/uploads/2024/08/Gods-Big-Story.jpg
ORGANIZER;CN="Our Redeemer Presbyterian Church":MAILTO:ephfirst@gmail.com
END:VEVENT
END:VCALENDAR