BEGIN:VCALENDAR
VERSION:2.0
PRODID:-//Our Redeemer Presbyterian Church - ECPv6.15.20//NONSGML v1.0//EN
CALSCALE:GREGORIAN
METHOD:PUBLISH
X-WR-CALNAME:Our Redeemer Presbyterian Church
X-ORIGINAL-URL:https://www.redeemerephrata.org
X-WR-CALDESC:Events for Our Redeemer Presbyterian Church
REFRESH-INTERVAL;VALUE=DURATION:PT1H
X-Robots-Tag:noindex
X-PUBLISHED-TTL:PT1H
BEGIN:VTIMEZONE
TZID:UTC
BEGIN:STANDARD
TZOFFSETFROM:+0000
TZOFFSETTO:+0000
TZNAME:UTC
DTSTART:20240101T000000
END:STANDARD
END:VTIMEZONE
BEGIN:VEVENT
DTSTART;TZID=UTC:20251111T190000
DTEND;TZID=UTC:20251111T200000
DTSTAMP:20260421T120527
CREATED:20230118T010533Z
LAST-MODIFIED:20250108T221628Z
UID:10000159-1762887600-1762891200@www.redeemerephrata.org
SUMMARY:Narcotics Anonymous
DESCRIPTION:If you or a loved one are in need of support please consider attending Narcotics Anonymous weekly on Tuesdays at 7pm. 
URL:https://www.redeemerephrata.org/event/narcotics-anonymous/2025-11-11/
LOCATION:Our Redeemer Presbyterian Church\, 172 Ivy Street SE\, Ephrata\, WA\, 98823\, United States
CATEGORIES:Public Meetings
ATTACH;FMTTYPE=image/png:https://www.redeemerephrata.org/wp-content/uploads/2023/01/NA-Events.png
END:VEVENT
BEGIN:VEVENT
DTSTART;TZID=UTC:20251111T183000
DTEND;TZID=UTC:20251111T203000
DTSTAMP:20260421T120527
CREATED:20251007T202933Z
LAST-MODIFIED:20260319T172845Z
UID:10003987-1762885800-1762893000@www.redeemerephrata.org
SUMMARY:Session Meeting
DESCRIPTION:Join Session for their monthly meeting on Tuesday night @ 6:30pm.
URL:https://www.redeemerephrata.org/event/session-meeting/2025-11-11/
LOCATION:Our Redeemer Presbyterian Church\, 172 Ivy Street SE\, Ephrata\, WA\, 98823\, United States
CATEGORIES:Meetings
ATTACH;FMTTYPE=image/jpeg:https://www.redeemerephrata.org/wp-content/uploads/2025/10/Team-Meeting-3.jpg
ORGANIZER;CN="Our Redeemer Presbyterian Church":MAILTO:ephfirst@gmail.com
END:VEVENT
BEGIN:VEVENT
DTSTART;TZID=UTC:20251111T090000
DTEND;TZID=UTC:20251111T110000
DTSTAMP:20260421T120527
CREATED:20240102T232309Z
LAST-MODIFIED:20241211T234731Z
UID:10002316-1762851600-1762858800@www.redeemerephrata.org
SUMMARY:Sit n' Stitch
DESCRIPTION:Come sit and stitch with us on Tuesdays from 9-11am.  More info? Talk to Nancy Wenke.
URL:https://www.redeemerephrata.org/event/quilters-group/2025-11-11/
LOCATION:Our Redeemer Presbyterian Church\, 172 Ivy Street SE\, Ephrata\, WA\, 98823\, United States
CATEGORIES:Fellowship
ATTACH;FMTTYPE=image/jpeg:https://www.redeemerephrata.org/wp-content/uploads/2024/01/Sit-n-Stitch.jpg
END:VEVENT
BEGIN:VEVENT
DTSTART;TZID=UTC:20251109T093000
DTEND;TZID=UTC:20251109T103000
DTSTAMP:20260421T120527
CREATED:20240829T220921Z
LAST-MODIFIED:20240829T221208Z
UID:10003130-1762680600-1762684200@www.redeemerephrata.org
SUMMARY:Children's Sunday School
DESCRIPTION:Youth ages 3yrs-6th grade are welcome to join us each week to learn about God’s big story. \nGod’s Big Story (GBS) invites children to enter into the narrative of God’s abounding faithfulness and love for all of his beloved children. Our aim is that children and their teachers might hear the gospel of Jesus Christ\, know Jesus as their Lord and Savior and experience the fullness of new life in Christ as part of His body\, the church. \nLearn more about our curriculum here. 
URL:https://www.redeemerephrata.org/event/sunday-school/2025-11-09/
LOCATION:Our Redeemer Presbyterian Church\, 172 Ivy Street SE\, Ephrata\, WA\, 98823\, United States
CATEGORIES:Weekly Worship,Youth
ATTACH;FMTTYPE=image/jpeg:https://www.redeemerephrata.org/wp-content/uploads/2024/08/Gods-Big-Story.jpg
ORGANIZER;CN="Our Redeemer Presbyterian Church":MAILTO:ephfirst@gmail.com
END:VEVENT
BEGIN:VEVENT
DTSTART;TZID=UTC:20251109T090000
DTEND;TZID=UTC:20251109T103000
DTSTAMP:20260421T120527
CREATED:20230118T014433Z
LAST-MODIFIED:20250303T231554Z
UID:10001272-1762678800-1762684200@www.redeemerephrata.org
SUMMARY:Sunday Morning Worship
DESCRIPTION:Please join us for our weekly worship at 9am. All are welcome and encouraged to attend.  Nursery care for infants to 2nd grade are provided during the worship service.
URL:https://www.redeemerephrata.org/event/sunday-morning-worship/2025-11-09/
LOCATION:Our Redeemer Presbyterian Church\, 172 Ivy Street SE\, Ephrata\, WA\, 98823\, United States
CATEGORIES:Weekly Worship
ATTACH;FMTTYPE=image/png:https://www.redeemerephrata.org/wp-content/uploads/2023/01/Worship-200-×-113-px.png
ORGANIZER;CN="Our Redeemer Presbyterian Church":MAILTO:ephfirst@gmail.com
END:VEVENT
BEGIN:VEVENT
DTSTART;TZID=UTC:20251106T180000
DTEND;TZID=UTC:20251106T180000
DTSTAMP:20260421T120527
CREATED:20230118T011326Z
LAST-MODIFIED:20230118T011326Z
UID:10000420-1762452000-1762452000@www.redeemerephrata.org
SUMMARY:Al-Anon Family Group Meetings
DESCRIPTION:Al-Anon members are people\, just like you\, who are worried about someone with a drinking problem.  If you need support\, please join them weekly on Thursdays at 6pm.
URL:https://www.redeemerephrata.org/event/al-anon-family-group-meetings/2025-11-06/
LOCATION:Our Redeemer Presbyterian Church\, 172 Ivy Street SE\, Ephrata\, WA\, 98823\, United States
CATEGORIES:Weekly Worship
ATTACH;FMTTYPE=image/png:https://www.redeemerephrata.org/wp-content/uploads/2023/01/Untitled-design-3.png
END:VEVENT
BEGIN:VEVENT
DTSTART;TZID=UTC:20251105T180000
DTEND;TZID=UTC:20251105T193000
DTSTAMP:20260421T120527
CREATED:20251007T201730Z
LAST-MODIFIED:20251007T213429Z
UID:10003825-1762365600-1762371000@www.redeemerephrata.org
SUMMARY:Youth Group
DESCRIPTION:All 7th-12th graders are welcome.  Please come have dinner\, play games\, and enjoy discussions with Pastor Mark.
URL:https://www.redeemerephrata.org/event/youth-group-2/2025-11-05/
LOCATION:Our Redeemer Presbyterian Church\, 172 Ivy Street SE\, Ephrata\, WA\, 98823\, United States
CATEGORIES:Youth
ATTACH;FMTTYPE=image/jpeg:https://www.redeemerephrata.org/wp-content/uploads/2025/10/Youth-Group-2025-200-x-113-px.jpg
END:VEVENT
BEGIN:VEVENT
DTSTART;TZID=UTC:20251104T190000
DTEND;TZID=UTC:20251104T200000
DTSTAMP:20260421T120527
CREATED:20230118T010533Z
LAST-MODIFIED:20250108T221628Z
UID:10000158-1762282800-1762286400@www.redeemerephrata.org
SUMMARY:Narcotics Anonymous
DESCRIPTION:If you or a loved one are in need of support please consider attending Narcotics Anonymous weekly on Tuesdays at 7pm. 
URL:https://www.redeemerephrata.org/event/narcotics-anonymous/2025-11-04/
LOCATION:Our Redeemer Presbyterian Church\, 172 Ivy Street SE\, Ephrata\, WA\, 98823\, United States
CATEGORIES:Public Meetings
ATTACH;FMTTYPE=image/png:https://www.redeemerephrata.org/wp-content/uploads/2023/01/NA-Events.png
END:VEVENT
BEGIN:VEVENT
DTSTART;TZID=UTC:20251104T090000
DTEND;TZID=UTC:20251104T110000
DTSTAMP:20260421T120527
CREATED:20240102T232309Z
LAST-MODIFIED:20241211T234731Z
UID:10002315-1762246800-1762254000@www.redeemerephrata.org
SUMMARY:Sit n' Stitch
DESCRIPTION:Come sit and stitch with us on Tuesdays from 9-11am.  More info? Talk to Nancy Wenke.
URL:https://www.redeemerephrata.org/event/quilters-group/2025-11-04/
LOCATION:Our Redeemer Presbyterian Church\, 172 Ivy Street SE\, Ephrata\, WA\, 98823\, United States
CATEGORIES:Fellowship
ATTACH;FMTTYPE=image/jpeg:https://www.redeemerephrata.org/wp-content/uploads/2024/01/Sit-n-Stitch.jpg
END:VEVENT
BEGIN:VEVENT
DTSTART;TZID=UTC:20251102T093000
DTEND;TZID=UTC:20251102T103000
DTSTAMP:20260421T120527
CREATED:20240829T220921Z
LAST-MODIFIED:20240829T221208Z
UID:10003129-1762075800-1762079400@www.redeemerephrata.org
SUMMARY:Children's Sunday School
DESCRIPTION:Youth ages 3yrs-6th grade are welcome to join us each week to learn about God’s big story. \nGod’s Big Story (GBS) invites children to enter into the narrative of God’s abounding faithfulness and love for all of his beloved children. Our aim is that children and their teachers might hear the gospel of Jesus Christ\, know Jesus as their Lord and Savior and experience the fullness of new life in Christ as part of His body\, the church. \nLearn more about our curriculum here. 
URL:https://www.redeemerephrata.org/event/sunday-school/2025-11-02/
LOCATION:Our Redeemer Presbyterian Church\, 172 Ivy Street SE\, Ephrata\, WA\, 98823\, United States
CATEGORIES:Weekly Worship,Youth
ATTACH;FMTTYPE=image/jpeg:https://www.redeemerephrata.org/wp-content/uploads/2024/08/Gods-Big-Story.jpg
ORGANIZER;CN="Our Redeemer Presbyterian Church":MAILTO:ephfirst@gmail.com
END:VEVENT
BEGIN:VEVENT
DTSTART;TZID=UTC:20251102T090000
DTEND;TZID=UTC:20251102T103000
DTSTAMP:20260421T120527
CREATED:20230118T014433Z
LAST-MODIFIED:20250303T231554Z
UID:10001271-1762074000-1762079400@www.redeemerephrata.org
SUMMARY:Sunday Morning Worship
DESCRIPTION:Please join us for our weekly worship at 9am. All are welcome and encouraged to attend.  Nursery care for infants to 2nd grade are provided during the worship service.
URL:https://www.redeemerephrata.org/event/sunday-morning-worship/2025-11-02/
LOCATION:Our Redeemer Presbyterian Church\, 172 Ivy Street SE\, Ephrata\, WA\, 98823\, United States
CATEGORIES:Weekly Worship
ATTACH;FMTTYPE=image/png:https://www.redeemerephrata.org/wp-content/uploads/2023/01/Worship-200-×-113-px.png
ORGANIZER;CN="Our Redeemer Presbyterian Church":MAILTO:ephfirst@gmail.com
END:VEVENT
BEGIN:VEVENT
DTSTART;TZID=UTC:20251030T180000
DTEND;TZID=UTC:20251030T180000
DTSTAMP:20260421T120527
CREATED:20230118T011326Z
LAST-MODIFIED:20230118T011326Z
UID:10000419-1761847200-1761847200@www.redeemerephrata.org
SUMMARY:Al-Anon Family Group Meetings
DESCRIPTION:Al-Anon members are people\, just like you\, who are worried about someone with a drinking problem.  If you need support\, please join them weekly on Thursdays at 6pm.
URL:https://www.redeemerephrata.org/event/al-anon-family-group-meetings/2025-10-30/
LOCATION:Our Redeemer Presbyterian Church\, 172 Ivy Street SE\, Ephrata\, WA\, 98823\, United States
CATEGORIES:Weekly Worship
ATTACH;FMTTYPE=image/png:https://www.redeemerephrata.org/wp-content/uploads/2023/01/Untitled-design-3.png
END:VEVENT
BEGIN:VEVENT
DTSTART;TZID=UTC:20251030T170000
DTEND;TZID=UTC:20251030T190000
DTSTAMP:20260421T120527
CREATED:20251022T172157Z
LAST-MODIFIED:20251022T174154Z
UID:10003865-1761843600-1761850800@www.redeemerephrata.org
SUMMARY:His Helping Hands Open House
DESCRIPTION:You’re invited to the HHH Winter Coat Closet Open House to see their newly renovated facility!  Tours run every 15 minutes from 5pm-7pm.   A special prayer time is scheduled at 6:15pm.
URL:https://www.redeemerephrata.org/event/his-helping-hands-open-house/
LOCATION:His Helping Hands\, 29 Alder ST SW\, Ephrata\, WA\, 98823\, United States
ATTACH;FMTTYPE=image/jpeg:https://www.redeemerephrata.org/wp-content/uploads/2025/10/HHH-Open-House-Fall-2025-1920-x-1080-px-200-x-113-px-1-1.jpg
END:VEVENT
BEGIN:VEVENT
DTSTART;TZID=UTC:20251029T180000
DTEND;TZID=UTC:20251029T193000
DTSTAMP:20260421T120527
CREATED:20251007T201730Z
LAST-MODIFIED:20251007T213429Z
UID:10003824-1761760800-1761766200@www.redeemerephrata.org
SUMMARY:Youth Group
DESCRIPTION:All 7th-12th graders are welcome.  Please come have dinner\, play games\, and enjoy discussions with Pastor Mark.
URL:https://www.redeemerephrata.org/event/youth-group-2/2025-10-29/
LOCATION:Our Redeemer Presbyterian Church\, 172 Ivy Street SE\, Ephrata\, WA\, 98823\, United States
CATEGORIES:Youth
ATTACH;FMTTYPE=image/jpeg:https://www.redeemerephrata.org/wp-content/uploads/2025/10/Youth-Group-2025-200-x-113-px.jpg
END:VEVENT
BEGIN:VEVENT
DTSTART;TZID=UTC:20251028T190000
DTEND;TZID=UTC:20251028T200000
DTSTAMP:20260421T120527
CREATED:20230118T010533Z
LAST-MODIFIED:20250108T221628Z
UID:10000157-1761678000-1761681600@www.redeemerephrata.org
SUMMARY:Narcotics Anonymous
DESCRIPTION:If you or a loved one are in need of support please consider attending Narcotics Anonymous weekly on Tuesdays at 7pm. 
URL:https://www.redeemerephrata.org/event/narcotics-anonymous/2025-10-28/
LOCATION:Our Redeemer Presbyterian Church\, 172 Ivy Street SE\, Ephrata\, WA\, 98823\, United States
CATEGORIES:Public Meetings
ATTACH;FMTTYPE=image/png:https://www.redeemerephrata.org/wp-content/uploads/2023/01/NA-Events.png
END:VEVENT
BEGIN:VEVENT
DTSTART;TZID=UTC:20251028T090000
DTEND;TZID=UTC:20251028T110000
DTSTAMP:20260421T120527
CREATED:20240102T232309Z
LAST-MODIFIED:20241211T234731Z
UID:10002314-1761642000-1761649200@www.redeemerephrata.org
SUMMARY:Sit n' Stitch
DESCRIPTION:Come sit and stitch with us on Tuesdays from 9-11am.  More info? Talk to Nancy Wenke.
URL:https://www.redeemerephrata.org/event/quilters-group/2025-10-28/
LOCATION:Our Redeemer Presbyterian Church\, 172 Ivy Street SE\, Ephrata\, WA\, 98823\, United States
CATEGORIES:Fellowship
ATTACH;FMTTYPE=image/jpeg:https://www.redeemerephrata.org/wp-content/uploads/2024/01/Sit-n-Stitch.jpg
END:VEVENT
BEGIN:VEVENT
DTSTART;TZID=UTC:20251026T093000
DTEND;TZID=UTC:20251026T103000
DTSTAMP:20260421T120527
CREATED:20240829T220921Z
LAST-MODIFIED:20240829T221208Z
UID:10003128-1761471000-1761474600@www.redeemerephrata.org
SUMMARY:Children's Sunday School
DESCRIPTION:Youth ages 3yrs-6th grade are welcome to join us each week to learn about God’s big story. \nGod’s Big Story (GBS) invites children to enter into the narrative of God’s abounding faithfulness and love for all of his beloved children. Our aim is that children and their teachers might hear the gospel of Jesus Christ\, know Jesus as their Lord and Savior and experience the fullness of new life in Christ as part of His body\, the church. \nLearn more about our curriculum here. 
URL:https://www.redeemerephrata.org/event/sunday-school/2025-10-26/
LOCATION:Our Redeemer Presbyterian Church\, 172 Ivy Street SE\, Ephrata\, WA\, 98823\, United States
CATEGORIES:Weekly Worship,Youth
ATTACH;FMTTYPE=image/jpeg:https://www.redeemerephrata.org/wp-content/uploads/2024/08/Gods-Big-Story.jpg
ORGANIZER;CN="Our Redeemer Presbyterian Church":MAILTO:ephfirst@gmail.com
END:VEVENT
BEGIN:VEVENT
DTSTART;TZID=UTC:20251026T090000
DTEND;TZID=UTC:20251026T103000
DTSTAMP:20260421T120527
CREATED:20230118T014433Z
LAST-MODIFIED:20250303T231554Z
UID:10001270-1761469200-1761474600@www.redeemerephrata.org
SUMMARY:Sunday Morning Worship
DESCRIPTION:Please join us for our weekly worship at 9am. All are welcome and encouraged to attend.  Nursery care for infants to 2nd grade are provided during the worship service.
URL:https://www.redeemerephrata.org/event/sunday-morning-worship/2025-10-26/
LOCATION:Our Redeemer Presbyterian Church\, 172 Ivy Street SE\, Ephrata\, WA\, 98823\, United States
CATEGORIES:Weekly Worship
ATTACH;FMTTYPE=image/png:https://www.redeemerephrata.org/wp-content/uploads/2023/01/Worship-200-×-113-px.png
ORGANIZER;CN="Our Redeemer Presbyterian Church":MAILTO:ephfirst@gmail.com
END:VEVENT
BEGIN:VEVENT
DTSTART;TZID=UTC:20251023T180000
DTEND;TZID=UTC:20251023T180000
DTSTAMP:20260421T120527
CREATED:20230118T011326Z
LAST-MODIFIED:20230118T011326Z
UID:10000418-1761242400-1761242400@www.redeemerephrata.org
SUMMARY:Al-Anon Family Group Meetings
DESCRIPTION:Al-Anon members are people\, just like you\, who are worried about someone with a drinking problem.  If you need support\, please join them weekly on Thursdays at 6pm.
URL:https://www.redeemerephrata.org/event/al-anon-family-group-meetings/2025-10-23/
LOCATION:Our Redeemer Presbyterian Church\, 172 Ivy Street SE\, Ephrata\, WA\, 98823\, United States
CATEGORIES:Weekly Worship
ATTACH;FMTTYPE=image/png:https://www.redeemerephrata.org/wp-content/uploads/2023/01/Untitled-design-3.png
END:VEVENT
BEGIN:VEVENT
DTSTART;TZID=UTC:20251022T180000
DTEND;TZID=UTC:20251022T193000
DTSTAMP:20260421T120527
CREATED:20251007T201730Z
LAST-MODIFIED:20251007T213429Z
UID:10003823-1761156000-1761161400@www.redeemerephrata.org
SUMMARY:Youth Group
DESCRIPTION:All 7th-12th graders are welcome.  Please come have dinner\, play games\, and enjoy discussions with Pastor Mark.
URL:https://www.redeemerephrata.org/event/youth-group-2/2025-10-22/
LOCATION:Our Redeemer Presbyterian Church\, 172 Ivy Street SE\, Ephrata\, WA\, 98823\, United States
CATEGORIES:Youth
ATTACH;FMTTYPE=image/jpeg:https://www.redeemerephrata.org/wp-content/uploads/2025/10/Youth-Group-2025-200-x-113-px.jpg
END:VEVENT
BEGIN:VEVENT
DTSTART;TZID=UTC:20251021T190000
DTEND;TZID=UTC:20251021T200000
DTSTAMP:20260421T120527
CREATED:20230118T010533Z
LAST-MODIFIED:20250108T221628Z
UID:10000156-1761073200-1761076800@www.redeemerephrata.org
SUMMARY:Narcotics Anonymous
DESCRIPTION:If you or a loved one are in need of support please consider attending Narcotics Anonymous weekly on Tuesdays at 7pm. 
URL:https://www.redeemerephrata.org/event/narcotics-anonymous/2025-10-21/
LOCATION:Our Redeemer Presbyterian Church\, 172 Ivy Street SE\, Ephrata\, WA\, 98823\, United States
CATEGORIES:Public Meetings
ATTACH;FMTTYPE=image/png:https://www.redeemerephrata.org/wp-content/uploads/2023/01/NA-Events.png
END:VEVENT
BEGIN:VEVENT
DTSTART;TZID=UTC:20251021T090000
DTEND;TZID=UTC:20251021T110000
DTSTAMP:20260421T120527
CREATED:20240102T232309Z
LAST-MODIFIED:20241211T234731Z
UID:10002313-1761037200-1761044400@www.redeemerephrata.org
SUMMARY:Sit n' Stitch
DESCRIPTION:Come sit and stitch with us on Tuesdays from 9-11am.  More info? Talk to Nancy Wenke.
URL:https://www.redeemerephrata.org/event/quilters-group/2025-10-21/
LOCATION:Our Redeemer Presbyterian Church\, 172 Ivy Street SE\, Ephrata\, WA\, 98823\, United States
CATEGORIES:Fellowship
ATTACH;FMTTYPE=image/jpeg:https://www.redeemerephrata.org/wp-content/uploads/2024/01/Sit-n-Stitch.jpg
END:VEVENT
END:VCALENDAR