BEGIN:VCALENDAR
VERSION:2.0
PRODID:-//Our Redeemer Presbyterian Church - ECPv6.15.20//NONSGML v1.0//EN
CALSCALE:GREGORIAN
METHOD:PUBLISH
X-ORIGINAL-URL:https://www.redeemerephrata.org
X-WR-CALDESC:Events for Our Redeemer Presbyterian Church
REFRESH-INTERVAL;VALUE=DURATION:PT1H
X-Robots-Tag:noindex
X-PUBLISHED-TTL:PT1H
BEGIN:VTIMEZONE
TZID:UTC
BEGIN:STANDARD
TZOFFSETFROM:+0000
TZOFFSETTO:+0000
TZNAME:UTC
DTSTART:20270101T000000
END:STANDARD
END:VTIMEZONE
BEGIN:VEVENT
DTSTART;TZID=UTC:20280425T090000
DTEND;TZID=UTC:20280425T110000
DTSTAMP:20260422T093446
CREATED:20240102T232309Z
LAST-MODIFIED:20241211T234731Z
UID:10002444-1840266000-1840273200@www.redeemerephrata.org
SUMMARY:Sit n' Stitch
DESCRIPTION:Come sit and stitch with us on Tuesdays from 9-11am.  More info? Talk to Nancy Wenke.
URL:https://www.redeemerephrata.org/event/quilters-group/2028-04-25/
LOCATION:Our Redeemer Presbyterian Church\, 172 Ivy Street SE\, Ephrata\, WA\, 98823\, United States
CATEGORIES:Fellowship
ATTACH;FMTTYPE=image/jpeg:https://www.redeemerephrata.org/wp-content/uploads/2024/01/Sit-n-Stitch.jpg
END:VEVENT
BEGIN:VEVENT
DTSTART;TZID=UTC:20280425T190000
DTEND;TZID=UTC:20280425T200000
DTSTAMP:20260422T093446
CREATED:20230118T010533Z
LAST-MODIFIED:20250108T221628Z
UID:10002516-1840302000-1840305600@www.redeemerephrata.org
SUMMARY:Narcotics Anonymous
DESCRIPTION:If you or a loved one are in need of support please consider attending Narcotics Anonymous weekly on Tuesdays at 7pm. 
URL:https://www.redeemerephrata.org/event/narcotics-anonymous/2028-04-25/
LOCATION:Our Redeemer Presbyterian Church\, 172 Ivy Street SE\, Ephrata\, WA\, 98823\, United States
CATEGORIES:Public Meetings
ATTACH;FMTTYPE=image/png:https://www.redeemerephrata.org/wp-content/uploads/2023/01/NA-Events.png
END:VEVENT
BEGIN:VEVENT
DTSTART;TZID=UTC:20280427T180000
DTEND;TZID=UTC:20280427T180000
DTSTAMP:20260422T093446
CREATED:20230118T011326Z
LAST-MODIFIED:20230118T011326Z
UID:10002624-1840471200-1840471200@www.redeemerephrata.org
SUMMARY:Al-Anon Family Group Meetings
DESCRIPTION:Al-Anon members are people\, just like you\, who are worried about someone with a drinking problem.  If you need support\, please join them weekly on Thursdays at 6pm.
URL:https://www.redeemerephrata.org/event/al-anon-family-group-meetings/2028-04-27/
LOCATION:Our Redeemer Presbyterian Church\, 172 Ivy Street SE\, Ephrata\, WA\, 98823\, United States
CATEGORIES:Weekly Worship
ATTACH;FMTTYPE=image/png:https://www.redeemerephrata.org/wp-content/uploads/2023/01/Untitled-design-3.png
END:VEVENT
BEGIN:VEVENT
DTSTART;TZID=UTC:20280430T090000
DTEND;TZID=UTC:20280430T103000
DTSTAMP:20260422T093446
CREATED:20230118T014433Z
LAST-MODIFIED:20250303T231554Z
UID:10002185-1840698000-1840703400@www.redeemerephrata.org
SUMMARY:Sunday Morning Worship
DESCRIPTION:Please join us for our weekly worship at 9am. All are welcome and encouraged to attend.  Nursery care for infants to 2nd grade are provided during the worship service.
URL:https://www.redeemerephrata.org/event/sunday-morning-worship/2028-04-30/
LOCATION:Our Redeemer Presbyterian Church\, 172 Ivy Street SE\, Ephrata\, WA\, 98823\, United States
CATEGORIES:Weekly Worship
ATTACH;FMTTYPE=image/png:https://www.redeemerephrata.org/wp-content/uploads/2023/01/Worship-200-×-113-px.png
ORGANIZER;CN="Our Redeemer Presbyterian Church":MAILTO:ephfirst@gmail.com
END:VEVENT
BEGIN:VEVENT
DTSTART;TZID=UTC:20280430T093000
DTEND;TZID=UTC:20280430T103000
DTSTAMP:20260422T093446
CREATED:20240829T220921Z
LAST-MODIFIED:20240829T221208Z
UID:10003259-1840699800-1840703400@www.redeemerephrata.org
SUMMARY:Children's Sunday School
DESCRIPTION:Youth ages 3yrs-6th grade are welcome to join us each week to learn about God’s big story. \nGod’s Big Story (GBS) invites children to enter into the narrative of God’s abounding faithfulness and love for all of his beloved children. Our aim is that children and their teachers might hear the gospel of Jesus Christ\, know Jesus as their Lord and Savior and experience the fullness of new life in Christ as part of His body\, the church. \nLearn more about our curriculum here. 
URL:https://www.redeemerephrata.org/event/sunday-school/2028-04-30/
LOCATION:Our Redeemer Presbyterian Church\, 172 Ivy Street SE\, Ephrata\, WA\, 98823\, United States
CATEGORIES:Weekly Worship,Youth
ATTACH;FMTTYPE=image/jpeg:https://www.redeemerephrata.org/wp-content/uploads/2024/08/Gods-Big-Story.jpg
ORGANIZER;CN="Our Redeemer Presbyterian Church":MAILTO:ephfirst@gmail.com
END:VEVENT
BEGIN:VEVENT
DTSTART;TZID=UTC:20280502T090000
DTEND;TZID=UTC:20280502T110000
DTSTAMP:20260422T093446
CREATED:20240102T232309Z
LAST-MODIFIED:20241211T234731Z
UID:10002445-1840870800-1840878000@www.redeemerephrata.org
SUMMARY:Sit n' Stitch
DESCRIPTION:Come sit and stitch with us on Tuesdays from 9-11am.  More info? Talk to Nancy Wenke.
URL:https://www.redeemerephrata.org/event/quilters-group/2028-05-02/
LOCATION:Our Redeemer Presbyterian Church\, 172 Ivy Street SE\, Ephrata\, WA\, 98823\, United States
CATEGORIES:Fellowship
ATTACH;FMTTYPE=image/jpeg:https://www.redeemerephrata.org/wp-content/uploads/2024/01/Sit-n-Stitch.jpg
END:VEVENT
BEGIN:VEVENT
DTSTART;TZID=UTC:20280502T190000
DTEND;TZID=UTC:20280502T200000
DTSTAMP:20260422T093446
CREATED:20230118T010533Z
LAST-MODIFIED:20250108T221628Z
UID:10002517-1840906800-1840910400@www.redeemerephrata.org
SUMMARY:Narcotics Anonymous
DESCRIPTION:If you or a loved one are in need of support please consider attending Narcotics Anonymous weekly on Tuesdays at 7pm. 
URL:https://www.redeemerephrata.org/event/narcotics-anonymous/2028-05-02/
LOCATION:Our Redeemer Presbyterian Church\, 172 Ivy Street SE\, Ephrata\, WA\, 98823\, United States
CATEGORIES:Public Meetings
ATTACH;FMTTYPE=image/png:https://www.redeemerephrata.org/wp-content/uploads/2023/01/NA-Events.png
END:VEVENT
BEGIN:VEVENT
DTSTART;TZID=UTC:20280504T180000
DTEND;TZID=UTC:20280504T180000
DTSTAMP:20260422T093446
CREATED:20230118T011326Z
LAST-MODIFIED:20230118T011326Z
UID:10002625-1841076000-1841076000@www.redeemerephrata.org
SUMMARY:Al-Anon Family Group Meetings
DESCRIPTION:Al-Anon members are people\, just like you\, who are worried about someone with a drinking problem.  If you need support\, please join them weekly on Thursdays at 6pm.
URL:https://www.redeemerephrata.org/event/al-anon-family-group-meetings/2028-05-04/
LOCATION:Our Redeemer Presbyterian Church\, 172 Ivy Street SE\, Ephrata\, WA\, 98823\, United States
CATEGORIES:Weekly Worship
ATTACH;FMTTYPE=image/png:https://www.redeemerephrata.org/wp-content/uploads/2023/01/Untitled-design-3.png
END:VEVENT
BEGIN:VEVENT
DTSTART;TZID=UTC:20280507T090000
DTEND;TZID=UTC:20280507T103000
DTSTAMP:20260422T093446
CREATED:20230118T014433Z
LAST-MODIFIED:20250303T231554Z
UID:10002186-1841302800-1841308200@www.redeemerephrata.org
SUMMARY:Sunday Morning Worship
DESCRIPTION:Please join us for our weekly worship at 9am. All are welcome and encouraged to attend.  Nursery care for infants to 2nd grade are provided during the worship service.
URL:https://www.redeemerephrata.org/event/sunday-morning-worship/2028-05-07/
LOCATION:Our Redeemer Presbyterian Church\, 172 Ivy Street SE\, Ephrata\, WA\, 98823\, United States
CATEGORIES:Weekly Worship
ATTACH;FMTTYPE=image/png:https://www.redeemerephrata.org/wp-content/uploads/2023/01/Worship-200-×-113-px.png
ORGANIZER;CN="Our Redeemer Presbyterian Church":MAILTO:ephfirst@gmail.com
END:VEVENT
BEGIN:VEVENT
DTSTART;TZID=UTC:20280507T093000
DTEND;TZID=UTC:20280507T103000
DTSTAMP:20260422T093446
CREATED:20240829T220921Z
LAST-MODIFIED:20240829T221208Z
UID:10003260-1841304600-1841308200@www.redeemerephrata.org
SUMMARY:Children's Sunday School
DESCRIPTION:Youth ages 3yrs-6th grade are welcome to join us each week to learn about God’s big story. \nGod’s Big Story (GBS) invites children to enter into the narrative of God’s abounding faithfulness and love for all of his beloved children. Our aim is that children and their teachers might hear the gospel of Jesus Christ\, know Jesus as their Lord and Savior and experience the fullness of new life in Christ as part of His body\, the church. \nLearn more about our curriculum here. 
URL:https://www.redeemerephrata.org/event/sunday-school/2028-05-07/
LOCATION:Our Redeemer Presbyterian Church\, 172 Ivy Street SE\, Ephrata\, WA\, 98823\, United States
CATEGORIES:Weekly Worship,Youth
ATTACH;FMTTYPE=image/jpeg:https://www.redeemerephrata.org/wp-content/uploads/2024/08/Gods-Big-Story.jpg
ORGANIZER;CN="Our Redeemer Presbyterian Church":MAILTO:ephfirst@gmail.com
END:VEVENT
BEGIN:VEVENT
DTSTART;TZID=UTC:20280509T090000
DTEND;TZID=UTC:20280509T110000
DTSTAMP:20260422T093446
CREATED:20240102T232309Z
LAST-MODIFIED:20241211T234731Z
UID:10002446-1841475600-1841482800@www.redeemerephrata.org
SUMMARY:Sit n' Stitch
DESCRIPTION:Come sit and stitch with us on Tuesdays from 9-11am.  More info? Talk to Nancy Wenke.
URL:https://www.redeemerephrata.org/event/quilters-group/2028-05-09/
LOCATION:Our Redeemer Presbyterian Church\, 172 Ivy Street SE\, Ephrata\, WA\, 98823\, United States
CATEGORIES:Fellowship
ATTACH;FMTTYPE=image/jpeg:https://www.redeemerephrata.org/wp-content/uploads/2024/01/Sit-n-Stitch.jpg
END:VEVENT
BEGIN:VEVENT
DTSTART;TZID=UTC:20280509T190000
DTEND;TZID=UTC:20280509T200000
DTSTAMP:20260422T093446
CREATED:20230118T010533Z
LAST-MODIFIED:20250108T221628Z
UID:10002518-1841511600-1841515200@www.redeemerephrata.org
SUMMARY:Narcotics Anonymous
DESCRIPTION:If you or a loved one are in need of support please consider attending Narcotics Anonymous weekly on Tuesdays at 7pm. 
URL:https://www.redeemerephrata.org/event/narcotics-anonymous/2028-05-09/
LOCATION:Our Redeemer Presbyterian Church\, 172 Ivy Street SE\, Ephrata\, WA\, 98823\, United States
CATEGORIES:Public Meetings
ATTACH;FMTTYPE=image/png:https://www.redeemerephrata.org/wp-content/uploads/2023/01/NA-Events.png
END:VEVENT
BEGIN:VEVENT
DTSTART;TZID=UTC:20280511T180000
DTEND;TZID=UTC:20280511T180000
DTSTAMP:20260422T093446
CREATED:20230118T011326Z
LAST-MODIFIED:20230118T011326Z
UID:10002626-1841680800-1841680800@www.redeemerephrata.org
SUMMARY:Al-Anon Family Group Meetings
DESCRIPTION:Al-Anon members are people\, just like you\, who are worried about someone with a drinking problem.  If you need support\, please join them weekly on Thursdays at 6pm.
URL:https://www.redeemerephrata.org/event/al-anon-family-group-meetings/2028-05-11/
LOCATION:Our Redeemer Presbyterian Church\, 172 Ivy Street SE\, Ephrata\, WA\, 98823\, United States
CATEGORIES:Weekly Worship
ATTACH;FMTTYPE=image/png:https://www.redeemerephrata.org/wp-content/uploads/2023/01/Untitled-design-3.png
END:VEVENT
BEGIN:VEVENT
DTSTART;TZID=UTC:20280514T090000
DTEND;TZID=UTC:20280514T103000
DTSTAMP:20260422T093446
CREATED:20230118T014433Z
LAST-MODIFIED:20250303T231554Z
UID:10002187-1841907600-1841913000@www.redeemerephrata.org
SUMMARY:Sunday Morning Worship
DESCRIPTION:Please join us for our weekly worship at 9am. All are welcome and encouraged to attend.  Nursery care for infants to 2nd grade are provided during the worship service.
URL:https://www.redeemerephrata.org/event/sunday-morning-worship/2028-05-14/
LOCATION:Our Redeemer Presbyterian Church\, 172 Ivy Street SE\, Ephrata\, WA\, 98823\, United States
CATEGORIES:Weekly Worship
ATTACH;FMTTYPE=image/png:https://www.redeemerephrata.org/wp-content/uploads/2023/01/Worship-200-×-113-px.png
ORGANIZER;CN="Our Redeemer Presbyterian Church":MAILTO:ephfirst@gmail.com
END:VEVENT
BEGIN:VEVENT
DTSTART;TZID=UTC:20280514T093000
DTEND;TZID=UTC:20280514T103000
DTSTAMP:20260422T093446
CREATED:20240829T220921Z
LAST-MODIFIED:20240829T221208Z
UID:10003261-1841909400-1841913000@www.redeemerephrata.org
SUMMARY:Children's Sunday School
DESCRIPTION:Youth ages 3yrs-6th grade are welcome to join us each week to learn about God’s big story. \nGod’s Big Story (GBS) invites children to enter into the narrative of God’s abounding faithfulness and love for all of his beloved children. Our aim is that children and their teachers might hear the gospel of Jesus Christ\, know Jesus as their Lord and Savior and experience the fullness of new life in Christ as part of His body\, the church. \nLearn more about our curriculum here. 
URL:https://www.redeemerephrata.org/event/sunday-school/2028-05-14/
LOCATION:Our Redeemer Presbyterian Church\, 172 Ivy Street SE\, Ephrata\, WA\, 98823\, United States
CATEGORIES:Weekly Worship,Youth
ATTACH;FMTTYPE=image/jpeg:https://www.redeemerephrata.org/wp-content/uploads/2024/08/Gods-Big-Story.jpg
ORGANIZER;CN="Our Redeemer Presbyterian Church":MAILTO:ephfirst@gmail.com
END:VEVENT
BEGIN:VEVENT
DTSTART;TZID=UTC:20280516T090000
DTEND;TZID=UTC:20280516T110000
DTSTAMP:20260422T093446
CREATED:20240102T232309Z
LAST-MODIFIED:20241211T234731Z
UID:10002447-1842080400-1842087600@www.redeemerephrata.org
SUMMARY:Sit n' Stitch
DESCRIPTION:Come sit and stitch with us on Tuesdays from 9-11am.  More info? Talk to Nancy Wenke.
URL:https://www.redeemerephrata.org/event/quilters-group/2028-05-16/
LOCATION:Our Redeemer Presbyterian Church\, 172 Ivy Street SE\, Ephrata\, WA\, 98823\, United States
CATEGORIES:Fellowship
ATTACH;FMTTYPE=image/jpeg:https://www.redeemerephrata.org/wp-content/uploads/2024/01/Sit-n-Stitch.jpg
END:VEVENT
BEGIN:VEVENT
DTSTART;TZID=UTC:20280516T190000
DTEND;TZID=UTC:20280516T200000
DTSTAMP:20260422T093446
CREATED:20230118T010533Z
LAST-MODIFIED:20250108T221628Z
UID:10002519-1842116400-1842120000@www.redeemerephrata.org
SUMMARY:Narcotics Anonymous
DESCRIPTION:If you or a loved one are in need of support please consider attending Narcotics Anonymous weekly on Tuesdays at 7pm. 
URL:https://www.redeemerephrata.org/event/narcotics-anonymous/2028-05-16/
LOCATION:Our Redeemer Presbyterian Church\, 172 Ivy Street SE\, Ephrata\, WA\, 98823\, United States
CATEGORIES:Public Meetings
ATTACH;FMTTYPE=image/png:https://www.redeemerephrata.org/wp-content/uploads/2023/01/NA-Events.png
END:VEVENT
BEGIN:VEVENT
DTSTART;TZID=UTC:20280518T180000
DTEND;TZID=UTC:20280518T180000
DTSTAMP:20260422T093446
CREATED:20230118T011326Z
LAST-MODIFIED:20230118T011326Z
UID:10002627-1842285600-1842285600@www.redeemerephrata.org
SUMMARY:Al-Anon Family Group Meetings
DESCRIPTION:Al-Anon members are people\, just like you\, who are worried about someone with a drinking problem.  If you need support\, please join them weekly on Thursdays at 6pm.
URL:https://www.redeemerephrata.org/event/al-anon-family-group-meetings/2028-05-18/
LOCATION:Our Redeemer Presbyterian Church\, 172 Ivy Street SE\, Ephrata\, WA\, 98823\, United States
CATEGORIES:Weekly Worship
ATTACH;FMTTYPE=image/png:https://www.redeemerephrata.org/wp-content/uploads/2023/01/Untitled-design-3.png
END:VEVENT
BEGIN:VEVENT
DTSTART;TZID=UTC:20280521T090000
DTEND;TZID=UTC:20280521T103000
DTSTAMP:20260422T093446
CREATED:20230118T014433Z
LAST-MODIFIED:20250303T231554Z
UID:10002188-1842512400-1842517800@www.redeemerephrata.org
SUMMARY:Sunday Morning Worship
DESCRIPTION:Please join us for our weekly worship at 9am. All are welcome and encouraged to attend.  Nursery care for infants to 2nd grade are provided during the worship service.
URL:https://www.redeemerephrata.org/event/sunday-morning-worship/2028-05-21/
LOCATION:Our Redeemer Presbyterian Church\, 172 Ivy Street SE\, Ephrata\, WA\, 98823\, United States
CATEGORIES:Weekly Worship
ATTACH;FMTTYPE=image/png:https://www.redeemerephrata.org/wp-content/uploads/2023/01/Worship-200-×-113-px.png
ORGANIZER;CN="Our Redeemer Presbyterian Church":MAILTO:ephfirst@gmail.com
END:VEVENT
BEGIN:VEVENT
DTSTART;TZID=UTC:20280521T093000
DTEND;TZID=UTC:20280521T103000
DTSTAMP:20260422T093446
CREATED:20240829T220921Z
LAST-MODIFIED:20240829T221208Z
UID:10003262-1842514200-1842517800@www.redeemerephrata.org
SUMMARY:Children's Sunday School
DESCRIPTION:Youth ages 3yrs-6th grade are welcome to join us each week to learn about God’s big story. \nGod’s Big Story (GBS) invites children to enter into the narrative of God’s abounding faithfulness and love for all of his beloved children. Our aim is that children and their teachers might hear the gospel of Jesus Christ\, know Jesus as their Lord and Savior and experience the fullness of new life in Christ as part of His body\, the church. \nLearn more about our curriculum here. 
URL:https://www.redeemerephrata.org/event/sunday-school/2028-05-21/
LOCATION:Our Redeemer Presbyterian Church\, 172 Ivy Street SE\, Ephrata\, WA\, 98823\, United States
CATEGORIES:Weekly Worship,Youth
ATTACH;FMTTYPE=image/jpeg:https://www.redeemerephrata.org/wp-content/uploads/2024/08/Gods-Big-Story.jpg
ORGANIZER;CN="Our Redeemer Presbyterian Church":MAILTO:ephfirst@gmail.com
END:VEVENT
BEGIN:VEVENT
DTSTART;TZID=UTC:20280523T090000
DTEND;TZID=UTC:20280523T110000
DTSTAMP:20260422T093446
CREATED:20240102T232309Z
LAST-MODIFIED:20241211T234731Z
UID:10002448-1842685200-1842692400@www.redeemerephrata.org
SUMMARY:Sit n' Stitch
DESCRIPTION:Come sit and stitch with us on Tuesdays from 9-11am.  More info? Talk to Nancy Wenke.
URL:https://www.redeemerephrata.org/event/quilters-group/2028-05-23/
LOCATION:Our Redeemer Presbyterian Church\, 172 Ivy Street SE\, Ephrata\, WA\, 98823\, United States
CATEGORIES:Fellowship
ATTACH;FMTTYPE=image/jpeg:https://www.redeemerephrata.org/wp-content/uploads/2024/01/Sit-n-Stitch.jpg
END:VEVENT
BEGIN:VEVENT
DTSTART;TZID=UTC:20280523T190000
DTEND;TZID=UTC:20280523T200000
DTSTAMP:20260422T093446
CREATED:20230118T010533Z
LAST-MODIFIED:20250108T221628Z
UID:10002520-1842721200-1842724800@www.redeemerephrata.org
SUMMARY:Narcotics Anonymous
DESCRIPTION:If you or a loved one are in need of support please consider attending Narcotics Anonymous weekly on Tuesdays at 7pm. 
URL:https://www.redeemerephrata.org/event/narcotics-anonymous/2028-05-23/
LOCATION:Our Redeemer Presbyterian Church\, 172 Ivy Street SE\, Ephrata\, WA\, 98823\, United States
CATEGORIES:Public Meetings
ATTACH;FMTTYPE=image/png:https://www.redeemerephrata.org/wp-content/uploads/2023/01/NA-Events.png
END:VEVENT
BEGIN:VEVENT
DTSTART;TZID=UTC:20280525T180000
DTEND;TZID=UTC:20280525T180000
DTSTAMP:20260422T093446
CREATED:20230118T011326Z
LAST-MODIFIED:20230118T011326Z
UID:10002628-1842890400-1842890400@www.redeemerephrata.org
SUMMARY:Al-Anon Family Group Meetings
DESCRIPTION:Al-Anon members are people\, just like you\, who are worried about someone with a drinking problem.  If you need support\, please join them weekly on Thursdays at 6pm.
URL:https://www.redeemerephrata.org/event/al-anon-family-group-meetings/2028-05-25/
LOCATION:Our Redeemer Presbyterian Church\, 172 Ivy Street SE\, Ephrata\, WA\, 98823\, United States
CATEGORIES:Weekly Worship
ATTACH;FMTTYPE=image/png:https://www.redeemerephrata.org/wp-content/uploads/2023/01/Untitled-design-3.png
END:VEVENT
BEGIN:VEVENT
DTSTART;TZID=UTC:20280528T090000
DTEND;TZID=UTC:20280528T103000
DTSTAMP:20260422T093446
CREATED:20230118T014433Z
LAST-MODIFIED:20250303T231554Z
UID:10002189-1843117200-1843122600@www.redeemerephrata.org
SUMMARY:Sunday Morning Worship
DESCRIPTION:Please join us for our weekly worship at 9am. All are welcome and encouraged to attend.  Nursery care for infants to 2nd grade are provided during the worship service.
URL:https://www.redeemerephrata.org/event/sunday-morning-worship/2028-05-28/
LOCATION:Our Redeemer Presbyterian Church\, 172 Ivy Street SE\, Ephrata\, WA\, 98823\, United States
CATEGORIES:Weekly Worship
ATTACH;FMTTYPE=image/png:https://www.redeemerephrata.org/wp-content/uploads/2023/01/Worship-200-×-113-px.png
ORGANIZER;CN="Our Redeemer Presbyterian Church":MAILTO:ephfirst@gmail.com
END:VEVENT
BEGIN:VEVENT
DTSTART;TZID=UTC:20280528T093000
DTEND;TZID=UTC:20280528T103000
DTSTAMP:20260422T093446
CREATED:20240829T220921Z
LAST-MODIFIED:20240829T221208Z
UID:10003263-1843119000-1843122600@www.redeemerephrata.org
SUMMARY:Children's Sunday School
DESCRIPTION:Youth ages 3yrs-6th grade are welcome to join us each week to learn about God’s big story. \nGod’s Big Story (GBS) invites children to enter into the narrative of God’s abounding faithfulness and love for all of his beloved children. Our aim is that children and their teachers might hear the gospel of Jesus Christ\, know Jesus as their Lord and Savior and experience the fullness of new life in Christ as part of His body\, the church. \nLearn more about our curriculum here. 
URL:https://www.redeemerephrata.org/event/sunday-school/2028-05-28/
LOCATION:Our Redeemer Presbyterian Church\, 172 Ivy Street SE\, Ephrata\, WA\, 98823\, United States
CATEGORIES:Weekly Worship,Youth
ATTACH;FMTTYPE=image/jpeg:https://www.redeemerephrata.org/wp-content/uploads/2024/08/Gods-Big-Story.jpg
ORGANIZER;CN="Our Redeemer Presbyterian Church":MAILTO:ephfirst@gmail.com
END:VEVENT
BEGIN:VEVENT
DTSTART;TZID=UTC:20280530T090000
DTEND;TZID=UTC:20280530T110000
DTSTAMP:20260422T093446
CREATED:20240102T232309Z
LAST-MODIFIED:20241211T234731Z
UID:10002449-1843290000-1843297200@www.redeemerephrata.org
SUMMARY:Sit n' Stitch
DESCRIPTION:Come sit and stitch with us on Tuesdays from 9-11am.  More info? Talk to Nancy Wenke.
URL:https://www.redeemerephrata.org/event/quilters-group/2028-05-30/
LOCATION:Our Redeemer Presbyterian Church\, 172 Ivy Street SE\, Ephrata\, WA\, 98823\, United States
CATEGORIES:Fellowship
ATTACH;FMTTYPE=image/jpeg:https://www.redeemerephrata.org/wp-content/uploads/2024/01/Sit-n-Stitch.jpg
END:VEVENT
BEGIN:VEVENT
DTSTART;TZID=UTC:20280530T190000
DTEND;TZID=UTC:20280530T200000
DTSTAMP:20260422T093446
CREATED:20230118T010533Z
LAST-MODIFIED:20250108T221628Z
UID:10002521-1843326000-1843329600@www.redeemerephrata.org
SUMMARY:Narcotics Anonymous
DESCRIPTION:If you or a loved one are in need of support please consider attending Narcotics Anonymous weekly on Tuesdays at 7pm. 
URL:https://www.redeemerephrata.org/event/narcotics-anonymous/2028-05-30/
LOCATION:Our Redeemer Presbyterian Church\, 172 Ivy Street SE\, Ephrata\, WA\, 98823\, United States
CATEGORIES:Public Meetings
ATTACH;FMTTYPE=image/png:https://www.redeemerephrata.org/wp-content/uploads/2023/01/NA-Events.png
END:VEVENT
BEGIN:VEVENT
DTSTART;TZID=UTC:20280601T180000
DTEND;TZID=UTC:20280601T180000
DTSTAMP:20260422T093446
CREATED:20230118T011326Z
LAST-MODIFIED:20230118T011326Z
UID:10002629-1843495200-1843495200@www.redeemerephrata.org
SUMMARY:Al-Anon Family Group Meetings
DESCRIPTION:Al-Anon members are people\, just like you\, who are worried about someone with a drinking problem.  If you need support\, please join them weekly on Thursdays at 6pm.
URL:https://www.redeemerephrata.org/event/al-anon-family-group-meetings/2028-06-01/
LOCATION:Our Redeemer Presbyterian Church\, 172 Ivy Street SE\, Ephrata\, WA\, 98823\, United States
CATEGORIES:Weekly Worship
ATTACH;FMTTYPE=image/png:https://www.redeemerephrata.org/wp-content/uploads/2023/01/Untitled-design-3.png
END:VEVENT
BEGIN:VEVENT
DTSTART;TZID=UTC:20280604T090000
DTEND;TZID=UTC:20280604T103000
DTSTAMP:20260422T093446
CREATED:20230118T014433Z
LAST-MODIFIED:20250303T231554Z
UID:10002190-1843722000-1843727400@www.redeemerephrata.org
SUMMARY:Sunday Morning Worship
DESCRIPTION:Please join us for our weekly worship at 9am. All are welcome and encouraged to attend.  Nursery care for infants to 2nd grade are provided during the worship service.
URL:https://www.redeemerephrata.org/event/sunday-morning-worship/2028-06-04/
LOCATION:Our Redeemer Presbyterian Church\, 172 Ivy Street SE\, Ephrata\, WA\, 98823\, United States
CATEGORIES:Weekly Worship
ATTACH;FMTTYPE=image/png:https://www.redeemerephrata.org/wp-content/uploads/2023/01/Worship-200-×-113-px.png
ORGANIZER;CN="Our Redeemer Presbyterian Church":MAILTO:ephfirst@gmail.com
END:VEVENT
BEGIN:VEVENT
DTSTART;TZID=UTC:20280604T093000
DTEND;TZID=UTC:20280604T103000
DTSTAMP:20260422T093446
CREATED:20240829T220921Z
LAST-MODIFIED:20240829T221208Z
UID:10003264-1843723800-1843727400@www.redeemerephrata.org
SUMMARY:Children's Sunday School
DESCRIPTION:Youth ages 3yrs-6th grade are welcome to join us each week to learn about God’s big story. \nGod’s Big Story (GBS) invites children to enter into the narrative of God’s abounding faithfulness and love for all of his beloved children. Our aim is that children and their teachers might hear the gospel of Jesus Christ\, know Jesus as their Lord and Savior and experience the fullness of new life in Christ as part of His body\, the church. \nLearn more about our curriculum here. 
URL:https://www.redeemerephrata.org/event/sunday-school/2028-06-04/
LOCATION:Our Redeemer Presbyterian Church\, 172 Ivy Street SE\, Ephrata\, WA\, 98823\, United States
CATEGORIES:Weekly Worship,Youth
ATTACH;FMTTYPE=image/jpeg:https://www.redeemerephrata.org/wp-content/uploads/2024/08/Gods-Big-Story.jpg
ORGANIZER;CN="Our Redeemer Presbyterian Church":MAILTO:ephfirst@gmail.com
END:VEVENT
END:VCALENDAR