BEGIN:VCALENDAR
VERSION:2.0
PRODID:-//Our Redeemer Presbyterian Church - ECPv6.15.20//NONSGML v1.0//EN
CALSCALE:GREGORIAN
METHOD:PUBLISH
X-WR-CALNAME:Our Redeemer Presbyterian Church
X-ORIGINAL-URL:https://www.redeemerephrata.org
X-WR-CALDESC:Events for Our Redeemer Presbyterian Church
REFRESH-INTERVAL;VALUE=DURATION:PT1H
X-Robots-Tag:noindex
X-PUBLISHED-TTL:PT1H
BEGIN:VTIMEZONE
TZID:UTC
BEGIN:STANDARD
TZOFFSETFROM:+0000
TZOFFSETTO:+0000
TZNAME:UTC
DTSTART:20270101T000000
END:STANDARD
END:VTIMEZONE
BEGIN:VEVENT
DTSTART;TZID=UTC:20281015T090000
DTEND;TZID=UTC:20281015T103000
DTSTAMP:20260423T181224
CREATED:20230118T014433Z
LAST-MODIFIED:20250303T231554Z
UID:10002663-1855213200-1855218600@www.redeemerephrata.org
SUMMARY:Sunday Morning Worship
DESCRIPTION:Please join us for our weekly worship at 9am. All are welcome and encouraged to attend.  Nursery care for infants to 2nd grade are provided during the worship service.
URL:https://www.redeemerephrata.org/event/sunday-morning-worship/2028-10-15/
LOCATION:Our Redeemer Presbyterian Church\, 172 Ivy Street SE\, Ephrata\, WA\, 98823\, United States
CATEGORIES:Weekly Worship
ATTACH;FMTTYPE=image/png:https://www.redeemerephrata.org/wp-content/uploads/2023/01/Worship-200-×-113-px.png
ORGANIZER;CN="Our Redeemer Presbyterian Church":MAILTO:ephfirst@gmail.com
END:VEVENT
BEGIN:VEVENT
DTSTART;TZID=UTC:20281015T093000
DTEND;TZID=UTC:20281015T103000
DTSTAMP:20260423T181224
CREATED:20240829T220921Z
LAST-MODIFIED:20240829T221208Z
UID:10003283-1855215000-1855218600@www.redeemerephrata.org
SUMMARY:Children's Sunday School
DESCRIPTION:Youth ages 3yrs-6th grade are welcome to join us each week to learn about God’s big story. \nGod’s Big Story (GBS) invites children to enter into the narrative of God’s abounding faithfulness and love for all of his beloved children. Our aim is that children and their teachers might hear the gospel of Jesus Christ\, know Jesus as their Lord and Savior and experience the fullness of new life in Christ as part of His body\, the church. \nLearn more about our curriculum here. 
URL:https://www.redeemerephrata.org/event/sunday-school/2028-10-15/
LOCATION:Our Redeemer Presbyterian Church\, 172 Ivy Street SE\, Ephrata\, WA\, 98823\, United States
CATEGORIES:Weekly Worship,Youth
ATTACH;FMTTYPE=image/jpeg:https://www.redeemerephrata.org/wp-content/uploads/2024/08/Gods-Big-Story.jpg
ORGANIZER;CN="Our Redeemer Presbyterian Church":MAILTO:ephfirst@gmail.com
END:VEVENT
BEGIN:VEVENT
DTSTART;TZID=UTC:20281017T090000
DTEND;TZID=UTC:20281017T110000
DTSTAMP:20260423T181224
CREATED:20240102T232309Z
LAST-MODIFIED:20241211T234731Z
UID:10002469-1855386000-1855393200@www.redeemerephrata.org
SUMMARY:Sit n' Stitch
DESCRIPTION:Come sit and stitch with us on Tuesdays from 9-11am.  More info? Talk to Nancy Wenke.
URL:https://www.redeemerephrata.org/event/quilters-group/2028-10-17/
LOCATION:Our Redeemer Presbyterian Church\, 172 Ivy Street SE\, Ephrata\, WA\, 98823\, United States
CATEGORIES:Fellowship
ATTACH;FMTTYPE=image/jpeg:https://www.redeemerephrata.org/wp-content/uploads/2024/01/Sit-n-Stitch.jpg
END:VEVENT
BEGIN:VEVENT
DTSTART;TZID=UTC:20281017T190000
DTEND;TZID=UTC:20281017T200000
DTSTAMP:20260423T181224
CREATED:20230118T010533Z
LAST-MODIFIED:20250108T221628Z
UID:10002541-1855422000-1855425600@www.redeemerephrata.org
SUMMARY:Narcotics Anonymous
DESCRIPTION:If you or a loved one are in need of support please consider attending Narcotics Anonymous weekly on Tuesdays at 7pm. 
URL:https://www.redeemerephrata.org/event/narcotics-anonymous/2028-10-17/
LOCATION:Our Redeemer Presbyterian Church\, 172 Ivy Street SE\, Ephrata\, WA\, 98823\, United States
CATEGORIES:Public Meetings
ATTACH;FMTTYPE=image/png:https://www.redeemerephrata.org/wp-content/uploads/2023/01/NA-Events.png
END:VEVENT
BEGIN:VEVENT
DTSTART;TZID=UTC:20281019T180000
DTEND;TZID=UTC:20281019T180000
DTSTAMP:20260423T181224
CREATED:20230118T011326Z
LAST-MODIFIED:20230118T011326Z
UID:10002649-1855591200-1855591200@www.redeemerephrata.org
SUMMARY:Al-Anon Family Group Meetings
DESCRIPTION:Al-Anon members are people\, just like you\, who are worried about someone with a drinking problem.  If you need support\, please join them weekly on Thursdays at 6pm.
URL:https://www.redeemerephrata.org/event/al-anon-family-group-meetings/2028-10-19/
LOCATION:Our Redeemer Presbyterian Church\, 172 Ivy Street SE\, Ephrata\, WA\, 98823\, United States
CATEGORIES:Weekly Worship
ATTACH;FMTTYPE=image/png:https://www.redeemerephrata.org/wp-content/uploads/2023/01/Untitled-design-3.png
END:VEVENT
BEGIN:VEVENT
DTSTART;TZID=UTC:20281022T090000
DTEND;TZID=UTC:20281022T103000
DTSTAMP:20260423T181224
CREATED:20230118T014433Z
LAST-MODIFIED:20250303T231554Z
UID:10002664-1855818000-1855823400@www.redeemerephrata.org
SUMMARY:Sunday Morning Worship
DESCRIPTION:Please join us for our weekly worship at 9am. All are welcome and encouraged to attend.  Nursery care for infants to 2nd grade are provided during the worship service.
URL:https://www.redeemerephrata.org/event/sunday-morning-worship/2028-10-22/
LOCATION:Our Redeemer Presbyterian Church\, 172 Ivy Street SE\, Ephrata\, WA\, 98823\, United States
CATEGORIES:Weekly Worship
ATTACH;FMTTYPE=image/png:https://www.redeemerephrata.org/wp-content/uploads/2023/01/Worship-200-×-113-px.png
ORGANIZER;CN="Our Redeemer Presbyterian Church":MAILTO:ephfirst@gmail.com
END:VEVENT
BEGIN:VEVENT
DTSTART;TZID=UTC:20281022T093000
DTEND;TZID=UTC:20281022T103000
DTSTAMP:20260423T181224
CREATED:20240829T220921Z
LAST-MODIFIED:20240829T221208Z
UID:10003284-1855819800-1855823400@www.redeemerephrata.org
SUMMARY:Children's Sunday School
DESCRIPTION:Youth ages 3yrs-6th grade are welcome to join us each week to learn about God’s big story. \nGod’s Big Story (GBS) invites children to enter into the narrative of God’s abounding faithfulness and love for all of his beloved children. Our aim is that children and their teachers might hear the gospel of Jesus Christ\, know Jesus as their Lord and Savior and experience the fullness of new life in Christ as part of His body\, the church. \nLearn more about our curriculum here. 
URL:https://www.redeemerephrata.org/event/sunday-school/2028-10-22/
LOCATION:Our Redeemer Presbyterian Church\, 172 Ivy Street SE\, Ephrata\, WA\, 98823\, United States
CATEGORIES:Weekly Worship,Youth
ATTACH;FMTTYPE=image/jpeg:https://www.redeemerephrata.org/wp-content/uploads/2024/08/Gods-Big-Story.jpg
ORGANIZER;CN="Our Redeemer Presbyterian Church":MAILTO:ephfirst@gmail.com
END:VEVENT
BEGIN:VEVENT
DTSTART;TZID=UTC:20281024T090000
DTEND;TZID=UTC:20281024T110000
DTSTAMP:20260423T181224
CREATED:20240102T232309Z
LAST-MODIFIED:20241211T234731Z
UID:10002470-1855990800-1855998000@www.redeemerephrata.org
SUMMARY:Sit n' Stitch
DESCRIPTION:Come sit and stitch with us on Tuesdays from 9-11am.  More info? Talk to Nancy Wenke.
URL:https://www.redeemerephrata.org/event/quilters-group/2028-10-24/
LOCATION:Our Redeemer Presbyterian Church\, 172 Ivy Street SE\, Ephrata\, WA\, 98823\, United States
CATEGORIES:Fellowship
ATTACH;FMTTYPE=image/jpeg:https://www.redeemerephrata.org/wp-content/uploads/2024/01/Sit-n-Stitch.jpg
END:VEVENT
BEGIN:VEVENT
DTSTART;TZID=UTC:20281024T190000
DTEND;TZID=UTC:20281024T200000
DTSTAMP:20260423T181224
CREATED:20230118T010533Z
LAST-MODIFIED:20250108T221628Z
UID:10002542-1856026800-1856030400@www.redeemerephrata.org
SUMMARY:Narcotics Anonymous
DESCRIPTION:If you or a loved one are in need of support please consider attending Narcotics Anonymous weekly on Tuesdays at 7pm. 
URL:https://www.redeemerephrata.org/event/narcotics-anonymous/2028-10-24/
LOCATION:Our Redeemer Presbyterian Church\, 172 Ivy Street SE\, Ephrata\, WA\, 98823\, United States
CATEGORIES:Public Meetings
ATTACH;FMTTYPE=image/png:https://www.redeemerephrata.org/wp-content/uploads/2023/01/NA-Events.png
END:VEVENT
BEGIN:VEVENT
DTSTART;TZID=UTC:20281026T180000
DTEND;TZID=UTC:20281026T180000
DTSTAMP:20260423T181224
CREATED:20230118T011326Z
LAST-MODIFIED:20230118T011326Z
UID:10002650-1856196000-1856196000@www.redeemerephrata.org
SUMMARY:Al-Anon Family Group Meetings
DESCRIPTION:Al-Anon members are people\, just like you\, who are worried about someone with a drinking problem.  If you need support\, please join them weekly on Thursdays at 6pm.
URL:https://www.redeemerephrata.org/event/al-anon-family-group-meetings/2028-10-26/
LOCATION:Our Redeemer Presbyterian Church\, 172 Ivy Street SE\, Ephrata\, WA\, 98823\, United States
CATEGORIES:Weekly Worship
ATTACH;FMTTYPE=image/png:https://www.redeemerephrata.org/wp-content/uploads/2023/01/Untitled-design-3.png
END:VEVENT
BEGIN:VEVENT
DTSTART;TZID=UTC:20281029T090000
DTEND;TZID=UTC:20281029T103000
DTSTAMP:20260423T181224
CREATED:20230118T014433Z
LAST-MODIFIED:20250303T231554Z
UID:10002665-1856422800-1856428200@www.redeemerephrata.org
SUMMARY:Sunday Morning Worship
DESCRIPTION:Please join us for our weekly worship at 9am. All are welcome and encouraged to attend.  Nursery care for infants to 2nd grade are provided during the worship service.
URL:https://www.redeemerephrata.org/event/sunday-morning-worship/2028-10-29/
LOCATION:Our Redeemer Presbyterian Church\, 172 Ivy Street SE\, Ephrata\, WA\, 98823\, United States
CATEGORIES:Weekly Worship
ATTACH;FMTTYPE=image/png:https://www.redeemerephrata.org/wp-content/uploads/2023/01/Worship-200-×-113-px.png
ORGANIZER;CN="Our Redeemer Presbyterian Church":MAILTO:ephfirst@gmail.com
END:VEVENT
BEGIN:VEVENT
DTSTART;TZID=UTC:20281029T093000
DTEND;TZID=UTC:20281029T103000
DTSTAMP:20260423T181224
CREATED:20240829T220921Z
LAST-MODIFIED:20240829T221208Z
UID:10003285-1856424600-1856428200@www.redeemerephrata.org
SUMMARY:Children's Sunday School
DESCRIPTION:Youth ages 3yrs-6th grade are welcome to join us each week to learn about God’s big story. \nGod’s Big Story (GBS) invites children to enter into the narrative of God’s abounding faithfulness and love for all of his beloved children. Our aim is that children and their teachers might hear the gospel of Jesus Christ\, know Jesus as their Lord and Savior and experience the fullness of new life in Christ as part of His body\, the church. \nLearn more about our curriculum here. 
URL:https://www.redeemerephrata.org/event/sunday-school/2028-10-29/
LOCATION:Our Redeemer Presbyterian Church\, 172 Ivy Street SE\, Ephrata\, WA\, 98823\, United States
CATEGORIES:Weekly Worship,Youth
ATTACH;FMTTYPE=image/jpeg:https://www.redeemerephrata.org/wp-content/uploads/2024/08/Gods-Big-Story.jpg
ORGANIZER;CN="Our Redeemer Presbyterian Church":MAILTO:ephfirst@gmail.com
END:VEVENT
BEGIN:VEVENT
DTSTART;TZID=UTC:20281031T090000
DTEND;TZID=UTC:20281031T110000
DTSTAMP:20260423T181224
CREATED:20240102T232309Z
LAST-MODIFIED:20241211T234731Z
UID:10002471-1856595600-1856602800@www.redeemerephrata.org
SUMMARY:Sit n' Stitch
DESCRIPTION:Come sit and stitch with us on Tuesdays from 9-11am.  More info? Talk to Nancy Wenke.
URL:https://www.redeemerephrata.org/event/quilters-group/2028-10-31/
LOCATION:Our Redeemer Presbyterian Church\, 172 Ivy Street SE\, Ephrata\, WA\, 98823\, United States
CATEGORIES:Fellowship
ATTACH;FMTTYPE=image/jpeg:https://www.redeemerephrata.org/wp-content/uploads/2024/01/Sit-n-Stitch.jpg
END:VEVENT
BEGIN:VEVENT
DTSTART;TZID=UTC:20281031T190000
DTEND;TZID=UTC:20281031T200000
DTSTAMP:20260423T181224
CREATED:20230118T010533Z
LAST-MODIFIED:20250108T221628Z
UID:10002543-1856631600-1856635200@www.redeemerephrata.org
SUMMARY:Narcotics Anonymous
DESCRIPTION:If you or a loved one are in need of support please consider attending Narcotics Anonymous weekly on Tuesdays at 7pm. 
URL:https://www.redeemerephrata.org/event/narcotics-anonymous/2028-10-31/
LOCATION:Our Redeemer Presbyterian Church\, 172 Ivy Street SE\, Ephrata\, WA\, 98823\, United States
CATEGORIES:Public Meetings
ATTACH;FMTTYPE=image/png:https://www.redeemerephrata.org/wp-content/uploads/2023/01/NA-Events.png
END:VEVENT
BEGIN:VEVENT
DTSTART;TZID=UTC:20281102T180000
DTEND;TZID=UTC:20281102T180000
DTSTAMP:20260423T181224
CREATED:20230118T011326Z
LAST-MODIFIED:20230118T011326Z
UID:10002651-1856800800-1856800800@www.redeemerephrata.org
SUMMARY:Al-Anon Family Group Meetings
DESCRIPTION:Al-Anon members are people\, just like you\, who are worried about someone with a drinking problem.  If you need support\, please join them weekly on Thursdays at 6pm.
URL:https://www.redeemerephrata.org/event/al-anon-family-group-meetings/2028-11-02/
LOCATION:Our Redeemer Presbyterian Church\, 172 Ivy Street SE\, Ephrata\, WA\, 98823\, United States
CATEGORIES:Weekly Worship
ATTACH;FMTTYPE=image/png:https://www.redeemerephrata.org/wp-content/uploads/2023/01/Untitled-design-3.png
END:VEVENT
BEGIN:VEVENT
DTSTART;TZID=UTC:20281105T090000
DTEND;TZID=UTC:20281105T103000
DTSTAMP:20260423T181224
CREATED:20230118T014433Z
LAST-MODIFIED:20250303T231554Z
UID:10002666-1857027600-1857033000@www.redeemerephrata.org
SUMMARY:Sunday Morning Worship
DESCRIPTION:Please join us for our weekly worship at 9am. All are welcome and encouraged to attend.  Nursery care for infants to 2nd grade are provided during the worship service.
URL:https://www.redeemerephrata.org/event/sunday-morning-worship/2028-11-05/
LOCATION:Our Redeemer Presbyterian Church\, 172 Ivy Street SE\, Ephrata\, WA\, 98823\, United States
CATEGORIES:Weekly Worship
ATTACH;FMTTYPE=image/png:https://www.redeemerephrata.org/wp-content/uploads/2023/01/Worship-200-×-113-px.png
ORGANIZER;CN="Our Redeemer Presbyterian Church":MAILTO:ephfirst@gmail.com
END:VEVENT
BEGIN:VEVENT
DTSTART;TZID=UTC:20281105T093000
DTEND;TZID=UTC:20281105T103000
DTSTAMP:20260423T181224
CREATED:20240829T220921Z
LAST-MODIFIED:20240829T221208Z
UID:10003286-1857029400-1857033000@www.redeemerephrata.org
SUMMARY:Children's Sunday School
DESCRIPTION:Youth ages 3yrs-6th grade are welcome to join us each week to learn about God’s big story. \nGod’s Big Story (GBS) invites children to enter into the narrative of God’s abounding faithfulness and love for all of his beloved children. Our aim is that children and their teachers might hear the gospel of Jesus Christ\, know Jesus as their Lord and Savior and experience the fullness of new life in Christ as part of His body\, the church. \nLearn more about our curriculum here. 
URL:https://www.redeemerephrata.org/event/sunday-school/2028-11-05/
LOCATION:Our Redeemer Presbyterian Church\, 172 Ivy Street SE\, Ephrata\, WA\, 98823\, United States
CATEGORIES:Weekly Worship,Youth
ATTACH;FMTTYPE=image/jpeg:https://www.redeemerephrata.org/wp-content/uploads/2024/08/Gods-Big-Story.jpg
ORGANIZER;CN="Our Redeemer Presbyterian Church":MAILTO:ephfirst@gmail.com
END:VEVENT
BEGIN:VEVENT
DTSTART;TZID=UTC:20281107T090000
DTEND;TZID=UTC:20281107T110000
DTSTAMP:20260423T181224
CREATED:20240102T232309Z
LAST-MODIFIED:20241211T234731Z
UID:10002472-1857200400-1857207600@www.redeemerephrata.org
SUMMARY:Sit n' Stitch
DESCRIPTION:Come sit and stitch with us on Tuesdays from 9-11am.  More info? Talk to Nancy Wenke.
URL:https://www.redeemerephrata.org/event/quilters-group/2028-11-07/
LOCATION:Our Redeemer Presbyterian Church\, 172 Ivy Street SE\, Ephrata\, WA\, 98823\, United States
CATEGORIES:Fellowship
ATTACH;FMTTYPE=image/jpeg:https://www.redeemerephrata.org/wp-content/uploads/2024/01/Sit-n-Stitch.jpg
END:VEVENT
BEGIN:VEVENT
DTSTART;TZID=UTC:20281107T190000
DTEND;TZID=UTC:20281107T200000
DTSTAMP:20260423T181224
CREATED:20230118T010533Z
LAST-MODIFIED:20250108T221628Z
UID:10002544-1857236400-1857240000@www.redeemerephrata.org
SUMMARY:Narcotics Anonymous
DESCRIPTION:If you or a loved one are in need of support please consider attending Narcotics Anonymous weekly on Tuesdays at 7pm. 
URL:https://www.redeemerephrata.org/event/narcotics-anonymous/2028-11-07/
LOCATION:Our Redeemer Presbyterian Church\, 172 Ivy Street SE\, Ephrata\, WA\, 98823\, United States
CATEGORIES:Public Meetings
ATTACH;FMTTYPE=image/png:https://www.redeemerephrata.org/wp-content/uploads/2023/01/NA-Events.png
END:VEVENT
BEGIN:VEVENT
DTSTART;TZID=UTC:20281109T180000
DTEND;TZID=UTC:20281109T180000
DTSTAMP:20260423T181224
CREATED:20230118T011326Z
LAST-MODIFIED:20230118T011326Z
UID:10002652-1857405600-1857405600@www.redeemerephrata.org
SUMMARY:Al-Anon Family Group Meetings
DESCRIPTION:Al-Anon members are people\, just like you\, who are worried about someone with a drinking problem.  If you need support\, please join them weekly on Thursdays at 6pm.
URL:https://www.redeemerephrata.org/event/al-anon-family-group-meetings/2028-11-09/
LOCATION:Our Redeemer Presbyterian Church\, 172 Ivy Street SE\, Ephrata\, WA\, 98823\, United States
CATEGORIES:Weekly Worship
ATTACH;FMTTYPE=image/png:https://www.redeemerephrata.org/wp-content/uploads/2023/01/Untitled-design-3.png
END:VEVENT
BEGIN:VEVENT
DTSTART;TZID=UTC:20281112T090000
DTEND;TZID=UTC:20281112T103000
DTSTAMP:20260423T181224
CREATED:20230118T014433Z
LAST-MODIFIED:20250303T231554Z
UID:10002667-1857632400-1857637800@www.redeemerephrata.org
SUMMARY:Sunday Morning Worship
DESCRIPTION:Please join us for our weekly worship at 9am. All are welcome and encouraged to attend.  Nursery care for infants to 2nd grade are provided during the worship service.
URL:https://www.redeemerephrata.org/event/sunday-morning-worship/2028-11-12/
LOCATION:Our Redeemer Presbyterian Church\, 172 Ivy Street SE\, Ephrata\, WA\, 98823\, United States
CATEGORIES:Weekly Worship
ATTACH;FMTTYPE=image/png:https://www.redeemerephrata.org/wp-content/uploads/2023/01/Worship-200-×-113-px.png
ORGANIZER;CN="Our Redeemer Presbyterian Church":MAILTO:ephfirst@gmail.com
END:VEVENT
BEGIN:VEVENT
DTSTART;TZID=UTC:20281112T093000
DTEND;TZID=UTC:20281112T103000
DTSTAMP:20260423T181224
CREATED:20240829T220921Z
LAST-MODIFIED:20240829T221208Z
UID:10003287-1857634200-1857637800@www.redeemerephrata.org
SUMMARY:Children's Sunday School
DESCRIPTION:Youth ages 3yrs-6th grade are welcome to join us each week to learn about God’s big story. \nGod’s Big Story (GBS) invites children to enter into the narrative of God’s abounding faithfulness and love for all of his beloved children. Our aim is that children and their teachers might hear the gospel of Jesus Christ\, know Jesus as their Lord and Savior and experience the fullness of new life in Christ as part of His body\, the church. \nLearn more about our curriculum here. 
URL:https://www.redeemerephrata.org/event/sunday-school/2028-11-12/
LOCATION:Our Redeemer Presbyterian Church\, 172 Ivy Street SE\, Ephrata\, WA\, 98823\, United States
CATEGORIES:Weekly Worship,Youth
ATTACH;FMTTYPE=image/jpeg:https://www.redeemerephrata.org/wp-content/uploads/2024/08/Gods-Big-Story.jpg
ORGANIZER;CN="Our Redeemer Presbyterian Church":MAILTO:ephfirst@gmail.com
END:VEVENT
BEGIN:VEVENT
DTSTART;TZID=UTC:20281114T090000
DTEND;TZID=UTC:20281114T110000
DTSTAMP:20260423T181224
CREATED:20240102T232309Z
LAST-MODIFIED:20241211T234731Z
UID:10002473-1857805200-1857812400@www.redeemerephrata.org
SUMMARY:Sit n' Stitch
DESCRIPTION:Come sit and stitch with us on Tuesdays from 9-11am.  More info? Talk to Nancy Wenke.
URL:https://www.redeemerephrata.org/event/quilters-group/2028-11-14/
LOCATION:Our Redeemer Presbyterian Church\, 172 Ivy Street SE\, Ephrata\, WA\, 98823\, United States
CATEGORIES:Fellowship
ATTACH;FMTTYPE=image/jpeg:https://www.redeemerephrata.org/wp-content/uploads/2024/01/Sit-n-Stitch.jpg
END:VEVENT
BEGIN:VEVENT
DTSTART;TZID=UTC:20281114T190000
DTEND;TZID=UTC:20281114T200000
DTSTAMP:20260423T181224
CREATED:20230118T010533Z
LAST-MODIFIED:20250108T221628Z
UID:10002545-1857841200-1857844800@www.redeemerephrata.org
SUMMARY:Narcotics Anonymous
DESCRIPTION:If you or a loved one are in need of support please consider attending Narcotics Anonymous weekly on Tuesdays at 7pm. 
URL:https://www.redeemerephrata.org/event/narcotics-anonymous/2028-11-14/
LOCATION:Our Redeemer Presbyterian Church\, 172 Ivy Street SE\, Ephrata\, WA\, 98823\, United States
CATEGORIES:Public Meetings
ATTACH;FMTTYPE=image/png:https://www.redeemerephrata.org/wp-content/uploads/2023/01/NA-Events.png
END:VEVENT
BEGIN:VEVENT
DTSTART;TZID=UTC:20281116T180000
DTEND;TZID=UTC:20281116T180000
DTSTAMP:20260423T181224
CREATED:20230118T011326Z
LAST-MODIFIED:20230118T011326Z
UID:10002653-1858010400-1858010400@www.redeemerephrata.org
SUMMARY:Al-Anon Family Group Meetings
DESCRIPTION:Al-Anon members are people\, just like you\, who are worried about someone with a drinking problem.  If you need support\, please join them weekly on Thursdays at 6pm.
URL:https://www.redeemerephrata.org/event/al-anon-family-group-meetings/2028-11-16/
LOCATION:Our Redeemer Presbyterian Church\, 172 Ivy Street SE\, Ephrata\, WA\, 98823\, United States
CATEGORIES:Weekly Worship
ATTACH;FMTTYPE=image/png:https://www.redeemerephrata.org/wp-content/uploads/2023/01/Untitled-design-3.png
END:VEVENT
BEGIN:VEVENT
DTSTART;TZID=UTC:20281119T090000
DTEND;TZID=UTC:20281119T103000
DTSTAMP:20260423T181224
CREATED:20230118T014433Z
LAST-MODIFIED:20250303T231554Z
UID:10002668-1858237200-1858242600@www.redeemerephrata.org
SUMMARY:Sunday Morning Worship
DESCRIPTION:Please join us for our weekly worship at 9am. All are welcome and encouraged to attend.  Nursery care for infants to 2nd grade are provided during the worship service.
URL:https://www.redeemerephrata.org/event/sunday-morning-worship/2028-11-19/
LOCATION:Our Redeemer Presbyterian Church\, 172 Ivy Street SE\, Ephrata\, WA\, 98823\, United States
CATEGORIES:Weekly Worship
ATTACH;FMTTYPE=image/png:https://www.redeemerephrata.org/wp-content/uploads/2023/01/Worship-200-×-113-px.png
ORGANIZER;CN="Our Redeemer Presbyterian Church":MAILTO:ephfirst@gmail.com
END:VEVENT
BEGIN:VEVENT
DTSTART;TZID=UTC:20281119T093000
DTEND;TZID=UTC:20281119T103000
DTSTAMP:20260423T181224
CREATED:20240829T220921Z
LAST-MODIFIED:20240829T221208Z
UID:10003288-1858239000-1858242600@www.redeemerephrata.org
SUMMARY:Children's Sunday School
DESCRIPTION:Youth ages 3yrs-6th grade are welcome to join us each week to learn about God’s big story. \nGod’s Big Story (GBS) invites children to enter into the narrative of God’s abounding faithfulness and love for all of his beloved children. Our aim is that children and their teachers might hear the gospel of Jesus Christ\, know Jesus as their Lord and Savior and experience the fullness of new life in Christ as part of His body\, the church. \nLearn more about our curriculum here. 
URL:https://www.redeemerephrata.org/event/sunday-school/2028-11-19/
LOCATION:Our Redeemer Presbyterian Church\, 172 Ivy Street SE\, Ephrata\, WA\, 98823\, United States
CATEGORIES:Weekly Worship,Youth
ATTACH;FMTTYPE=image/jpeg:https://www.redeemerephrata.org/wp-content/uploads/2024/08/Gods-Big-Story.jpg
ORGANIZER;CN="Our Redeemer Presbyterian Church":MAILTO:ephfirst@gmail.com
END:VEVENT
BEGIN:VEVENT
DTSTART;TZID=UTC:20281121T090000
DTEND;TZID=UTC:20281121T110000
DTSTAMP:20260423T181224
CREATED:20240102T232309Z
LAST-MODIFIED:20241211T234731Z
UID:10002474-1858410000-1858417200@www.redeemerephrata.org
SUMMARY:Sit n' Stitch
DESCRIPTION:Come sit and stitch with us on Tuesdays from 9-11am.  More info? Talk to Nancy Wenke.
URL:https://www.redeemerephrata.org/event/quilters-group/2028-11-21/
LOCATION:Our Redeemer Presbyterian Church\, 172 Ivy Street SE\, Ephrata\, WA\, 98823\, United States
CATEGORIES:Fellowship
ATTACH;FMTTYPE=image/jpeg:https://www.redeemerephrata.org/wp-content/uploads/2024/01/Sit-n-Stitch.jpg
END:VEVENT
BEGIN:VEVENT
DTSTART;TZID=UTC:20281121T190000
DTEND;TZID=UTC:20281121T200000
DTSTAMP:20260423T181224
CREATED:20230118T010533Z
LAST-MODIFIED:20250108T221628Z
UID:10002546-1858446000-1858449600@www.redeemerephrata.org
SUMMARY:Narcotics Anonymous
DESCRIPTION:If you or a loved one are in need of support please consider attending Narcotics Anonymous weekly on Tuesdays at 7pm. 
URL:https://www.redeemerephrata.org/event/narcotics-anonymous/2028-11-21/
LOCATION:Our Redeemer Presbyterian Church\, 172 Ivy Street SE\, Ephrata\, WA\, 98823\, United States
CATEGORIES:Public Meetings
ATTACH;FMTTYPE=image/png:https://www.redeemerephrata.org/wp-content/uploads/2023/01/NA-Events.png
END:VEVENT
BEGIN:VEVENT
DTSTART;TZID=UTC:20281123T180000
DTEND;TZID=UTC:20281123T180000
DTSTAMP:20260423T181224
CREATED:20230118T011326Z
LAST-MODIFIED:20230118T011326Z
UID:10002654-1858615200-1858615200@www.redeemerephrata.org
SUMMARY:Al-Anon Family Group Meetings
DESCRIPTION:Al-Anon members are people\, just like you\, who are worried about someone with a drinking problem.  If you need support\, please join them weekly on Thursdays at 6pm.
URL:https://www.redeemerephrata.org/event/al-anon-family-group-meetings/2028-11-23/
LOCATION:Our Redeemer Presbyterian Church\, 172 Ivy Street SE\, Ephrata\, WA\, 98823\, United States
CATEGORIES:Weekly Worship
ATTACH;FMTTYPE=image/png:https://www.redeemerephrata.org/wp-content/uploads/2023/01/Untitled-design-3.png
END:VEVENT
END:VCALENDAR