BEGIN:VCALENDAR
VERSION:2.0
PRODID:-//Our Redeemer Presbyterian Church - ECPv6.15.20//NONSGML v1.0//EN
CALSCALE:GREGORIAN
METHOD:PUBLISH
X-WR-CALNAME:Our Redeemer Presbyterian Church
X-ORIGINAL-URL:https://www.redeemerephrata.org
X-WR-CALDESC:Events for Our Redeemer Presbyterian Church
REFRESH-INTERVAL;VALUE=DURATION:PT1H
X-Robots-Tag:noindex
X-PUBLISHED-TTL:PT1H
BEGIN:VTIMEZONE
TZID:UTC
BEGIN:STANDARD
TZOFFSETFROM:+0000
TZOFFSETTO:+0000
TZNAME:UTC
DTSTART:20280101T000000
END:STANDARD
END:VTIMEZONE
BEGIN:VEVENT
DTSTART;TZID=UTC:20291227T180000
DTEND;TZID=UTC:20291227T180000
DTSTAMP:20260421T151422
CREATED:20230118T011326Z
LAST-MODIFIED:20230118T011326Z
UID:10003435-1893088800-1893088800@www.redeemerephrata.org
SUMMARY:Al-Anon Family Group Meetings
DESCRIPTION:Al-Anon members are people\, just like you\, who are worried about someone with a drinking problem.  If you need support\, please join them weekly on Thursdays at 6pm.
URL:https://www.redeemerephrata.org/event/al-anon-family-group-meetings/2029-12-27/
LOCATION:Our Redeemer Presbyterian Church\, 172 Ivy Street SE\, Ephrata\, WA\, 98823\, United States
CATEGORIES:Weekly Worship
ATTACH;FMTTYPE=image/png:https://www.redeemerephrata.org/wp-content/uploads/2023/01/Untitled-design-3.png
END:VEVENT
BEGIN:VEVENT
DTSTART;TZID=UTC:20300103T180000
DTEND;TZID=UTC:20300103T180000
DTSTAMP:20260421T151422
CREATED:20230118T011326Z
LAST-MODIFIED:20230118T011326Z
UID:10003439-1893693600-1893693600@www.redeemerephrata.org
SUMMARY:Al-Anon Family Group Meetings
DESCRIPTION:Al-Anon members are people\, just like you\, who are worried about someone with a drinking problem.  If you need support\, please join them weekly on Thursdays at 6pm.
URL:https://www.redeemerephrata.org/event/al-anon-family-group-meetings/2030-01-03/
LOCATION:Our Redeemer Presbyterian Church\, 172 Ivy Street SE\, Ephrata\, WA\, 98823\, United States
CATEGORIES:Weekly Worship
ATTACH;FMTTYPE=image/png:https://www.redeemerephrata.org/wp-content/uploads/2023/01/Untitled-design-3.png
END:VEVENT
BEGIN:VEVENT
DTSTART;TZID=UTC:20300110T180000
DTEND;TZID=UTC:20300110T180000
DTSTAMP:20260421T151422
CREATED:20230118T011326Z
LAST-MODIFIED:20230118T011326Z
UID:10003444-1894298400-1894298400@www.redeemerephrata.org
SUMMARY:Al-Anon Family Group Meetings
DESCRIPTION:Al-Anon members are people\, just like you\, who are worried about someone with a drinking problem.  If you need support\, please join them weekly on Thursdays at 6pm.
URL:https://www.redeemerephrata.org/event/al-anon-family-group-meetings/2030-01-10/
LOCATION:Our Redeemer Presbyterian Church\, 172 Ivy Street SE\, Ephrata\, WA\, 98823\, United States
CATEGORIES:Weekly Worship
ATTACH;FMTTYPE=image/png:https://www.redeemerephrata.org/wp-content/uploads/2023/01/Untitled-design-3.png
END:VEVENT
BEGIN:VEVENT
DTSTART;TZID=UTC:20300117T180000
DTEND;TZID=UTC:20300117T180000
DTSTAMP:20260421T151422
CREATED:20230118T011326Z
LAST-MODIFIED:20230118T011326Z
UID:10003448-1894903200-1894903200@www.redeemerephrata.org
SUMMARY:Al-Anon Family Group Meetings
DESCRIPTION:Al-Anon members are people\, just like you\, who are worried about someone with a drinking problem.  If you need support\, please join them weekly on Thursdays at 6pm.
URL:https://www.redeemerephrata.org/event/al-anon-family-group-meetings/2030-01-17/
LOCATION:Our Redeemer Presbyterian Church\, 172 Ivy Street SE\, Ephrata\, WA\, 98823\, United States
CATEGORIES:Weekly Worship
ATTACH;FMTTYPE=image/png:https://www.redeemerephrata.org/wp-content/uploads/2023/01/Untitled-design-3.png
END:VEVENT
BEGIN:VEVENT
DTSTART;TZID=UTC:20300124T180000
DTEND;TZID=UTC:20300124T180000
DTSTAMP:20260421T151422
CREATED:20230118T011326Z
LAST-MODIFIED:20230118T011326Z
UID:10003452-1895508000-1895508000@www.redeemerephrata.org
SUMMARY:Al-Anon Family Group Meetings
DESCRIPTION:Al-Anon members are people\, just like you\, who are worried about someone with a drinking problem.  If you need support\, please join them weekly on Thursdays at 6pm.
URL:https://www.redeemerephrata.org/event/al-anon-family-group-meetings/2030-01-24/
LOCATION:Our Redeemer Presbyterian Church\, 172 Ivy Street SE\, Ephrata\, WA\, 98823\, United States
CATEGORIES:Weekly Worship
ATTACH;FMTTYPE=image/png:https://www.redeemerephrata.org/wp-content/uploads/2023/01/Untitled-design-3.png
END:VEVENT
BEGIN:VEVENT
DTSTART;TZID=UTC:20300131T180000
DTEND;TZID=UTC:20300131T180000
DTSTAMP:20260421T151422
CREATED:20230118T011326Z
LAST-MODIFIED:20230118T011326Z
UID:10003458-1896112800-1896112800@www.redeemerephrata.org
SUMMARY:Al-Anon Family Group Meetings
DESCRIPTION:Al-Anon members are people\, just like you\, who are worried about someone with a drinking problem.  If you need support\, please join them weekly on Thursdays at 6pm.
URL:https://www.redeemerephrata.org/event/al-anon-family-group-meetings/2030-01-31/
LOCATION:Our Redeemer Presbyterian Church\, 172 Ivy Street SE\, Ephrata\, WA\, 98823\, United States
CATEGORIES:Weekly Worship
ATTACH;FMTTYPE=image/png:https://www.redeemerephrata.org/wp-content/uploads/2023/01/Untitled-design-3.png
END:VEVENT
BEGIN:VEVENT
DTSTART;TZID=UTC:20300207T180000
DTEND;TZID=UTC:20300207T180000
DTSTAMP:20260421T151422
CREATED:20230118T011326Z
LAST-MODIFIED:20230118T011326Z
UID:10003462-1896717600-1896717600@www.redeemerephrata.org
SUMMARY:Al-Anon Family Group Meetings
DESCRIPTION:Al-Anon members are people\, just like you\, who are worried about someone with a drinking problem.  If you need support\, please join them weekly on Thursdays at 6pm.
URL:https://www.redeemerephrata.org/event/al-anon-family-group-meetings/2030-02-07/
LOCATION:Our Redeemer Presbyterian Church\, 172 Ivy Street SE\, Ephrata\, WA\, 98823\, United States
CATEGORIES:Weekly Worship
ATTACH;FMTTYPE=image/png:https://www.redeemerephrata.org/wp-content/uploads/2023/01/Untitled-design-3.png
END:VEVENT
BEGIN:VEVENT
DTSTART;TZID=UTC:20300214T180000
DTEND;TZID=UTC:20300214T180000
DTSTAMP:20260421T151422
CREATED:20230118T011326Z
LAST-MODIFIED:20230118T011326Z
UID:10003609-1897322400-1897322400@www.redeemerephrata.org
SUMMARY:Al-Anon Family Group Meetings
DESCRIPTION:Al-Anon members are people\, just like you\, who are worried about someone with a drinking problem.  If you need support\, please join them weekly on Thursdays at 6pm.
URL:https://www.redeemerephrata.org/event/al-anon-family-group-meetings/2030-02-14/
LOCATION:Our Redeemer Presbyterian Church\, 172 Ivy Street SE\, Ephrata\, WA\, 98823\, United States
CATEGORIES:Weekly Worship
ATTACH;FMTTYPE=image/png:https://www.redeemerephrata.org/wp-content/uploads/2023/01/Untitled-design-3.png
END:VEVENT
BEGIN:VEVENT
DTSTART;TZID=UTC:20300221T180000
DTEND;TZID=UTC:20300221T180000
DTSTAMP:20260421T151422
CREATED:20230118T011326Z
LAST-MODIFIED:20230118T011326Z
UID:10003613-1897927200-1897927200@www.redeemerephrata.org
SUMMARY:Al-Anon Family Group Meetings
DESCRIPTION:Al-Anon members are people\, just like you\, who are worried about someone with a drinking problem.  If you need support\, please join them weekly on Thursdays at 6pm.
URL:https://www.redeemerephrata.org/event/al-anon-family-group-meetings/2030-02-21/
LOCATION:Our Redeemer Presbyterian Church\, 172 Ivy Street SE\, Ephrata\, WA\, 98823\, United States
CATEGORIES:Weekly Worship
ATTACH;FMTTYPE=image/png:https://www.redeemerephrata.org/wp-content/uploads/2023/01/Untitled-design-3.png
END:VEVENT
BEGIN:VEVENT
DTSTART;TZID=UTC:20300228T180000
DTEND;TZID=UTC:20300228T180000
DTSTAMP:20260421T151422
CREATED:20230118T011326Z
LAST-MODIFIED:20230118T011326Z
UID:10003617-1898532000-1898532000@www.redeemerephrata.org
SUMMARY:Al-Anon Family Group Meetings
DESCRIPTION:Al-Anon members are people\, just like you\, who are worried about someone with a drinking problem.  If you need support\, please join them weekly on Thursdays at 6pm.
URL:https://www.redeemerephrata.org/event/al-anon-family-group-meetings/2030-02-28/
LOCATION:Our Redeemer Presbyterian Church\, 172 Ivy Street SE\, Ephrata\, WA\, 98823\, United States
CATEGORIES:Weekly Worship
ATTACH;FMTTYPE=image/png:https://www.redeemerephrata.org/wp-content/uploads/2023/01/Untitled-design-3.png
END:VEVENT
BEGIN:VEVENT
DTSTART;TZID=UTC:20300307T180000
DTEND;TZID=UTC:20300307T180000
DTSTAMP:20260421T151422
CREATED:20230118T011326Z
LAST-MODIFIED:20230118T011326Z
UID:10003625-1899136800-1899136800@www.redeemerephrata.org
SUMMARY:Al-Anon Family Group Meetings
DESCRIPTION:Al-Anon members are people\, just like you\, who are worried about someone with a drinking problem.  If you need support\, please join them weekly on Thursdays at 6pm.
URL:https://www.redeemerephrata.org/event/al-anon-family-group-meetings/2030-03-07/
LOCATION:Our Redeemer Presbyterian Church\, 172 Ivy Street SE\, Ephrata\, WA\, 98823\, United States
CATEGORIES:Weekly Worship
ATTACH;FMTTYPE=image/png:https://www.redeemerephrata.org/wp-content/uploads/2023/01/Untitled-design-3.png
END:VEVENT
BEGIN:VEVENT
DTSTART;TZID=UTC:20300314T180000
DTEND;TZID=UTC:20300314T180000
DTSTAMP:20260421T151422
CREATED:20230118T011326Z
LAST-MODIFIED:20230118T011326Z
UID:10003657-1899741600-1899741600@www.redeemerephrata.org
SUMMARY:Al-Anon Family Group Meetings
DESCRIPTION:Al-Anon members are people\, just like you\, who are worried about someone with a drinking problem.  If you need support\, please join them weekly on Thursdays at 6pm.
URL:https://www.redeemerephrata.org/event/al-anon-family-group-meetings/2030-03-14/
LOCATION:Our Redeemer Presbyterian Church\, 172 Ivy Street SE\, Ephrata\, WA\, 98823\, United States
CATEGORIES:Weekly Worship
ATTACH;FMTTYPE=image/png:https://www.redeemerephrata.org/wp-content/uploads/2023/01/Untitled-design-3.png
END:VEVENT
BEGIN:VEVENT
DTSTART;TZID=UTC:20300321T180000
DTEND;TZID=UTC:20300321T180000
DTSTAMP:20260421T151422
CREATED:20230118T011326Z
LAST-MODIFIED:20230118T011326Z
UID:10003662-1900346400-1900346400@www.redeemerephrata.org
SUMMARY:Al-Anon Family Group Meetings
DESCRIPTION:Al-Anon members are people\, just like you\, who are worried about someone with a drinking problem.  If you need support\, please join them weekly on Thursdays at 6pm.
URL:https://www.redeemerephrata.org/event/al-anon-family-group-meetings/2030-03-21/
LOCATION:Our Redeemer Presbyterian Church\, 172 Ivy Street SE\, Ephrata\, WA\, 98823\, United States
CATEGORIES:Weekly Worship
ATTACH;FMTTYPE=image/png:https://www.redeemerephrata.org/wp-content/uploads/2023/01/Untitled-design-3.png
END:VEVENT
BEGIN:VEVENT
DTSTART;TZID=UTC:20300328T180000
DTEND;TZID=UTC:20300328T180000
DTSTAMP:20260421T151422
CREATED:20230118T011326Z
LAST-MODIFIED:20230118T011326Z
UID:10003668-1900951200-1900951200@www.redeemerephrata.org
SUMMARY:Al-Anon Family Group Meetings
DESCRIPTION:Al-Anon members are people\, just like you\, who are worried about someone with a drinking problem.  If you need support\, please join them weekly on Thursdays at 6pm.
URL:https://www.redeemerephrata.org/event/al-anon-family-group-meetings/2030-03-28/
LOCATION:Our Redeemer Presbyterian Church\, 172 Ivy Street SE\, Ephrata\, WA\, 98823\, United States
CATEGORIES:Weekly Worship
ATTACH;FMTTYPE=image/png:https://www.redeemerephrata.org/wp-content/uploads/2023/01/Untitled-design-3.png
END:VEVENT
BEGIN:VEVENT
DTSTART;TZID=UTC:20300404T180000
DTEND;TZID=UTC:20300404T180000
DTSTAMP:20260421T151422
CREATED:20230118T011326Z
LAST-MODIFIED:20230118T011326Z
UID:10003669-1901556000-1901556000@www.redeemerephrata.org
SUMMARY:Al-Anon Family Group Meetings
DESCRIPTION:Al-Anon members are people\, just like you\, who are worried about someone with a drinking problem.  If you need support\, please join them weekly on Thursdays at 6pm.
URL:https://www.redeemerephrata.org/event/al-anon-family-group-meetings/2030-04-04/
LOCATION:Our Redeemer Presbyterian Church\, 172 Ivy Street SE\, Ephrata\, WA\, 98823\, United States
CATEGORIES:Weekly Worship
ATTACH;FMTTYPE=image/png:https://www.redeemerephrata.org/wp-content/uploads/2023/01/Untitled-design-3.png
END:VEVENT
BEGIN:VEVENT
DTSTART;TZID=UTC:20300411T180000
DTEND;TZID=UTC:20300411T180000
DTSTAMP:20260421T151422
CREATED:20230118T011326Z
LAST-MODIFIED:20230118T011326Z
UID:10003674-1902160800-1902160800@www.redeemerephrata.org
SUMMARY:Al-Anon Family Group Meetings
DESCRIPTION:Al-Anon members are people\, just like you\, who are worried about someone with a drinking problem.  If you need support\, please join them weekly on Thursdays at 6pm.
URL:https://www.redeemerephrata.org/event/al-anon-family-group-meetings/2030-04-11/
LOCATION:Our Redeemer Presbyterian Church\, 172 Ivy Street SE\, Ephrata\, WA\, 98823\, United States
CATEGORIES:Weekly Worship
ATTACH;FMTTYPE=image/png:https://www.redeemerephrata.org/wp-content/uploads/2023/01/Untitled-design-3.png
END:VEVENT
BEGIN:VEVENT
DTSTART;TZID=UTC:20300418T180000
DTEND;TZID=UTC:20300418T180000
DTSTAMP:20260421T151422
CREATED:20230118T011326Z
LAST-MODIFIED:20230118T011326Z
UID:10003679-1902765600-1902765600@www.redeemerephrata.org
SUMMARY:Al-Anon Family Group Meetings
DESCRIPTION:Al-Anon members are people\, just like you\, who are worried about someone with a drinking problem.  If you need support\, please join them weekly on Thursdays at 6pm.
URL:https://www.redeemerephrata.org/event/al-anon-family-group-meetings/2030-04-18/
LOCATION:Our Redeemer Presbyterian Church\, 172 Ivy Street SE\, Ephrata\, WA\, 98823\, United States
CATEGORIES:Weekly Worship
ATTACH;FMTTYPE=image/png:https://www.redeemerephrata.org/wp-content/uploads/2023/01/Untitled-design-3.png
END:VEVENT
BEGIN:VEVENT
DTSTART;TZID=UTC:20300425T180000
DTEND;TZID=UTC:20300425T180000
DTSTAMP:20260421T151422
CREATED:20230118T011326Z
LAST-MODIFIED:20230118T011326Z
UID:10003685-1903370400-1903370400@www.redeemerephrata.org
SUMMARY:Al-Anon Family Group Meetings
DESCRIPTION:Al-Anon members are people\, just like you\, who are worried about someone with a drinking problem.  If you need support\, please join them weekly on Thursdays at 6pm.
URL:https://www.redeemerephrata.org/event/al-anon-family-group-meetings/2030-04-25/
LOCATION:Our Redeemer Presbyterian Church\, 172 Ivy Street SE\, Ephrata\, WA\, 98823\, United States
CATEGORIES:Weekly Worship
ATTACH;FMTTYPE=image/png:https://www.redeemerephrata.org/wp-content/uploads/2023/01/Untitled-design-3.png
END:VEVENT
BEGIN:VEVENT
DTSTART;TZID=UTC:20300502T180000
DTEND;TZID=UTC:20300502T180000
DTSTAMP:20260421T151422
CREATED:20230118T011326Z
LAST-MODIFIED:20230118T011326Z
UID:10003694-1903975200-1903975200@www.redeemerephrata.org
SUMMARY:Al-Anon Family Group Meetings
DESCRIPTION:Al-Anon members are people\, just like you\, who are worried about someone with a drinking problem.  If you need support\, please join them weekly on Thursdays at 6pm.
URL:https://www.redeemerephrata.org/event/al-anon-family-group-meetings/2030-05-02/
LOCATION:Our Redeemer Presbyterian Church\, 172 Ivy Street SE\, Ephrata\, WA\, 98823\, United States
CATEGORIES:Weekly Worship
ATTACH;FMTTYPE=image/png:https://www.redeemerephrata.org/wp-content/uploads/2023/01/Untitled-design-3.png
END:VEVENT
BEGIN:VEVENT
DTSTART;TZID=UTC:20300509T180000
DTEND;TZID=UTC:20300509T180000
DTSTAMP:20260421T151422
CREATED:20230118T011326Z
LAST-MODIFIED:20230118T011326Z
UID:10003699-1904580000-1904580000@www.redeemerephrata.org
SUMMARY:Al-Anon Family Group Meetings
DESCRIPTION:Al-Anon members are people\, just like you\, who are worried about someone with a drinking problem.  If you need support\, please join them weekly on Thursdays at 6pm.
URL:https://www.redeemerephrata.org/event/al-anon-family-group-meetings/2030-05-09/
LOCATION:Our Redeemer Presbyterian Church\, 172 Ivy Street SE\, Ephrata\, WA\, 98823\, United States
CATEGORIES:Weekly Worship
ATTACH;FMTTYPE=image/png:https://www.redeemerephrata.org/wp-content/uploads/2023/01/Untitled-design-3.png
END:VEVENT
BEGIN:VEVENT
DTSTART;TZID=UTC:20300516T180000
DTEND;TZID=UTC:20300516T180000
DTSTAMP:20260421T151422
CREATED:20230118T011326Z
LAST-MODIFIED:20230118T011326Z
UID:10003706-1905184800-1905184800@www.redeemerephrata.org
SUMMARY:Al-Anon Family Group Meetings
DESCRIPTION:Al-Anon members are people\, just like you\, who are worried about someone with a drinking problem.  If you need support\, please join them weekly on Thursdays at 6pm.
URL:https://www.redeemerephrata.org/event/al-anon-family-group-meetings/2030-05-16/
LOCATION:Our Redeemer Presbyterian Church\, 172 Ivy Street SE\, Ephrata\, WA\, 98823\, United States
CATEGORIES:Weekly Worship
ATTACH;FMTTYPE=image/png:https://www.redeemerephrata.org/wp-content/uploads/2023/01/Untitled-design-3.png
END:VEVENT
BEGIN:VEVENT
DTSTART;TZID=UTC:20300523T180000
DTEND;TZID=UTC:20300523T180000
DTSTAMP:20260421T151422
CREATED:20230118T011326Z
LAST-MODIFIED:20230118T011326Z
UID:10003711-1905789600-1905789600@www.redeemerephrata.org
SUMMARY:Al-Anon Family Group Meetings
DESCRIPTION:Al-Anon members are people\, just like you\, who are worried about someone with a drinking problem.  If you need support\, please join them weekly on Thursdays at 6pm.
URL:https://www.redeemerephrata.org/event/al-anon-family-group-meetings/2030-05-23/
LOCATION:Our Redeemer Presbyterian Church\, 172 Ivy Street SE\, Ephrata\, WA\, 98823\, United States
CATEGORIES:Weekly Worship
ATTACH;FMTTYPE=image/png:https://www.redeemerephrata.org/wp-content/uploads/2023/01/Untitled-design-3.png
END:VEVENT
BEGIN:VEVENT
DTSTART;TZID=UTC:20300530T180000
DTEND;TZID=UTC:20300530T180000
DTSTAMP:20260421T151422
CREATED:20230118T011326Z
LAST-MODIFIED:20230118T011326Z
UID:10003717-1906394400-1906394400@www.redeemerephrata.org
SUMMARY:Al-Anon Family Group Meetings
DESCRIPTION:Al-Anon members are people\, just like you\, who are worried about someone with a drinking problem.  If you need support\, please join them weekly on Thursdays at 6pm.
URL:https://www.redeemerephrata.org/event/al-anon-family-group-meetings/2030-05-30/
LOCATION:Our Redeemer Presbyterian Church\, 172 Ivy Street SE\, Ephrata\, WA\, 98823\, United States
CATEGORIES:Weekly Worship
ATTACH;FMTTYPE=image/png:https://www.redeemerephrata.org/wp-content/uploads/2023/01/Untitled-design-3.png
END:VEVENT
BEGIN:VEVENT
DTSTART;TZID=UTC:20300606T180000
DTEND;TZID=UTC:20300606T180000
DTSTAMP:20260421T151422
CREATED:20230118T011326Z
LAST-MODIFIED:20230118T011326Z
UID:10003718-1906999200-1906999200@www.redeemerephrata.org
SUMMARY:Al-Anon Family Group Meetings
DESCRIPTION:Al-Anon members are people\, just like you\, who are worried about someone with a drinking problem.  If you need support\, please join them weekly on Thursdays at 6pm.
URL:https://www.redeemerephrata.org/event/al-anon-family-group-meetings/2030-06-06/
LOCATION:Our Redeemer Presbyterian Church\, 172 Ivy Street SE\, Ephrata\, WA\, 98823\, United States
CATEGORIES:Weekly Worship
ATTACH;FMTTYPE=image/png:https://www.redeemerephrata.org/wp-content/uploads/2023/01/Untitled-design-3.png
END:VEVENT
BEGIN:VEVENT
DTSTART;TZID=UTC:20300613T180000
DTEND;TZID=UTC:20300613T180000
DTSTAMP:20260421T151422
CREATED:20230118T011326Z
LAST-MODIFIED:20230118T011326Z
UID:10003723-1907604000-1907604000@www.redeemerephrata.org
SUMMARY:Al-Anon Family Group Meetings
DESCRIPTION:Al-Anon members are people\, just like you\, who are worried about someone with a drinking problem.  If you need support\, please join them weekly on Thursdays at 6pm.
URL:https://www.redeemerephrata.org/event/al-anon-family-group-meetings/2030-06-13/
LOCATION:Our Redeemer Presbyterian Church\, 172 Ivy Street SE\, Ephrata\, WA\, 98823\, United States
CATEGORIES:Weekly Worship
ATTACH;FMTTYPE=image/png:https://www.redeemerephrata.org/wp-content/uploads/2023/01/Untitled-design-3.png
END:VEVENT
BEGIN:VEVENT
DTSTART;TZID=UTC:20300620T180000
DTEND;TZID=UTC:20300620T180000
DTSTAMP:20260421T151422
CREATED:20230118T011326Z
LAST-MODIFIED:20230118T011326Z
UID:10003728-1908208800-1908208800@www.redeemerephrata.org
SUMMARY:Al-Anon Family Group Meetings
DESCRIPTION:Al-Anon members are people\, just like you\, who are worried about someone with a drinking problem.  If you need support\, please join them weekly on Thursdays at 6pm.
URL:https://www.redeemerephrata.org/event/al-anon-family-group-meetings/2030-06-20/
LOCATION:Our Redeemer Presbyterian Church\, 172 Ivy Street SE\, Ephrata\, WA\, 98823\, United States
CATEGORIES:Weekly Worship
ATTACH;FMTTYPE=image/png:https://www.redeemerephrata.org/wp-content/uploads/2023/01/Untitled-design-3.png
END:VEVENT
BEGIN:VEVENT
DTSTART;TZID=UTC:20300627T180000
DTEND;TZID=UTC:20300627T180000
DTSTAMP:20260421T151422
CREATED:20230118T011326Z
LAST-MODIFIED:20230118T011326Z
UID:10003733-1908813600-1908813600@www.redeemerephrata.org
SUMMARY:Al-Anon Family Group Meetings
DESCRIPTION:Al-Anon members are people\, just like you\, who are worried about someone with a drinking problem.  If you need support\, please join them weekly on Thursdays at 6pm.
URL:https://www.redeemerephrata.org/event/al-anon-family-group-meetings/2030-06-27/
LOCATION:Our Redeemer Presbyterian Church\, 172 Ivy Street SE\, Ephrata\, WA\, 98823\, United States
CATEGORIES:Weekly Worship
ATTACH;FMTTYPE=image/png:https://www.redeemerephrata.org/wp-content/uploads/2023/01/Untitled-design-3.png
END:VEVENT
BEGIN:VEVENT
DTSTART;TZID=UTC:20300704T180000
DTEND;TZID=UTC:20300704T180000
DTSTAMP:20260421T151422
CREATED:20230118T011326Z
LAST-MODIFIED:20230118T011326Z
UID:10003744-1909418400-1909418400@www.redeemerephrata.org
SUMMARY:Al-Anon Family Group Meetings
DESCRIPTION:Al-Anon members are people\, just like you\, who are worried about someone with a drinking problem.  If you need support\, please join them weekly on Thursdays at 6pm.
URL:https://www.redeemerephrata.org/event/al-anon-family-group-meetings/2030-07-04/
LOCATION:Our Redeemer Presbyterian Church\, 172 Ivy Street SE\, Ephrata\, WA\, 98823\, United States
CATEGORIES:Weekly Worship
ATTACH;FMTTYPE=image/png:https://www.redeemerephrata.org/wp-content/uploads/2023/01/Untitled-design-3.png
END:VEVENT
BEGIN:VEVENT
DTSTART;TZID=UTC:20300711T180000
DTEND;TZID=UTC:20300711T180000
DTSTAMP:20260421T151422
CREATED:20230118T011326Z
LAST-MODIFIED:20230118T011326Z
UID:10003751-1910023200-1910023200@www.redeemerephrata.org
SUMMARY:Al-Anon Family Group Meetings
DESCRIPTION:Al-Anon members are people\, just like you\, who are worried about someone with a drinking problem.  If you need support\, please join them weekly on Thursdays at 6pm.
URL:https://www.redeemerephrata.org/event/al-anon-family-group-meetings/2030-07-11/
LOCATION:Our Redeemer Presbyterian Church\, 172 Ivy Street SE\, Ephrata\, WA\, 98823\, United States
CATEGORIES:Weekly Worship
ATTACH;FMTTYPE=image/png:https://www.redeemerephrata.org/wp-content/uploads/2023/01/Untitled-design-3.png
END:VEVENT
BEGIN:VEVENT
DTSTART;TZID=UTC:20300718T180000
DTEND;TZID=UTC:20300718T180000
DTSTAMP:20260421T151422
CREATED:20230118T011326Z
LAST-MODIFIED:20230118T011326Z
UID:10003756-1910628000-1910628000@www.redeemerephrata.org
SUMMARY:Al-Anon Family Group Meetings
DESCRIPTION:Al-Anon members are people\, just like you\, who are worried about someone with a drinking problem.  If you need support\, please join them weekly on Thursdays at 6pm.
URL:https://www.redeemerephrata.org/event/al-anon-family-group-meetings/2030-07-18/
LOCATION:Our Redeemer Presbyterian Church\, 172 Ivy Street SE\, Ephrata\, WA\, 98823\, United States
CATEGORIES:Weekly Worship
ATTACH;FMTTYPE=image/png:https://www.redeemerephrata.org/wp-content/uploads/2023/01/Untitled-design-3.png
END:VEVENT
END:VCALENDAR