BEGIN:VCALENDAR
VERSION:2.0
PRODID:-//Our Redeemer Presbyterian Church - ECPv6.15.20//NONSGML v1.0//EN
CALSCALE:GREGORIAN
METHOD:PUBLISH
X-ORIGINAL-URL:https://www.redeemerephrata.org
X-WR-CALDESC:Events for Our Redeemer Presbyterian Church
REFRESH-INTERVAL;VALUE=DURATION:PT1H
X-Robots-Tag:noindex
X-PUBLISHED-TTL:PT1H
BEGIN:VTIMEZONE
TZID:UTC
BEGIN:STANDARD
TZOFFSETFROM:+0000
TZOFFSETTO:+0000
TZNAME:UTC
DTSTART:20250101T000000
END:STANDARD
END:VTIMEZONE
BEGIN:VEVENT
DTSTART;TZID=UTC:20260719T090000
DTEND;TZID=UTC:20260719T103000
DTSTAMP:20260420T194635
CREATED:20230118T014433Z
LAST-MODIFIED:20250303T231554Z
UID:10001308-1784451600-1784457000@www.redeemerephrata.org
SUMMARY:Sunday Morning Worship
DESCRIPTION:Please join us for our weekly worship at 9am. All are welcome and encouraged to attend.  Nursery care for infants to 2nd grade are provided during the worship service.
URL:https://www.redeemerephrata.org/event/sunday-morning-worship/2026-07-19/
LOCATION:Our Redeemer Presbyterian Church\, 172 Ivy Street SE\, Ephrata\, WA\, 98823\, United States
CATEGORIES:Weekly Worship
ATTACH;FMTTYPE=image/png:https://www.redeemerephrata.org/wp-content/uploads/2023/01/Worship-200-×-113-px.png
ORGANIZER;CN="Our Redeemer Presbyterian Church":MAILTO:ephfirst@gmail.com
END:VEVENT
BEGIN:VEVENT
DTSTART;TZID=UTC:20260719T093000
DTEND;TZID=UTC:20260719T103000
DTSTAMP:20260420T194635
CREATED:20240829T220921Z
LAST-MODIFIED:20240829T221208Z
UID:10003166-1784453400-1784457000@www.redeemerephrata.org
SUMMARY:Children's Sunday School
DESCRIPTION:Youth ages 3yrs-6th grade are welcome to join us each week to learn about God’s big story. \nGod’s Big Story (GBS) invites children to enter into the narrative of God’s abounding faithfulness and love for all of his beloved children. Our aim is that children and their teachers might hear the gospel of Jesus Christ\, know Jesus as their Lord and Savior and experience the fullness of new life in Christ as part of His body\, the church. \nLearn more about our curriculum here. 
URL:https://www.redeemerephrata.org/event/sunday-school/2026-07-19/
LOCATION:Our Redeemer Presbyterian Church\, 172 Ivy Street SE\, Ephrata\, WA\, 98823\, United States
CATEGORIES:Weekly Worship,Youth
ATTACH;FMTTYPE=image/jpeg:https://www.redeemerephrata.org/wp-content/uploads/2024/08/Gods-Big-Story.jpg
ORGANIZER;CN="Our Redeemer Presbyterian Church":MAILTO:ephfirst@gmail.com
END:VEVENT
BEGIN:VEVENT
DTSTART;TZID=UTC:20260721T090000
DTEND;TZID=UTC:20260721T110000
DTSTAMP:20260420T194635
CREATED:20240102T232309Z
LAST-MODIFIED:20241211T234731Z
UID:10002352-1784624400-1784631600@www.redeemerephrata.org
SUMMARY:Sit n' Stitch
DESCRIPTION:Come sit and stitch with us on Tuesdays from 9-11am.  More info? Talk to Nancy Wenke.
URL:https://www.redeemerephrata.org/event/quilters-group/2026-07-21/
LOCATION:Our Redeemer Presbyterian Church\, 172 Ivy Street SE\, Ephrata\, WA\, 98823\, United States
CATEGORIES:Fellowship
ATTACH;FMTTYPE=image/jpeg:https://www.redeemerephrata.org/wp-content/uploads/2024/01/Sit-n-Stitch.jpg
END:VEVENT
BEGIN:VEVENT
DTSTART;TZID=UTC:20260721T190000
DTEND;TZID=UTC:20260721T200000
DTSTAMP:20260420T194635
CREATED:20230118T010533Z
LAST-MODIFIED:20250108T221628Z
UID:10000195-1784660400-1784664000@www.redeemerephrata.org
SUMMARY:Narcotics Anonymous
DESCRIPTION:If you or a loved one are in need of support please consider attending Narcotics Anonymous weekly on Tuesdays at 7pm. 
URL:https://www.redeemerephrata.org/event/narcotics-anonymous/2026-07-21/
LOCATION:Our Redeemer Presbyterian Church\, 172 Ivy Street SE\, Ephrata\, WA\, 98823\, United States
CATEGORIES:Public Meetings
ATTACH;FMTTYPE=image/png:https://www.redeemerephrata.org/wp-content/uploads/2023/01/NA-Events.png
END:VEVENT
BEGIN:VEVENT
DTSTART;TZID=UTC:20260723T180000
DTEND;TZID=UTC:20260723T180000
DTSTAMP:20260420T194635
CREATED:20230118T011326Z
LAST-MODIFIED:20230118T011326Z
UID:10000457-1784829600-1784829600@www.redeemerephrata.org
SUMMARY:Al-Anon Family Group Meetings
DESCRIPTION:Al-Anon members are people\, just like you\, who are worried about someone with a drinking problem.  If you need support\, please join them weekly on Thursdays at 6pm.
URL:https://www.redeemerephrata.org/event/al-anon-family-group-meetings/2026-07-23/
LOCATION:Our Redeemer Presbyterian Church\, 172 Ivy Street SE\, Ephrata\, WA\, 98823\, United States
CATEGORIES:Weekly Worship
ATTACH;FMTTYPE=image/png:https://www.redeemerephrata.org/wp-content/uploads/2023/01/Untitled-design-3.png
END:VEVENT
BEGIN:VEVENT
DTSTART;TZID=UTC:20260726T090000
DTEND;TZID=UTC:20260726T103000
DTSTAMP:20260420T194635
CREATED:20230118T014433Z
LAST-MODIFIED:20250303T231554Z
UID:10001309-1785056400-1785061800@www.redeemerephrata.org
SUMMARY:Sunday Morning Worship
DESCRIPTION:Please join us for our weekly worship at 9am. All are welcome and encouraged to attend.  Nursery care for infants to 2nd grade are provided during the worship service.
URL:https://www.redeemerephrata.org/event/sunday-morning-worship/2026-07-26/
LOCATION:Our Redeemer Presbyterian Church\, 172 Ivy Street SE\, Ephrata\, WA\, 98823\, United States
CATEGORIES:Weekly Worship
ATTACH;FMTTYPE=image/png:https://www.redeemerephrata.org/wp-content/uploads/2023/01/Worship-200-×-113-px.png
ORGANIZER;CN="Our Redeemer Presbyterian Church":MAILTO:ephfirst@gmail.com
END:VEVENT
BEGIN:VEVENT
DTSTART;TZID=UTC:20260726T093000
DTEND;TZID=UTC:20260726T103000
DTSTAMP:20260420T194635
CREATED:20240829T220921Z
LAST-MODIFIED:20240829T221208Z
UID:10003167-1785058200-1785061800@www.redeemerephrata.org
SUMMARY:Children's Sunday School
DESCRIPTION:Youth ages 3yrs-6th grade are welcome to join us each week to learn about God’s big story. \nGod’s Big Story (GBS) invites children to enter into the narrative of God’s abounding faithfulness and love for all of his beloved children. Our aim is that children and their teachers might hear the gospel of Jesus Christ\, know Jesus as their Lord and Savior and experience the fullness of new life in Christ as part of His body\, the church. \nLearn more about our curriculum here. 
URL:https://www.redeemerephrata.org/event/sunday-school/2026-07-26/
LOCATION:Our Redeemer Presbyterian Church\, 172 Ivy Street SE\, Ephrata\, WA\, 98823\, United States
CATEGORIES:Weekly Worship,Youth
ATTACH;FMTTYPE=image/jpeg:https://www.redeemerephrata.org/wp-content/uploads/2024/08/Gods-Big-Story.jpg
ORGANIZER;CN="Our Redeemer Presbyterian Church":MAILTO:ephfirst@gmail.com
END:VEVENT
BEGIN:VEVENT
DTSTART;TZID=UTC:20260728T090000
DTEND;TZID=UTC:20260728T110000
DTSTAMP:20260420T194635
CREATED:20240102T232309Z
LAST-MODIFIED:20241211T234731Z
UID:10002353-1785229200-1785236400@www.redeemerephrata.org
SUMMARY:Sit n' Stitch
DESCRIPTION:Come sit and stitch with us on Tuesdays from 9-11am.  More info? Talk to Nancy Wenke.
URL:https://www.redeemerephrata.org/event/quilters-group/2026-07-28/
LOCATION:Our Redeemer Presbyterian Church\, 172 Ivy Street SE\, Ephrata\, WA\, 98823\, United States
CATEGORIES:Fellowship
ATTACH;FMTTYPE=image/jpeg:https://www.redeemerephrata.org/wp-content/uploads/2024/01/Sit-n-Stitch.jpg
END:VEVENT
BEGIN:VEVENT
DTSTART;TZID=UTC:20260728T190000
DTEND;TZID=UTC:20260728T200000
DTSTAMP:20260420T194635
CREATED:20230118T010533Z
LAST-MODIFIED:20250108T221628Z
UID:10000196-1785265200-1785268800@www.redeemerephrata.org
SUMMARY:Narcotics Anonymous
DESCRIPTION:If you or a loved one are in need of support please consider attending Narcotics Anonymous weekly on Tuesdays at 7pm. 
URL:https://www.redeemerephrata.org/event/narcotics-anonymous/2026-07-28/
LOCATION:Our Redeemer Presbyterian Church\, 172 Ivy Street SE\, Ephrata\, WA\, 98823\, United States
CATEGORIES:Public Meetings
ATTACH;FMTTYPE=image/png:https://www.redeemerephrata.org/wp-content/uploads/2023/01/NA-Events.png
END:VEVENT
BEGIN:VEVENT
DTSTART;TZID=UTC:20260730T180000
DTEND;TZID=UTC:20260730T180000
DTSTAMP:20260420T194635
CREATED:20230118T011326Z
LAST-MODIFIED:20230118T011326Z
UID:10000458-1785434400-1785434400@www.redeemerephrata.org
SUMMARY:Al-Anon Family Group Meetings
DESCRIPTION:Al-Anon members are people\, just like you\, who are worried about someone with a drinking problem.  If you need support\, please join them weekly on Thursdays at 6pm.
URL:https://www.redeemerephrata.org/event/al-anon-family-group-meetings/2026-07-30/
LOCATION:Our Redeemer Presbyterian Church\, 172 Ivy Street SE\, Ephrata\, WA\, 98823\, United States
CATEGORIES:Weekly Worship
ATTACH;FMTTYPE=image/png:https://www.redeemerephrata.org/wp-content/uploads/2023/01/Untitled-design-3.png
END:VEVENT
BEGIN:VEVENT
DTSTART;TZID=UTC:20260802T090000
DTEND;TZID=UTC:20260802T103000
DTSTAMP:20260420T194635
CREATED:20230118T014433Z
LAST-MODIFIED:20250303T231554Z
UID:10001310-1785661200-1785666600@www.redeemerephrata.org
SUMMARY:Sunday Morning Worship
DESCRIPTION:Please join us for our weekly worship at 9am. All are welcome and encouraged to attend.  Nursery care for infants to 2nd grade are provided during the worship service.
URL:https://www.redeemerephrata.org/event/sunday-morning-worship/2026-08-02/
LOCATION:Our Redeemer Presbyterian Church\, 172 Ivy Street SE\, Ephrata\, WA\, 98823\, United States
CATEGORIES:Weekly Worship
ATTACH;FMTTYPE=image/png:https://www.redeemerephrata.org/wp-content/uploads/2023/01/Worship-200-×-113-px.png
ORGANIZER;CN="Our Redeemer Presbyterian Church":MAILTO:ephfirst@gmail.com
END:VEVENT
BEGIN:VEVENT
DTSTART;TZID=UTC:20260802T093000
DTEND;TZID=UTC:20260802T103000
DTSTAMP:20260420T194635
CREATED:20240829T220921Z
LAST-MODIFIED:20240829T221208Z
UID:10003168-1785663000-1785666600@www.redeemerephrata.org
SUMMARY:Children's Sunday School
DESCRIPTION:Youth ages 3yrs-6th grade are welcome to join us each week to learn about God’s big story. \nGod’s Big Story (GBS) invites children to enter into the narrative of God’s abounding faithfulness and love for all of his beloved children. Our aim is that children and their teachers might hear the gospel of Jesus Christ\, know Jesus as their Lord and Savior and experience the fullness of new life in Christ as part of His body\, the church. \nLearn more about our curriculum here. 
URL:https://www.redeemerephrata.org/event/sunday-school/2026-08-02/
LOCATION:Our Redeemer Presbyterian Church\, 172 Ivy Street SE\, Ephrata\, WA\, 98823\, United States
CATEGORIES:Weekly Worship,Youth
ATTACH;FMTTYPE=image/jpeg:https://www.redeemerephrata.org/wp-content/uploads/2024/08/Gods-Big-Story.jpg
ORGANIZER;CN="Our Redeemer Presbyterian Church":MAILTO:ephfirst@gmail.com
END:VEVENT
BEGIN:VEVENT
DTSTART;TZID=UTC:20260804T090000
DTEND;TZID=UTC:20260804T110000
DTSTAMP:20260420T194635
CREATED:20240102T232309Z
LAST-MODIFIED:20241211T234731Z
UID:10002354-1785834000-1785841200@www.redeemerephrata.org
SUMMARY:Sit n' Stitch
DESCRIPTION:Come sit and stitch with us on Tuesdays from 9-11am.  More info? Talk to Nancy Wenke.
URL:https://www.redeemerephrata.org/event/quilters-group/2026-08-04/
LOCATION:Our Redeemer Presbyterian Church\, 172 Ivy Street SE\, Ephrata\, WA\, 98823\, United States
CATEGORIES:Fellowship
ATTACH;FMTTYPE=image/jpeg:https://www.redeemerephrata.org/wp-content/uploads/2024/01/Sit-n-Stitch.jpg
END:VEVENT
BEGIN:VEVENT
DTSTART;TZID=UTC:20260804T190000
DTEND;TZID=UTC:20260804T200000
DTSTAMP:20260420T194635
CREATED:20230118T010533Z
LAST-MODIFIED:20250108T221628Z
UID:10000197-1785870000-1785873600@www.redeemerephrata.org
SUMMARY:Narcotics Anonymous
DESCRIPTION:If you or a loved one are in need of support please consider attending Narcotics Anonymous weekly on Tuesdays at 7pm. 
URL:https://www.redeemerephrata.org/event/narcotics-anonymous/2026-08-04/
LOCATION:Our Redeemer Presbyterian Church\, 172 Ivy Street SE\, Ephrata\, WA\, 98823\, United States
CATEGORIES:Public Meetings
ATTACH;FMTTYPE=image/png:https://www.redeemerephrata.org/wp-content/uploads/2023/01/NA-Events.png
END:VEVENT
BEGIN:VEVENT
DTSTART;TZID=UTC:20260806T180000
DTEND;TZID=UTC:20260806T180000
DTSTAMP:20260420T194635
CREATED:20230118T011326Z
LAST-MODIFIED:20230118T011326Z
UID:10000459-1786039200-1786039200@www.redeemerephrata.org
SUMMARY:Al-Anon Family Group Meetings
DESCRIPTION:Al-Anon members are people\, just like you\, who are worried about someone with a drinking problem.  If you need support\, please join them weekly on Thursdays at 6pm.
URL:https://www.redeemerephrata.org/event/al-anon-family-group-meetings/2026-08-06/
LOCATION:Our Redeemer Presbyterian Church\, 172 Ivy Street SE\, Ephrata\, WA\, 98823\, United States
CATEGORIES:Weekly Worship
ATTACH;FMTTYPE=image/png:https://www.redeemerephrata.org/wp-content/uploads/2023/01/Untitled-design-3.png
END:VEVENT
BEGIN:VEVENT
DTSTART;TZID=UTC:20260809T090000
DTEND;TZID=UTC:20260809T103000
DTSTAMP:20260420T194635
CREATED:20230118T014433Z
LAST-MODIFIED:20250303T231554Z
UID:10001311-1786266000-1786271400@www.redeemerephrata.org
SUMMARY:Sunday Morning Worship
DESCRIPTION:Please join us for our weekly worship at 9am. All are welcome and encouraged to attend.  Nursery care for infants to 2nd grade are provided during the worship service.
URL:https://www.redeemerephrata.org/event/sunday-morning-worship/2026-08-09/
LOCATION:Our Redeemer Presbyterian Church\, 172 Ivy Street SE\, Ephrata\, WA\, 98823\, United States
CATEGORIES:Weekly Worship
ATTACH;FMTTYPE=image/png:https://www.redeemerephrata.org/wp-content/uploads/2023/01/Worship-200-×-113-px.png
ORGANIZER;CN="Our Redeemer Presbyterian Church":MAILTO:ephfirst@gmail.com
END:VEVENT
BEGIN:VEVENT
DTSTART;TZID=UTC:20260809T093000
DTEND;TZID=UTC:20260809T103000
DTSTAMP:20260420T194635
CREATED:20240829T220921Z
LAST-MODIFIED:20240829T221208Z
UID:10003169-1786267800-1786271400@www.redeemerephrata.org
SUMMARY:Children's Sunday School
DESCRIPTION:Youth ages 3yrs-6th grade are welcome to join us each week to learn about God’s big story. \nGod’s Big Story (GBS) invites children to enter into the narrative of God’s abounding faithfulness and love for all of his beloved children. Our aim is that children and their teachers might hear the gospel of Jesus Christ\, know Jesus as their Lord and Savior and experience the fullness of new life in Christ as part of His body\, the church. \nLearn more about our curriculum here. 
URL:https://www.redeemerephrata.org/event/sunday-school/2026-08-09/
LOCATION:Our Redeemer Presbyterian Church\, 172 Ivy Street SE\, Ephrata\, WA\, 98823\, United States
CATEGORIES:Weekly Worship,Youth
ATTACH;FMTTYPE=image/jpeg:https://www.redeemerephrata.org/wp-content/uploads/2024/08/Gods-Big-Story.jpg
ORGANIZER;CN="Our Redeemer Presbyterian Church":MAILTO:ephfirst@gmail.com
END:VEVENT
BEGIN:VEVENT
DTSTART;TZID=UTC:20260811T090000
DTEND;TZID=UTC:20260811T110000
DTSTAMP:20260420T194636
CREATED:20240102T232309Z
LAST-MODIFIED:20241211T234731Z
UID:10002355-1786438800-1786446000@www.redeemerephrata.org
SUMMARY:Sit n' Stitch
DESCRIPTION:Come sit and stitch with us on Tuesdays from 9-11am.  More info? Talk to Nancy Wenke.
URL:https://www.redeemerephrata.org/event/quilters-group/2026-08-11/
LOCATION:Our Redeemer Presbyterian Church\, 172 Ivy Street SE\, Ephrata\, WA\, 98823\, United States
CATEGORIES:Fellowship
ATTACH;FMTTYPE=image/jpeg:https://www.redeemerephrata.org/wp-content/uploads/2024/01/Sit-n-Stitch.jpg
END:VEVENT
BEGIN:VEVENT
DTSTART;TZID=UTC:20260811T190000
DTEND;TZID=UTC:20260811T200000
DTSTAMP:20260420T194636
CREATED:20230118T010533Z
LAST-MODIFIED:20250108T221628Z
UID:10000198-1786474800-1786478400@www.redeemerephrata.org
SUMMARY:Narcotics Anonymous
DESCRIPTION:If you or a loved one are in need of support please consider attending Narcotics Anonymous weekly on Tuesdays at 7pm. 
URL:https://www.redeemerephrata.org/event/narcotics-anonymous/2026-08-11/
LOCATION:Our Redeemer Presbyterian Church\, 172 Ivy Street SE\, Ephrata\, WA\, 98823\, United States
CATEGORIES:Public Meetings
ATTACH;FMTTYPE=image/png:https://www.redeemerephrata.org/wp-content/uploads/2023/01/NA-Events.png
END:VEVENT
BEGIN:VEVENT
DTSTART;TZID=UTC:20260813T180000
DTEND;TZID=UTC:20260813T180000
DTSTAMP:20260420T194636
CREATED:20230118T011326Z
LAST-MODIFIED:20230118T011326Z
UID:10000460-1786644000-1786644000@www.redeemerephrata.org
SUMMARY:Al-Anon Family Group Meetings
DESCRIPTION:Al-Anon members are people\, just like you\, who are worried about someone with a drinking problem.  If you need support\, please join them weekly on Thursdays at 6pm.
URL:https://www.redeemerephrata.org/event/al-anon-family-group-meetings/2026-08-13/
LOCATION:Our Redeemer Presbyterian Church\, 172 Ivy Street SE\, Ephrata\, WA\, 98823\, United States
CATEGORIES:Weekly Worship
ATTACH;FMTTYPE=image/png:https://www.redeemerephrata.org/wp-content/uploads/2023/01/Untitled-design-3.png
END:VEVENT
BEGIN:VEVENT
DTSTART;TZID=UTC:20260816T090000
DTEND;TZID=UTC:20260816T103000
DTSTAMP:20260420T194636
CREATED:20230118T014433Z
LAST-MODIFIED:20250303T231554Z
UID:10001312-1786870800-1786876200@www.redeemerephrata.org
SUMMARY:Sunday Morning Worship
DESCRIPTION:Please join us for our weekly worship at 9am. All are welcome and encouraged to attend.  Nursery care for infants to 2nd grade are provided during the worship service.
URL:https://www.redeemerephrata.org/event/sunday-morning-worship/2026-08-16/
LOCATION:Our Redeemer Presbyterian Church\, 172 Ivy Street SE\, Ephrata\, WA\, 98823\, United States
CATEGORIES:Weekly Worship
ATTACH;FMTTYPE=image/png:https://www.redeemerephrata.org/wp-content/uploads/2023/01/Worship-200-×-113-px.png
ORGANIZER;CN="Our Redeemer Presbyterian Church":MAILTO:ephfirst@gmail.com
END:VEVENT
BEGIN:VEVENT
DTSTART;TZID=UTC:20260816T093000
DTEND;TZID=UTC:20260816T103000
DTSTAMP:20260420T194636
CREATED:20240829T220921Z
LAST-MODIFIED:20240829T221208Z
UID:10003170-1786872600-1786876200@www.redeemerephrata.org
SUMMARY:Children's Sunday School
DESCRIPTION:Youth ages 3yrs-6th grade are welcome to join us each week to learn about God’s big story. \nGod’s Big Story (GBS) invites children to enter into the narrative of God’s abounding faithfulness and love for all of his beloved children. Our aim is that children and their teachers might hear the gospel of Jesus Christ\, know Jesus as their Lord and Savior and experience the fullness of new life in Christ as part of His body\, the church. \nLearn more about our curriculum here. 
URL:https://www.redeemerephrata.org/event/sunday-school/2026-08-16/
LOCATION:Our Redeemer Presbyterian Church\, 172 Ivy Street SE\, Ephrata\, WA\, 98823\, United States
CATEGORIES:Weekly Worship,Youth
ATTACH;FMTTYPE=image/jpeg:https://www.redeemerephrata.org/wp-content/uploads/2024/08/Gods-Big-Story.jpg
ORGANIZER;CN="Our Redeemer Presbyterian Church":MAILTO:ephfirst@gmail.com
END:VEVENT
BEGIN:VEVENT
DTSTART;TZID=UTC:20260818T090000
DTEND;TZID=UTC:20260818T110000
DTSTAMP:20260420T194636
CREATED:20240102T232309Z
LAST-MODIFIED:20241211T234731Z
UID:10002356-1787043600-1787050800@www.redeemerephrata.org
SUMMARY:Sit n' Stitch
DESCRIPTION:Come sit and stitch with us on Tuesdays from 9-11am.  More info? Talk to Nancy Wenke.
URL:https://www.redeemerephrata.org/event/quilters-group/2026-08-18/
LOCATION:Our Redeemer Presbyterian Church\, 172 Ivy Street SE\, Ephrata\, WA\, 98823\, United States
CATEGORIES:Fellowship
ATTACH;FMTTYPE=image/jpeg:https://www.redeemerephrata.org/wp-content/uploads/2024/01/Sit-n-Stitch.jpg
END:VEVENT
BEGIN:VEVENT
DTSTART;TZID=UTC:20260818T190000
DTEND;TZID=UTC:20260818T200000
DTSTAMP:20260420T194636
CREATED:20230118T010533Z
LAST-MODIFIED:20250108T221628Z
UID:10000199-1787079600-1787083200@www.redeemerephrata.org
SUMMARY:Narcotics Anonymous
DESCRIPTION:If you or a loved one are in need of support please consider attending Narcotics Anonymous weekly on Tuesdays at 7pm. 
URL:https://www.redeemerephrata.org/event/narcotics-anonymous/2026-08-18/
LOCATION:Our Redeemer Presbyterian Church\, 172 Ivy Street SE\, Ephrata\, WA\, 98823\, United States
CATEGORIES:Public Meetings
ATTACH;FMTTYPE=image/png:https://www.redeemerephrata.org/wp-content/uploads/2023/01/NA-Events.png
END:VEVENT
BEGIN:VEVENT
DTSTART;TZID=UTC:20260820T180000
DTEND;TZID=UTC:20260820T180000
DTSTAMP:20260420T194636
CREATED:20230118T011326Z
LAST-MODIFIED:20230118T011326Z
UID:10000461-1787248800-1787248800@www.redeemerephrata.org
SUMMARY:Al-Anon Family Group Meetings
DESCRIPTION:Al-Anon members are people\, just like you\, who are worried about someone with a drinking problem.  If you need support\, please join them weekly on Thursdays at 6pm.
URL:https://www.redeemerephrata.org/event/al-anon-family-group-meetings/2026-08-20/
LOCATION:Our Redeemer Presbyterian Church\, 172 Ivy Street SE\, Ephrata\, WA\, 98823\, United States
CATEGORIES:Weekly Worship
ATTACH;FMTTYPE=image/png:https://www.redeemerephrata.org/wp-content/uploads/2023/01/Untitled-design-3.png
END:VEVENT
BEGIN:VEVENT
DTSTART;TZID=UTC:20260823T090000
DTEND;TZID=UTC:20260823T103000
DTSTAMP:20260420T194636
CREATED:20230118T014433Z
LAST-MODIFIED:20250303T231554Z
UID:10001313-1787475600-1787481000@www.redeemerephrata.org
SUMMARY:Sunday Morning Worship
DESCRIPTION:Please join us for our weekly worship at 9am. All are welcome and encouraged to attend.  Nursery care for infants to 2nd grade are provided during the worship service.
URL:https://www.redeemerephrata.org/event/sunday-morning-worship/2026-08-23/
LOCATION:Our Redeemer Presbyterian Church\, 172 Ivy Street SE\, Ephrata\, WA\, 98823\, United States
CATEGORIES:Weekly Worship
ATTACH;FMTTYPE=image/png:https://www.redeemerephrata.org/wp-content/uploads/2023/01/Worship-200-×-113-px.png
ORGANIZER;CN="Our Redeemer Presbyterian Church":MAILTO:ephfirst@gmail.com
END:VEVENT
BEGIN:VEVENT
DTSTART;TZID=UTC:20260823T093000
DTEND;TZID=UTC:20260823T103000
DTSTAMP:20260420T194636
CREATED:20240829T220921Z
LAST-MODIFIED:20240829T221208Z
UID:10003171-1787477400-1787481000@www.redeemerephrata.org
SUMMARY:Children's Sunday School
DESCRIPTION:Youth ages 3yrs-6th grade are welcome to join us each week to learn about God’s big story. \nGod’s Big Story (GBS) invites children to enter into the narrative of God’s abounding faithfulness and love for all of his beloved children. Our aim is that children and their teachers might hear the gospel of Jesus Christ\, know Jesus as their Lord and Savior and experience the fullness of new life in Christ as part of His body\, the church. \nLearn more about our curriculum here. 
URL:https://www.redeemerephrata.org/event/sunday-school/2026-08-23/
LOCATION:Our Redeemer Presbyterian Church\, 172 Ivy Street SE\, Ephrata\, WA\, 98823\, United States
CATEGORIES:Weekly Worship,Youth
ATTACH;FMTTYPE=image/jpeg:https://www.redeemerephrata.org/wp-content/uploads/2024/08/Gods-Big-Story.jpg
ORGANIZER;CN="Our Redeemer Presbyterian Church":MAILTO:ephfirst@gmail.com
END:VEVENT
BEGIN:VEVENT
DTSTART;TZID=UTC:20260825T090000
DTEND;TZID=UTC:20260825T110000
DTSTAMP:20260420T194636
CREATED:20240102T232309Z
LAST-MODIFIED:20241211T234731Z
UID:10002357-1787648400-1787655600@www.redeemerephrata.org
SUMMARY:Sit n' Stitch
DESCRIPTION:Come sit and stitch with us on Tuesdays from 9-11am.  More info? Talk to Nancy Wenke.
URL:https://www.redeemerephrata.org/event/quilters-group/2026-08-25/
LOCATION:Our Redeemer Presbyterian Church\, 172 Ivy Street SE\, Ephrata\, WA\, 98823\, United States
CATEGORIES:Fellowship
ATTACH;FMTTYPE=image/jpeg:https://www.redeemerephrata.org/wp-content/uploads/2024/01/Sit-n-Stitch.jpg
END:VEVENT
BEGIN:VEVENT
DTSTART;TZID=UTC:20260825T190000
DTEND;TZID=UTC:20260825T200000
DTSTAMP:20260420T194636
CREATED:20230118T010533Z
LAST-MODIFIED:20250108T221628Z
UID:10000200-1787684400-1787688000@www.redeemerephrata.org
SUMMARY:Narcotics Anonymous
DESCRIPTION:If you or a loved one are in need of support please consider attending Narcotics Anonymous weekly on Tuesdays at 7pm. 
URL:https://www.redeemerephrata.org/event/narcotics-anonymous/2026-08-25/
LOCATION:Our Redeemer Presbyterian Church\, 172 Ivy Street SE\, Ephrata\, WA\, 98823\, United States
CATEGORIES:Public Meetings
ATTACH;FMTTYPE=image/png:https://www.redeemerephrata.org/wp-content/uploads/2023/01/NA-Events.png
END:VEVENT
BEGIN:VEVENT
DTSTART;TZID=UTC:20260827T180000
DTEND;TZID=UTC:20260827T180000
DTSTAMP:20260420T194636
CREATED:20230118T011326Z
LAST-MODIFIED:20230118T011326Z
UID:10000462-1787853600-1787853600@www.redeemerephrata.org
SUMMARY:Al-Anon Family Group Meetings
DESCRIPTION:Al-Anon members are people\, just like you\, who are worried about someone with a drinking problem.  If you need support\, please join them weekly on Thursdays at 6pm.
URL:https://www.redeemerephrata.org/event/al-anon-family-group-meetings/2026-08-27/
LOCATION:Our Redeemer Presbyterian Church\, 172 Ivy Street SE\, Ephrata\, WA\, 98823\, United States
CATEGORIES:Weekly Worship
ATTACH;FMTTYPE=image/png:https://www.redeemerephrata.org/wp-content/uploads/2023/01/Untitled-design-3.png
END:VEVENT
END:VCALENDAR